BEGIN:VCALENDAR
VERSION:2.0
PRODID:-//Grace Point Family Church - ECPv6.15.20//NONSGML v1.0//EN
CALSCALE:GREGORIAN
METHOD:PUBLISH
X-WR-CALNAME:Grace Point Family Church
X-ORIGINAL-URL:https://www.gracepointfamilychurch.com
X-WR-CALDESC:Events for Grace Point Family Church
REFRESH-INTERVAL;VALUE=DURATION:PT1H
X-Robots-Tag:noindex
X-PUBLISHED-TTL:PT1H
BEGIN:VTIMEZONE
TZID:America/Chicago
BEGIN:DAYLIGHT
TZOFFSETFROM:-0600
TZOFFSETTO:-0500
TZNAME:CDT
DTSTART:20260308T080000
END:DAYLIGHT
BEGIN:STANDARD
TZOFFSETFROM:-0500
TZOFFSETTO:-0600
TZNAME:CST
DTSTART:20261101T070000
END:STANDARD
BEGIN:DAYLIGHT
TZOFFSETFROM:-0600
TZOFFSETTO:-0500
TZNAME:CDT
DTSTART:20270314T080000
END:DAYLIGHT
BEGIN:STANDARD
TZOFFSETFROM:-0500
TZOFFSETTO:-0600
TZNAME:CST
DTSTART:20271107T070000
END:STANDARD
BEGIN:DAYLIGHT
TZOFFSETFROM:-0600
TZOFFSETTO:-0500
TZNAME:CDT
DTSTART:20280312T080000
END:DAYLIGHT
BEGIN:STANDARD
TZOFFSETFROM:-0500
TZOFFSETTO:-0600
TZNAME:CST
DTSTART:20281105T070000
END:STANDARD
END:VTIMEZONE
BEGIN:VEVENT
DTSTART;TZID=America/Chicago:20270106T183000
DTEND;TZID=America/Chicago:20270106T203000
DTSTAMP:20260423T190515
CREATED:20250612T170352Z
LAST-MODIFIED:20260424T000006Z
UID:10001912-1799260200-1799267400@www.gracepointfamilychurch.com
SUMMARY:STUDENTS Small Group (Middle & High School)
DESCRIPTION:Group: Grace Point Students
URL:https://www.gracepointfamilychurch.com/event/students-small-group-middle-high-school-93/
LOCATION:Grace Place\, 505 N Powell Pkwy\, Anna\, TX\, United States
GEO:33.3526;-96.551151
X-APPLE-STRUCTURED-LOCATION;VALUE=URI;X-ADDRESS=Grace Place 505 N Powell Pkwy Anna TX United States;X-APPLE-RADIUS=500;X-TITLE=505 N Powell Pkwy:geo:-96.551151,33.3526
END:VEVENT
BEGIN:VEVENT
DTSTART;TZID=America/Chicago:20270108T090000
DTEND;TZID=America/Chicago:20270108T110000
DTSTAMP:20260423T190515
CREATED:20250612T170353Z
LAST-MODIFIED:20260424T000006Z
UID:10001913-1799398800-1799406000@www.gracepointfamilychurch.com
SUMMARY:Food Pantry Open (FRI)
DESCRIPTION:Group: Grace Place Food Pantry
URL:https://www.gracepointfamilychurch.com/event/food-pantry-open-fri-93/
LOCATION:Grace Place\, 505 N Powell Pkwy\, Anna\, TX\, United States
GEO:33.3526;-96.551151
X-APPLE-STRUCTURED-LOCATION;VALUE=URI;X-ADDRESS=Grace Place 505 N Powell Pkwy Anna TX United States;X-APPLE-RADIUS=500;X-TITLE=505 N Powell Pkwy:geo:-96.551151,33.3526
END:VEVENT
BEGIN:VEVENT
DTSTART;TZID=America/Chicago:20270113T183000
DTEND;TZID=America/Chicago:20270113T203000
DTSTAMP:20260423T190515
CREATED:20250612T170353Z
LAST-MODIFIED:20260424T000007Z
UID:10001918-1799865000-1799872200@www.gracepointfamilychurch.com
SUMMARY:STUDENTS Small Group (Middle & High School)
DESCRIPTION:Group: Grace Point Students
URL:https://www.gracepointfamilychurch.com/event/students-small-group-middle-high-school-94/
LOCATION:Grace Place\, 505 N Powell Pkwy\, Anna\, TX\, United States
GEO:33.3526;-96.551151
X-APPLE-STRUCTURED-LOCATION;VALUE=URI;X-ADDRESS=Grace Place 505 N Powell Pkwy Anna TX United States;X-APPLE-RADIUS=500;X-TITLE=505 N Powell Pkwy:geo:-96.551151,33.3526
END:VEVENT
BEGIN:VEVENT
DTSTART;TZID=America/Chicago:20270115T090000
DTEND;TZID=America/Chicago:20270115T110000
DTSTAMP:20260423T190515
CREATED:20250612T170353Z
LAST-MODIFIED:20260424T000007Z
UID:10001919-1800003600-1800010800@www.gracepointfamilychurch.com
SUMMARY:Food Pantry Open (FRI)
DESCRIPTION:Group: Grace Place Food Pantry
URL:https://www.gracepointfamilychurch.com/event/food-pantry-open-fri-94/
LOCATION:Grace Place\, 505 N Powell Pkwy\, Anna\, TX\, United States
GEO:33.3526;-96.551151
X-APPLE-STRUCTURED-LOCATION;VALUE=URI;X-ADDRESS=Grace Place 505 N Powell Pkwy Anna TX United States;X-APPLE-RADIUS=500;X-TITLE=505 N Powell Pkwy:geo:-96.551151,33.3526
END:VEVENT
BEGIN:VEVENT
DTSTART;TZID=America/Chicago:20270120T183000
DTEND;TZID=America/Chicago:20270120T203000
DTSTAMP:20260423T190515
CREATED:20250612T170354Z
LAST-MODIFIED:20260424T000008Z
UID:10001925-1800469800-1800477000@www.gracepointfamilychurch.com
SUMMARY:STUDENTS Small Group (Middle & High School)
DESCRIPTION:Group: Grace Point Students
URL:https://www.gracepointfamilychurch.com/event/students-small-group-middle-high-school-95/
LOCATION:Grace Place\, 505 N Powell Pkwy\, Anna\, TX\, United States
GEO:33.3526;-96.551151
X-APPLE-STRUCTURED-LOCATION;VALUE=URI;X-ADDRESS=Grace Place 505 N Powell Pkwy Anna TX United States;X-APPLE-RADIUS=500;X-TITLE=505 N Powell Pkwy:geo:-96.551151,33.3526
END:VEVENT
BEGIN:VEVENT
DTSTART;TZID=America/Chicago:20270122T090000
DTEND;TZID=America/Chicago:20270122T110000
DTSTAMP:20260423T190515
CREATED:20250612T170354Z
LAST-MODIFIED:20260424T000008Z
UID:10001926-1800608400-1800615600@www.gracepointfamilychurch.com
SUMMARY:Food Pantry Open (FRI)
DESCRIPTION:Group: Grace Place Food Pantry
URL:https://www.gracepointfamilychurch.com/event/food-pantry-open-fri-95/
LOCATION:Grace Place\, 505 N Powell Pkwy\, Anna\, TX\, United States
GEO:33.3526;-96.551151
X-APPLE-STRUCTURED-LOCATION;VALUE=URI;X-ADDRESS=Grace Place 505 N Powell Pkwy Anna TX United States;X-APPLE-RADIUS=500;X-TITLE=505 N Powell Pkwy:geo:-96.551151,33.3526
END:VEVENT
BEGIN:VEVENT
DTSTART;TZID=America/Chicago:20270127T183000
DTEND;TZID=America/Chicago:20270127T203000
DTSTAMP:20260423T190515
CREATED:20250612T170355Z
LAST-MODIFIED:20260424T000008Z
UID:10001931-1801074600-1801081800@www.gracepointfamilychurch.com
SUMMARY:STUDENTS Small Group (Middle & High School)
DESCRIPTION:Group: Grace Point Students
URL:https://www.gracepointfamilychurch.com/event/students-small-group-middle-high-school-96/
LOCATION:Grace Place\, 505 N Powell Pkwy\, Anna\, TX\, United States
GEO:33.3526;-96.551151
X-APPLE-STRUCTURED-LOCATION;VALUE=URI;X-ADDRESS=Grace Place 505 N Powell Pkwy Anna TX United States;X-APPLE-RADIUS=500;X-TITLE=505 N Powell Pkwy:geo:-96.551151,33.3526
END:VEVENT
BEGIN:VEVENT
DTSTART;TZID=America/Chicago:20270129T090000
DTEND;TZID=America/Chicago:20270129T110000
DTSTAMP:20260423T190515
CREATED:20250612T170355Z
LAST-MODIFIED:20260424T000008Z
UID:10001932-1801213200-1801220400@www.gracepointfamilychurch.com
SUMMARY:Food Pantry Open (FRI)
DESCRIPTION:Group: Grace Place Food Pantry
URL:https://www.gracepointfamilychurch.com/event/food-pantry-open-fri-96/
LOCATION:Grace Place\, 505 N Powell Pkwy\, Anna\, TX\, United States
GEO:33.3526;-96.551151
X-APPLE-STRUCTURED-LOCATION;VALUE=URI;X-ADDRESS=Grace Place 505 N Powell Pkwy Anna TX United States;X-APPLE-RADIUS=500;X-TITLE=505 N Powell Pkwy:geo:-96.551151,33.3526
END:VEVENT
BEGIN:VEVENT
DTSTART;TZID=America/Chicago:20270203T183000
DTEND;TZID=America/Chicago:20270203T203000
DTSTAMP:20260423T190515
CREATED:20250612T170356Z
LAST-MODIFIED:20260424T000009Z
UID:10001937-1801679400-1801686600@www.gracepointfamilychurch.com
SUMMARY:STUDENTS Small Group (Middle & High School)
DESCRIPTION:Group: Grace Point Students
URL:https://www.gracepointfamilychurch.com/event/students-small-group-middle-high-school-97/
LOCATION:Grace Place\, 505 N Powell Pkwy\, Anna\, TX\, United States
GEO:33.3526;-96.551151
X-APPLE-STRUCTURED-LOCATION;VALUE=URI;X-ADDRESS=Grace Place 505 N Powell Pkwy Anna TX United States;X-APPLE-RADIUS=500;X-TITLE=505 N Powell Pkwy:geo:-96.551151,33.3526
END:VEVENT
BEGIN:VEVENT
DTSTART;TZID=America/Chicago:20270205T090000
DTEND;TZID=America/Chicago:20270205T110000
DTSTAMP:20260423T190515
CREATED:20250612T170356Z
LAST-MODIFIED:20260424T000009Z
UID:10001938-1801818000-1801825200@www.gracepointfamilychurch.com
SUMMARY:Food Pantry Open (FRI)
DESCRIPTION:Group: Grace Place Food Pantry
URL:https://www.gracepointfamilychurch.com/event/food-pantry-open-fri-97/
LOCATION:Grace Place\, 505 N Powell Pkwy\, Anna\, TX\, United States
GEO:33.3526;-96.551151
X-APPLE-STRUCTURED-LOCATION;VALUE=URI;X-ADDRESS=Grace Place 505 N Powell Pkwy Anna TX United States;X-APPLE-RADIUS=500;X-TITLE=505 N Powell Pkwy:geo:-96.551151,33.3526
END:VEVENT
BEGIN:VEVENT
DTSTART;TZID=America/Chicago:20270210T183000
DTEND;TZID=America/Chicago:20270210T203000
DTSTAMP:20260423T190515
CREATED:20250612T170357Z
LAST-MODIFIED:20260424T000010Z
UID:10001944-1802284200-1802291400@www.gracepointfamilychurch.com
SUMMARY:STUDENTS Small Group (Middle & High School)
DESCRIPTION:Group: Grace Point Students
URL:https://www.gracepointfamilychurch.com/event/students-small-group-middle-high-school-98/
LOCATION:Grace Place\, 505 N Powell Pkwy\, Anna\, TX\, United States
GEO:33.3526;-96.551151
X-APPLE-STRUCTURED-LOCATION;VALUE=URI;X-ADDRESS=Grace Place 505 N Powell Pkwy Anna TX United States;X-APPLE-RADIUS=500;X-TITLE=505 N Powell Pkwy:geo:-96.551151,33.3526
END:VEVENT
BEGIN:VEVENT
DTSTART;TZID=America/Chicago:20270212T090000
DTEND;TZID=America/Chicago:20270212T110000
DTSTAMP:20260423T190515
CREATED:20250612T170357Z
LAST-MODIFIED:20260424T000010Z
UID:10001945-1802422800-1802430000@www.gracepointfamilychurch.com
SUMMARY:Food Pantry Open (FRI)
DESCRIPTION:Group: Grace Place Food Pantry
URL:https://www.gracepointfamilychurch.com/event/food-pantry-open-fri-98/
LOCATION:Grace Place\, 505 N Powell Pkwy\, Anna\, TX\, United States
GEO:33.3526;-96.551151
X-APPLE-STRUCTURED-LOCATION;VALUE=URI;X-ADDRESS=Grace Place 505 N Powell Pkwy Anna TX United States;X-APPLE-RADIUS=500;X-TITLE=505 N Powell Pkwy:geo:-96.551151,33.3526
END:VEVENT
BEGIN:VEVENT
DTSTART;TZID=America/Chicago:20270217T183000
DTEND;TZID=America/Chicago:20270217T203000
DTSTAMP:20260423T190515
CREATED:20250612T170358Z
LAST-MODIFIED:20260424T000010Z
UID:10001950-1802889000-1802896200@www.gracepointfamilychurch.com
SUMMARY:STUDENTS Small Group (Middle & High School)
DESCRIPTION:Group: Grace Point Students
URL:https://www.gracepointfamilychurch.com/event/students-small-group-middle-high-school-99/
LOCATION:Grace Place\, 505 N Powell Pkwy\, Anna\, TX\, United States
GEO:33.3526;-96.551151
X-APPLE-STRUCTURED-LOCATION;VALUE=URI;X-ADDRESS=Grace Place 505 N Powell Pkwy Anna TX United States;X-APPLE-RADIUS=500;X-TITLE=505 N Powell Pkwy:geo:-96.551151,33.3526
END:VEVENT
BEGIN:VEVENT
DTSTART;TZID=America/Chicago:20270219T090000
DTEND;TZID=America/Chicago:20270219T110000
DTSTAMP:20260423T190515
CREATED:20250612T170358Z
LAST-MODIFIED:20260424T000011Z
UID:10001951-1803027600-1803034800@www.gracepointfamilychurch.com
SUMMARY:Food Pantry Open (FRI)
DESCRIPTION:Group: Grace Place Food Pantry
URL:https://www.gracepointfamilychurch.com/event/food-pantry-open-fri-99/
LOCATION:Grace Place\, 505 N Powell Pkwy\, Anna\, TX\, United States
GEO:33.3526;-96.551151
X-APPLE-STRUCTURED-LOCATION;VALUE=URI;X-ADDRESS=Grace Place 505 N Powell Pkwy Anna TX United States;X-APPLE-RADIUS=500;X-TITLE=505 N Powell Pkwy:geo:-96.551151,33.3526
END:VEVENT
BEGIN:VEVENT
DTSTART;TZID=America/Chicago:20270224T183000
DTEND;TZID=America/Chicago:20270224T203000
DTSTAMP:20260423T190515
CREATED:20250612T170359Z
LAST-MODIFIED:20260424T000011Z
UID:10001957-1803493800-1803501000@www.gracepointfamilychurch.com
SUMMARY:STUDENTS Small Group (Middle & High School)
DESCRIPTION:Group: Grace Point Students
URL:https://www.gracepointfamilychurch.com/event/students-small-group-middle-high-school-100/
LOCATION:Grace Place\, 505 N Powell Pkwy\, Anna\, TX\, United States
GEO:33.3526;-96.551151
X-APPLE-STRUCTURED-LOCATION;VALUE=URI;X-ADDRESS=Grace Place 505 N Powell Pkwy Anna TX United States;X-APPLE-RADIUS=500;X-TITLE=505 N Powell Pkwy:geo:-96.551151,33.3526
END:VEVENT
BEGIN:VEVENT
DTSTART;TZID=America/Chicago:20270226T090000
DTEND;TZID=America/Chicago:20270226T110000
DTSTAMP:20260423T190515
CREATED:20250612T170359Z
LAST-MODIFIED:20260424T000011Z
UID:10001958-1803632400-1803639600@www.gracepointfamilychurch.com
SUMMARY:Food Pantry Open (FRI)
DESCRIPTION:Group: Grace Place Food Pantry
URL:https://www.gracepointfamilychurch.com/event/food-pantry-open-fri-100/
LOCATION:Grace Place\, 505 N Powell Pkwy\, Anna\, TX\, United States
GEO:33.3526;-96.551151
X-APPLE-STRUCTURED-LOCATION;VALUE=URI;X-ADDRESS=Grace Place 505 N Powell Pkwy Anna TX United States;X-APPLE-RADIUS=500;X-TITLE=505 N Powell Pkwy:geo:-96.551151,33.3526
END:VEVENT
BEGIN:VEVENT
DTSTART;TZID=America/Chicago:20270303T183000
DTEND;TZID=America/Chicago:20270303T203000
DTSTAMP:20260423T190515
CREATED:20250612T170400Z
LAST-MODIFIED:20260424T000012Z
UID:10001963-1804098600-1804105800@www.gracepointfamilychurch.com
SUMMARY:STUDENTS Small Group (Middle & High School)
DESCRIPTION:Group: Grace Point Students
URL:https://www.gracepointfamilychurch.com/event/students-small-group-middle-high-school-101/
LOCATION:Grace Place\, 505 N Powell Pkwy\, Anna\, TX\, United States
GEO:33.3526;-96.551151
X-APPLE-STRUCTURED-LOCATION;VALUE=URI;X-ADDRESS=Grace Place 505 N Powell Pkwy Anna TX United States;X-APPLE-RADIUS=500;X-TITLE=505 N Powell Pkwy:geo:-96.551151,33.3526
END:VEVENT
BEGIN:VEVENT
DTSTART;TZID=America/Chicago:20270305T090000
DTEND;TZID=America/Chicago:20270305T110000
DTSTAMP:20260423T190515
CREATED:20250612T170400Z
LAST-MODIFIED:20260424T000012Z
UID:10001964-1804237200-1804244400@www.gracepointfamilychurch.com
SUMMARY:Food Pantry Open (FRI)
DESCRIPTION:Group: Grace Place Food Pantry
URL:https://www.gracepointfamilychurch.com/event/food-pantry-open-fri-101/
LOCATION:Grace Place\, 505 N Powell Pkwy\, Anna\, TX\, United States
GEO:33.3526;-96.551151
X-APPLE-STRUCTURED-LOCATION;VALUE=URI;X-ADDRESS=Grace Place 505 N Powell Pkwy Anna TX United States;X-APPLE-RADIUS=500;X-TITLE=505 N Powell Pkwy:geo:-96.551151,33.3526
END:VEVENT
BEGIN:VEVENT
DTSTART;TZID=America/Chicago:20270310T183000
DTEND;TZID=America/Chicago:20270310T203000
DTSTAMP:20260423T190515
CREATED:20250612T170401Z
LAST-MODIFIED:20260424T000013Z
UID:10001970-1804703400-1804710600@www.gracepointfamilychurch.com
SUMMARY:STUDENTS Small Group (Middle & High School)
DESCRIPTION:Group: Grace Point Students
URL:https://www.gracepointfamilychurch.com/event/students-small-group-middle-high-school-102/
LOCATION:Grace Place\, 505 N Powell Pkwy\, Anna\, TX\, United States
GEO:33.3526;-96.551151
X-APPLE-STRUCTURED-LOCATION;VALUE=URI;X-ADDRESS=Grace Place 505 N Powell Pkwy Anna TX United States;X-APPLE-RADIUS=500;X-TITLE=505 N Powell Pkwy:geo:-96.551151,33.3526
END:VEVENT
BEGIN:VEVENT
DTSTART;TZID=America/Chicago:20270312T090000
DTEND;TZID=America/Chicago:20270312T110000
DTSTAMP:20260423T190515
CREATED:20250612T170401Z
LAST-MODIFIED:20260424T000013Z
UID:10001971-1804842000-1804849200@www.gracepointfamilychurch.com
SUMMARY:Food Pantry Open (FRI)
DESCRIPTION:Group: Grace Place Food Pantry
URL:https://www.gracepointfamilychurch.com/event/food-pantry-open-fri-102/
LOCATION:Grace Place\, 505 N Powell Pkwy\, Anna\, TX\, United States
GEO:33.3526;-96.551151
X-APPLE-STRUCTURED-LOCATION;VALUE=URI;X-ADDRESS=Grace Place 505 N Powell Pkwy Anna TX United States;X-APPLE-RADIUS=500;X-TITLE=505 N Powell Pkwy:geo:-96.551151,33.3526
END:VEVENT
BEGIN:VEVENT
DTSTART;TZID=America/Chicago:20270317T183000
DTEND;TZID=America/Chicago:20270317T203000
DTSTAMP:20260423T190515
CREATED:20250612T170402Z
LAST-MODIFIED:20260424T000013Z
UID:10001976-1805308200-1805315400@www.gracepointfamilychurch.com
SUMMARY:STUDENTS Small Group (Middle & High School)
DESCRIPTION:Group: Grace Point Students
URL:https://www.gracepointfamilychurch.com/event/students-small-group-middle-high-school-103/
LOCATION:Grace Place\, 505 N Powell Pkwy\, Anna\, TX\, United States
GEO:33.3526;-96.551151
X-APPLE-STRUCTURED-LOCATION;VALUE=URI;X-ADDRESS=Grace Place 505 N Powell Pkwy Anna TX United States;X-APPLE-RADIUS=500;X-TITLE=505 N Powell Pkwy:geo:-96.551151,33.3526
END:VEVENT
BEGIN:VEVENT
DTSTART;TZID=America/Chicago:20270319T090000
DTEND;TZID=America/Chicago:20270319T110000
DTSTAMP:20260423T190515
CREATED:20250612T170402Z
LAST-MODIFIED:20260424T000013Z
UID:10001977-1805446800-1805454000@www.gracepointfamilychurch.com
SUMMARY:Food Pantry Open (FRI)
DESCRIPTION:Group: Grace Place Food Pantry
URL:https://www.gracepointfamilychurch.com/event/food-pantry-open-fri-103/
LOCATION:Grace Place\, 505 N Powell Pkwy\, Anna\, TX\, United States
GEO:33.3526;-96.551151
X-APPLE-STRUCTURED-LOCATION;VALUE=URI;X-ADDRESS=Grace Place 505 N Powell Pkwy Anna TX United States;X-APPLE-RADIUS=500;X-TITLE=505 N Powell Pkwy:geo:-96.551151,33.3526
END:VEVENT
BEGIN:VEVENT
DTSTART;TZID=America/Chicago:20270324T183000
DTEND;TZID=America/Chicago:20270324T203000
DTSTAMP:20260423T190515
CREATED:20250612T170403Z
LAST-MODIFIED:20260424T000014Z
UID:10001983-1805913000-1805920200@www.gracepointfamilychurch.com
SUMMARY:STUDENTS Small Group (Middle & High School)
DESCRIPTION:Group: Grace Point Students
URL:https://www.gracepointfamilychurch.com/event/students-small-group-middle-high-school-104/
LOCATION:Grace Place\, 505 N Powell Pkwy\, Anna\, TX\, United States
GEO:33.3526;-96.551151
X-APPLE-STRUCTURED-LOCATION;VALUE=URI;X-ADDRESS=Grace Place 505 N Powell Pkwy Anna TX United States;X-APPLE-RADIUS=500;X-TITLE=505 N Powell Pkwy:geo:-96.551151,33.3526
END:VEVENT
BEGIN:VEVENT
DTSTART;TZID=America/Chicago:20270326T090000
DTEND;TZID=America/Chicago:20270326T110000
DTSTAMP:20260423T190515
CREATED:20250612T170403Z
LAST-MODIFIED:20260424T000014Z
UID:10001984-1806051600-1806058800@www.gracepointfamilychurch.com
SUMMARY:Food Pantry Open (FRI)
DESCRIPTION:Group: Grace Place Food Pantry
URL:https://www.gracepointfamilychurch.com/event/food-pantry-open-fri-104/
LOCATION:Grace Place\, 505 N Powell Pkwy\, Anna\, TX\, United States
GEO:33.3526;-96.551151
X-APPLE-STRUCTURED-LOCATION;VALUE=URI;X-ADDRESS=Grace Place 505 N Powell Pkwy Anna TX United States;X-APPLE-RADIUS=500;X-TITLE=505 N Powell Pkwy:geo:-96.551151,33.3526
END:VEVENT
BEGIN:VEVENT
DTSTART;TZID=America/Chicago:20270331T183000
DTEND;TZID=America/Chicago:20270331T203000
DTSTAMP:20260423T190515
CREATED:20250612T170403Z
LAST-MODIFIED:20260424T000015Z
UID:10001989-1806517800-1806525000@www.gracepointfamilychurch.com
SUMMARY:STUDENTS Small Group (Middle & High School)
DESCRIPTION:Group: Grace Point Students
URL:https://www.gracepointfamilychurch.com/event/students-small-group-middle-high-school-105/
LOCATION:Grace Place\, 505 N Powell Pkwy\, Anna\, TX\, United States
GEO:33.3526;-96.551151
X-APPLE-STRUCTURED-LOCATION;VALUE=URI;X-ADDRESS=Grace Place 505 N Powell Pkwy Anna TX United States;X-APPLE-RADIUS=500;X-TITLE=505 N Powell Pkwy:geo:-96.551151,33.3526
END:VEVENT
END:VCALENDAR