BEGIN:VCALENDAR
VERSION:2.0
PRODID:-//Grace Point Family Church - ECPv6.15.20//NONSGML v1.0//EN
CALSCALE:GREGORIAN
METHOD:PUBLISH
X-ORIGINAL-URL:https://www.gracepointfamilychurch.com
X-WR-CALDESC:Events for Grace Point Family Church
REFRESH-INTERVAL;VALUE=DURATION:PT1H
X-Robots-Tag:noindex
X-PUBLISHED-TTL:PT1H
BEGIN:VTIMEZONE
TZID:America/Chicago
BEGIN:DAYLIGHT
TZOFFSETFROM:-0600
TZOFFSETTO:-0500
TZNAME:CDT
DTSTART:20250309T080000
END:DAYLIGHT
BEGIN:STANDARD
TZOFFSETFROM:-0500
TZOFFSETTO:-0600
TZNAME:CST
DTSTART:20251102T070000
END:STANDARD
BEGIN:DAYLIGHT
TZOFFSETFROM:-0600
TZOFFSETTO:-0500
TZNAME:CDT
DTSTART:20260308T080000
END:DAYLIGHT
BEGIN:STANDARD
TZOFFSETFROM:-0500
TZOFFSETTO:-0600
TZNAME:CST
DTSTART:20261101T070000
END:STANDARD
BEGIN:DAYLIGHT
TZOFFSETFROM:-0600
TZOFFSETTO:-0500
TZNAME:CDT
DTSTART:20270314T080000
END:DAYLIGHT
BEGIN:STANDARD
TZOFFSETFROM:-0500
TZOFFSETTO:-0600
TZNAME:CST
DTSTART:20271107T070000
END:STANDARD
BEGIN:DAYLIGHT
TZOFFSETFROM:-0600
TZOFFSETTO:-0500
TZNAME:CDT
DTSTART:20280312T080000
END:DAYLIGHT
BEGIN:STANDARD
TZOFFSETFROM:-0500
TZOFFSETTO:-0600
TZNAME:CST
DTSTART:20281105T070000
END:STANDARD
END:VTIMEZONE
BEGIN:VEVENT
DTSTART;TZID=America/Chicago:20261030T090000
DTEND;TZID=America/Chicago:20261030T110000
DTSTAMP:20260423T142846
CREATED:20250612T170343Z
LAST-MODIFIED:20260423T191556Z
UID:10001848-1793350800-1793358000@www.gracepointfamilychurch.com
SUMMARY:Food Pantry Open (FRI)
DESCRIPTION:Group: Grace Place Food Pantry
URL:https://www.gracepointfamilychurch.com/event/food-pantry-open-fri-83/
LOCATION:Grace Place\, 505 N Powell Pkwy\, Anna\, TX\, United States
GEO:33.3526;-96.551151
X-APPLE-STRUCTURED-LOCATION;VALUE=URI;X-ADDRESS=Grace Place 505 N Powell Pkwy Anna TX United States;X-APPLE-RADIUS=500;X-TITLE=505 N Powell Pkwy:geo:-96.551151,33.3526
END:VEVENT
BEGIN:VEVENT
DTSTART;TZID=America/Chicago:20261101T120000
DTEND;TZID=America/Chicago:20261101T130000
DTSTAMP:20260423T142846
CREATED:20250612T170343Z
LAST-MODIFIED:20260204T121857Z
UID:10001851-1793534400-1793538000@www.gracepointfamilychurch.com
SUMMARY:Starting Point (Meet & Greet)
DESCRIPTION:Group: Starting Point
URL:https://www.gracepointfamilychurch.com/event/starting-point-meet-greet-20/
LOCATION:Grace Place\, 505 N Powell Pkwy\, Anna\, TX\, United States
GEO:33.3526;-96.551151
X-APPLE-STRUCTURED-LOCATION;VALUE=URI;X-ADDRESS=Grace Place 505 N Powell Pkwy Anna TX United States;X-APPLE-RADIUS=500;X-TITLE=505 N Powell Pkwy:geo:-96.551151,33.3526
END:VEVENT
BEGIN:VEVENT
DTSTART;TZID=America/Chicago:20261104T183000
DTEND;TZID=America/Chicago:20261104T203000
DTSTAMP:20260423T142846
CREATED:20250612T170344Z
LAST-MODIFIED:20260423T191556Z
UID:10001854-1793817000-1793824200@www.gracepointfamilychurch.com
SUMMARY:STUDENTS Small Group (Middle & High School)
DESCRIPTION:Group: Grace Point Students
URL:https://www.gracepointfamilychurch.com/event/students-small-group-middle-high-school-84/
LOCATION:Grace Place\, 505 N Powell Pkwy\, Anna\, TX\, United States
GEO:33.3526;-96.551151
X-APPLE-STRUCTURED-LOCATION;VALUE=URI;X-ADDRESS=Grace Place 505 N Powell Pkwy Anna TX United States;X-APPLE-RADIUS=500;X-TITLE=505 N Powell Pkwy:geo:-96.551151,33.3526
END:VEVENT
BEGIN:VEVENT
DTSTART;TZID=America/Chicago:20261106T090000
DTEND;TZID=America/Chicago:20261106T110000
DTSTAMP:20260423T142846
CREATED:20250612T170344Z
LAST-MODIFIED:20260423T191556Z
UID:10001855-1793955600-1793962800@www.gracepointfamilychurch.com
SUMMARY:Food Pantry Open (FRI)
DESCRIPTION:Group: Grace Place Food Pantry
URL:https://www.gracepointfamilychurch.com/event/food-pantry-open-fri-84/
LOCATION:Grace Place\, 505 N Powell Pkwy\, Anna\, TX\, United States
GEO:33.3526;-96.551151
X-APPLE-STRUCTURED-LOCATION;VALUE=URI;X-ADDRESS=Grace Place 505 N Powell Pkwy Anna TX United States;X-APPLE-RADIUS=500;X-TITLE=505 N Powell Pkwy:geo:-96.551151,33.3526
END:VEVENT
BEGIN:VEVENT
DTSTART;TZID=America/Chicago:20261111T183000
DTEND;TZID=America/Chicago:20261111T203000
DTSTAMP:20260423T142846
CREATED:20250612T170344Z
LAST-MODIFIED:20260423T191557Z
UID:10001860-1794421800-1794429000@www.gracepointfamilychurch.com
SUMMARY:STUDENTS Small Group (Middle & High School)
DESCRIPTION:Group: Grace Point Students
URL:https://www.gracepointfamilychurch.com/event/students-small-group-middle-high-school-85/
LOCATION:Grace Place\, 505 N Powell Pkwy\, Anna\, TX\, United States
GEO:33.3526;-96.551151
X-APPLE-STRUCTURED-LOCATION;VALUE=URI;X-ADDRESS=Grace Place 505 N Powell Pkwy Anna TX United States;X-APPLE-RADIUS=500;X-TITLE=505 N Powell Pkwy:geo:-96.551151,33.3526
END:VEVENT
BEGIN:VEVENT
DTSTART;TZID=America/Chicago:20261113T090000
DTEND;TZID=America/Chicago:20261113T110000
DTSTAMP:20260423T142846
CREATED:20250612T170345Z
LAST-MODIFIED:20260423T191557Z
UID:10001861-1794560400-1794567600@www.gracepointfamilychurch.com
SUMMARY:Food Pantry Open (FRI)
DESCRIPTION:Group: Grace Place Food Pantry
URL:https://www.gracepointfamilychurch.com/event/food-pantry-open-fri-85/
LOCATION:Grace Place\, 505 N Powell Pkwy\, Anna\, TX\, United States
GEO:33.3526;-96.551151
X-APPLE-STRUCTURED-LOCATION;VALUE=URI;X-ADDRESS=Grace Place 505 N Powell Pkwy Anna TX United States;X-APPLE-RADIUS=500;X-TITLE=505 N Powell Pkwy:geo:-96.551151,33.3526
END:VEVENT
BEGIN:VEVENT
DTSTART;TZID=America/Chicago:20261118T183000
DTEND;TZID=America/Chicago:20261118T203000
DTSTAMP:20260423T142846
CREATED:20250612T170345Z
LAST-MODIFIED:20260423T191557Z
UID:10001866-1795026600-1795033800@www.gracepointfamilychurch.com
SUMMARY:STUDENTS Small Group (Middle & High School)
DESCRIPTION:Group: Grace Point Students
URL:https://www.gracepointfamilychurch.com/event/students-small-group-middle-high-school-86/
LOCATION:Grace Place\, 505 N Powell Pkwy\, Anna\, TX\, United States
GEO:33.3526;-96.551151
X-APPLE-STRUCTURED-LOCATION;VALUE=URI;X-ADDRESS=Grace Place 505 N Powell Pkwy Anna TX United States;X-APPLE-RADIUS=500;X-TITLE=505 N Powell Pkwy:geo:-96.551151,33.3526
END:VEVENT
BEGIN:VEVENT
DTSTART;TZID=America/Chicago:20261120T090000
DTEND;TZID=America/Chicago:20261120T110000
DTSTAMP:20260423T142846
CREATED:20250612T170345Z
LAST-MODIFIED:20260423T191558Z
UID:10001867-1795165200-1795172400@www.gracepointfamilychurch.com
SUMMARY:Food Pantry Open (FRI)
DESCRIPTION:Group: Grace Place Food Pantry
URL:https://www.gracepointfamilychurch.com/event/food-pantry-open-fri-86/
LOCATION:Grace Place\, 505 N Powell Pkwy\, Anna\, TX\, United States
GEO:33.3526;-96.551151
X-APPLE-STRUCTURED-LOCATION;VALUE=URI;X-ADDRESS=Grace Place 505 N Powell Pkwy Anna TX United States;X-APPLE-RADIUS=500;X-TITLE=505 N Powell Pkwy:geo:-96.551151,33.3526
END:VEVENT
BEGIN:VEVENT
DTSTART;TZID=America/Chicago:20261125T183000
DTEND;TZID=America/Chicago:20261125T203000
DTSTAMP:20260423T142846
CREATED:20250612T170346Z
LAST-MODIFIED:20260423T191558Z
UID:10001873-1795631400-1795638600@www.gracepointfamilychurch.com
SUMMARY:STUDENTS Small Group (Middle & High School)
DESCRIPTION:Group: Grace Point Students
URL:https://www.gracepointfamilychurch.com/event/students-small-group-middle-high-school-87/
LOCATION:Grace Place\, 505 N Powell Pkwy\, Anna\, TX\, United States
GEO:33.3526;-96.551151
X-APPLE-STRUCTURED-LOCATION;VALUE=URI;X-ADDRESS=Grace Place 505 N Powell Pkwy Anna TX United States;X-APPLE-RADIUS=500;X-TITLE=505 N Powell Pkwy:geo:-96.551151,33.3526
END:VEVENT
BEGIN:VEVENT
DTSTART;TZID=America/Chicago:20261127T090000
DTEND;TZID=America/Chicago:20261127T110000
DTSTAMP:20260423T142846
CREATED:20250612T170347Z
LAST-MODIFIED:20260423T191558Z
UID:10001874-1795770000-1795777200@www.gracepointfamilychurch.com
SUMMARY:Food Pantry Open (FRI)
DESCRIPTION:Group: Grace Place Food Pantry
URL:https://www.gracepointfamilychurch.com/event/food-pantry-open-fri-87/
LOCATION:Grace Place\, 505 N Powell Pkwy\, Anna\, TX\, United States
GEO:33.3526;-96.551151
X-APPLE-STRUCTURED-LOCATION;VALUE=URI;X-ADDRESS=Grace Place 505 N Powell Pkwy Anna TX United States;X-APPLE-RADIUS=500;X-TITLE=505 N Powell Pkwy:geo:-96.551151,33.3526
END:VEVENT
BEGIN:VEVENT
DTSTART;TZID=America/Chicago:20261202T183000
DTEND;TZID=America/Chicago:20261202T203000
DTSTAMP:20260423T142846
CREATED:20250612T170347Z
LAST-MODIFIED:20260423T191559Z
UID:10001879-1796236200-1796243400@www.gracepointfamilychurch.com
SUMMARY:STUDENTS Small Group (Middle & High School)
DESCRIPTION:Group: Grace Point Students
URL:https://www.gracepointfamilychurch.com/event/students-small-group-middle-high-school-88/
LOCATION:Grace Place\, 505 N Powell Pkwy\, Anna\, TX\, United States
GEO:33.3526;-96.551151
X-APPLE-STRUCTURED-LOCATION;VALUE=URI;X-ADDRESS=Grace Place 505 N Powell Pkwy Anna TX United States;X-APPLE-RADIUS=500;X-TITLE=505 N Powell Pkwy:geo:-96.551151,33.3526
END:VEVENT
BEGIN:VEVENT
DTSTART;TZID=America/Chicago:20261204T090000
DTEND;TZID=America/Chicago:20261204T110000
DTSTAMP:20260423T142846
CREATED:20250612T170347Z
LAST-MODIFIED:20260423T191559Z
UID:10001880-1796374800-1796382000@www.gracepointfamilychurch.com
SUMMARY:Food Pantry Open (FRI)
DESCRIPTION:Group: Grace Place Food Pantry
URL:https://www.gracepointfamilychurch.com/event/food-pantry-open-fri-88/
LOCATION:Grace Place\, 505 N Powell Pkwy\, Anna\, TX\, United States
GEO:33.3526;-96.551151
X-APPLE-STRUCTURED-LOCATION;VALUE=URI;X-ADDRESS=Grace Place 505 N Powell Pkwy Anna TX United States;X-APPLE-RADIUS=500;X-TITLE=505 N Powell Pkwy:geo:-96.551151,33.3526
END:VEVENT
BEGIN:VEVENT
DTSTART;TZID=America/Chicago:20261209T183000
DTEND;TZID=America/Chicago:20261209T203000
DTSTAMP:20260423T142846
CREATED:20250612T170348Z
LAST-MODIFIED:20260423T191559Z
UID:10001886-1796841000-1796848200@www.gracepointfamilychurch.com
SUMMARY:STUDENTS Small Group (Middle & High School)
DESCRIPTION:Group: Grace Point Students
URL:https://www.gracepointfamilychurch.com/event/students-small-group-middle-high-school-89/
LOCATION:Grace Place\, 505 N Powell Pkwy\, Anna\, TX\, United States
GEO:33.3526;-96.551151
X-APPLE-STRUCTURED-LOCATION;VALUE=URI;X-ADDRESS=Grace Place 505 N Powell Pkwy Anna TX United States;X-APPLE-RADIUS=500;X-TITLE=505 N Powell Pkwy:geo:-96.551151,33.3526
END:VEVENT
BEGIN:VEVENT
DTSTART;TZID=America/Chicago:20261211T090000
DTEND;TZID=America/Chicago:20261211T110000
DTSTAMP:20260423T142846
CREATED:20250612T170348Z
LAST-MODIFIED:20260423T191559Z
UID:10001887-1796979600-1796986800@www.gracepointfamilychurch.com
SUMMARY:Food Pantry Open (FRI)
DESCRIPTION:Group: Grace Place Food Pantry
URL:https://www.gracepointfamilychurch.com/event/food-pantry-open-fri-89/
LOCATION:Grace Place\, 505 N Powell Pkwy\, Anna\, TX\, United States
GEO:33.3526;-96.551151
X-APPLE-STRUCTURED-LOCATION;VALUE=URI;X-ADDRESS=Grace Place 505 N Powell Pkwy Anna TX United States;X-APPLE-RADIUS=500;X-TITLE=505 N Powell Pkwy:geo:-96.551151,33.3526
END:VEVENT
BEGIN:VEVENT
DTSTART;TZID=America/Chicago:20261216T183000
DTEND;TZID=America/Chicago:20261216T203000
DTSTAMP:20260423T142846
CREATED:20250612T170349Z
LAST-MODIFIED:20260423T191600Z
UID:10001892-1797445800-1797453000@www.gracepointfamilychurch.com
SUMMARY:STUDENTS Small Group (Middle & High School)
DESCRIPTION:Group: Grace Point Students
URL:https://www.gracepointfamilychurch.com/event/students-small-group-middle-high-school-90/
LOCATION:Grace Place\, 505 N Powell Pkwy\, Anna\, TX\, United States
GEO:33.3526;-96.551151
X-APPLE-STRUCTURED-LOCATION;VALUE=URI;X-ADDRESS=Grace Place 505 N Powell Pkwy Anna TX United States;X-APPLE-RADIUS=500;X-TITLE=505 N Powell Pkwy:geo:-96.551151,33.3526
END:VEVENT
BEGIN:VEVENT
DTSTART;TZID=America/Chicago:20261218T090000
DTEND;TZID=America/Chicago:20261218T110000
DTSTAMP:20260423T142846
CREATED:20250612T170349Z
LAST-MODIFIED:20260423T191600Z
UID:10001893-1797584400-1797591600@www.gracepointfamilychurch.com
SUMMARY:Food Pantry Open (FRI)
DESCRIPTION:Group: Grace Place Food Pantry
URL:https://www.gracepointfamilychurch.com/event/food-pantry-open-fri-90/
LOCATION:Grace Place\, 505 N Powell Pkwy\, Anna\, TX\, United States
GEO:33.3526;-96.551151
X-APPLE-STRUCTURED-LOCATION;VALUE=URI;X-ADDRESS=Grace Place 505 N Powell Pkwy Anna TX United States;X-APPLE-RADIUS=500;X-TITLE=505 N Powell Pkwy:geo:-96.551151,33.3526
END:VEVENT
BEGIN:VEVENT
DTSTART;TZID=America/Chicago:20261223T183000
DTEND;TZID=America/Chicago:20261223T203000
DTSTAMP:20260423T142846
CREATED:20250612T170350Z
LAST-MODIFIED:20260423T191601Z
UID:10001899-1798050600-1798057800@www.gracepointfamilychurch.com
SUMMARY:STUDENTS Small Group (Middle & High School)
DESCRIPTION:Group: Grace Point Students
URL:https://www.gracepointfamilychurch.com/event/students-small-group-middle-high-school-91/
LOCATION:Grace Place\, 505 N Powell Pkwy\, Anna\, TX\, United States
GEO:33.3526;-96.551151
X-APPLE-STRUCTURED-LOCATION;VALUE=URI;X-ADDRESS=Grace Place 505 N Powell Pkwy Anna TX United States;X-APPLE-RADIUS=500;X-TITLE=505 N Powell Pkwy:geo:-96.551151,33.3526
END:VEVENT
BEGIN:VEVENT
DTSTART;TZID=America/Chicago:20261225T090000
DTEND;TZID=America/Chicago:20261225T110000
DTSTAMP:20260423T142846
CREATED:20250612T170350Z
LAST-MODIFIED:20260423T191601Z
UID:10001900-1798189200-1798196400@www.gracepointfamilychurch.com
SUMMARY:Food Pantry Open (FRI)
DESCRIPTION:Group: Grace Place Food Pantry
URL:https://www.gracepointfamilychurch.com/event/food-pantry-open-fri-91/
LOCATION:Grace Place\, 505 N Powell Pkwy\, Anna\, TX\, United States
GEO:33.3526;-96.551151
X-APPLE-STRUCTURED-LOCATION;VALUE=URI;X-ADDRESS=Grace Place 505 N Powell Pkwy Anna TX United States;X-APPLE-RADIUS=500;X-TITLE=505 N Powell Pkwy:geo:-96.551151,33.3526
END:VEVENT
BEGIN:VEVENT
DTSTART;TZID=America/Chicago:20261230T183000
DTEND;TZID=America/Chicago:20261230T203000
DTSTAMP:20260423T142846
CREATED:20250612T170351Z
LAST-MODIFIED:20260423T191602Z
UID:10001905-1798655400-1798662600@www.gracepointfamilychurch.com
SUMMARY:STUDENTS Small Group (Middle & High School)
DESCRIPTION:Group: Grace Point Students
URL:https://www.gracepointfamilychurch.com/event/students-small-group-middle-high-school-92/
LOCATION:Grace Place\, 505 N Powell Pkwy\, Anna\, TX\, United States
GEO:33.3526;-96.551151
X-APPLE-STRUCTURED-LOCATION;VALUE=URI;X-ADDRESS=Grace Place 505 N Powell Pkwy Anna TX United States;X-APPLE-RADIUS=500;X-TITLE=505 N Powell Pkwy:geo:-96.551151,33.3526
END:VEVENT
BEGIN:VEVENT
DTSTART;TZID=America/Chicago:20270101T090000
DTEND;TZID=America/Chicago:20270101T110000
DTSTAMP:20260423T142846
CREATED:20250612T170351Z
LAST-MODIFIED:20260423T191602Z
UID:10001906-1798794000-1798801200@www.gracepointfamilychurch.com
SUMMARY:Food Pantry Open (FRI)
DESCRIPTION:Group: Grace Place Food Pantry
URL:https://www.gracepointfamilychurch.com/event/food-pantry-open-fri-92/
LOCATION:Grace Place\, 505 N Powell Pkwy\, Anna\, TX\, United States
GEO:33.3526;-96.551151
X-APPLE-STRUCTURED-LOCATION;VALUE=URI;X-ADDRESS=Grace Place 505 N Powell Pkwy Anna TX United States;X-APPLE-RADIUS=500;X-TITLE=505 N Powell Pkwy:geo:-96.551151,33.3526
END:VEVENT
BEGIN:VEVENT
DTSTART;TZID=America/Chicago:20270106T183000
DTEND;TZID=America/Chicago:20270106T203000
DTSTAMP:20260423T142846
CREATED:20250612T170352Z
LAST-MODIFIED:20260423T191602Z
UID:10001912-1799260200-1799267400@www.gracepointfamilychurch.com
SUMMARY:STUDENTS Small Group (Middle & High School)
DESCRIPTION:Group: Grace Point Students
URL:https://www.gracepointfamilychurch.com/event/students-small-group-middle-high-school-93/
LOCATION:Grace Place\, 505 N Powell Pkwy\, Anna\, TX\, United States
GEO:33.3526;-96.551151
X-APPLE-STRUCTURED-LOCATION;VALUE=URI;X-ADDRESS=Grace Place 505 N Powell Pkwy Anna TX United States;X-APPLE-RADIUS=500;X-TITLE=505 N Powell Pkwy:geo:-96.551151,33.3526
END:VEVENT
BEGIN:VEVENT
DTSTART;TZID=America/Chicago:20270108T090000
DTEND;TZID=America/Chicago:20270108T110000
DTSTAMP:20260423T142846
CREATED:20250612T170353Z
LAST-MODIFIED:20260423T191602Z
UID:10001913-1799398800-1799406000@www.gracepointfamilychurch.com
SUMMARY:Food Pantry Open (FRI)
DESCRIPTION:Group: Grace Place Food Pantry
URL:https://www.gracepointfamilychurch.com/event/food-pantry-open-fri-93/
LOCATION:Grace Place\, 505 N Powell Pkwy\, Anna\, TX\, United States
GEO:33.3526;-96.551151
X-APPLE-STRUCTURED-LOCATION;VALUE=URI;X-ADDRESS=Grace Place 505 N Powell Pkwy Anna TX United States;X-APPLE-RADIUS=500;X-TITLE=505 N Powell Pkwy:geo:-96.551151,33.3526
END:VEVENT
BEGIN:VEVENT
DTSTART;TZID=America/Chicago:20270113T183000
DTEND;TZID=America/Chicago:20270113T203000
DTSTAMP:20260423T142846
CREATED:20250612T170353Z
LAST-MODIFIED:20260423T191603Z
UID:10001918-1799865000-1799872200@www.gracepointfamilychurch.com
SUMMARY:STUDENTS Small Group (Middle & High School)
DESCRIPTION:Group: Grace Point Students
URL:https://www.gracepointfamilychurch.com/event/students-small-group-middle-high-school-94/
LOCATION:Grace Place\, 505 N Powell Pkwy\, Anna\, TX\, United States
GEO:33.3526;-96.551151
X-APPLE-STRUCTURED-LOCATION;VALUE=URI;X-ADDRESS=Grace Place 505 N Powell Pkwy Anna TX United States;X-APPLE-RADIUS=500;X-TITLE=505 N Powell Pkwy:geo:-96.551151,33.3526
END:VEVENT
BEGIN:VEVENT
DTSTART;TZID=America/Chicago:20270115T090000
DTEND;TZID=America/Chicago:20270115T110000
DTSTAMP:20260423T142846
CREATED:20250612T170353Z
LAST-MODIFIED:20260423T191603Z
UID:10001919-1800003600-1800010800@www.gracepointfamilychurch.com
SUMMARY:Food Pantry Open (FRI)
DESCRIPTION:Group: Grace Place Food Pantry
URL:https://www.gracepointfamilychurch.com/event/food-pantry-open-fri-94/
LOCATION:Grace Place\, 505 N Powell Pkwy\, Anna\, TX\, United States
GEO:33.3526;-96.551151
X-APPLE-STRUCTURED-LOCATION;VALUE=URI;X-ADDRESS=Grace Place 505 N Powell Pkwy Anna TX United States;X-APPLE-RADIUS=500;X-TITLE=505 N Powell Pkwy:geo:-96.551151,33.3526
END:VEVENT
BEGIN:VEVENT
DTSTART;TZID=America/Chicago:20270120T183000
DTEND;TZID=America/Chicago:20270120T203000
DTSTAMP:20260423T142846
CREATED:20250612T170354Z
LAST-MODIFIED:20260423T191604Z
UID:10001925-1800469800-1800477000@www.gracepointfamilychurch.com
SUMMARY:STUDENTS Small Group (Middle & High School)
DESCRIPTION:Group: Grace Point Students
URL:https://www.gracepointfamilychurch.com/event/students-small-group-middle-high-school-95/
LOCATION:Grace Place\, 505 N Powell Pkwy\, Anna\, TX\, United States
GEO:33.3526;-96.551151
X-APPLE-STRUCTURED-LOCATION;VALUE=URI;X-ADDRESS=Grace Place 505 N Powell Pkwy Anna TX United States;X-APPLE-RADIUS=500;X-TITLE=505 N Powell Pkwy:geo:-96.551151,33.3526
END:VEVENT
BEGIN:VEVENT
DTSTART;TZID=America/Chicago:20270122T090000
DTEND;TZID=America/Chicago:20270122T110000
DTSTAMP:20260423T142846
CREATED:20250612T170354Z
LAST-MODIFIED:20260423T191604Z
UID:10001926-1800608400-1800615600@www.gracepointfamilychurch.com
SUMMARY:Food Pantry Open (FRI)
DESCRIPTION:Group: Grace Place Food Pantry
URL:https://www.gracepointfamilychurch.com/event/food-pantry-open-fri-95/
LOCATION:Grace Place\, 505 N Powell Pkwy\, Anna\, TX\, United States
GEO:33.3526;-96.551151
X-APPLE-STRUCTURED-LOCATION;VALUE=URI;X-ADDRESS=Grace Place 505 N Powell Pkwy Anna TX United States;X-APPLE-RADIUS=500;X-TITLE=505 N Powell Pkwy:geo:-96.551151,33.3526
END:VEVENT
BEGIN:VEVENT
DTSTART;TZID=America/Chicago:20270127T183000
DTEND;TZID=America/Chicago:20270127T203000
DTSTAMP:20260423T142846
CREATED:20250612T170355Z
LAST-MODIFIED:20260423T191604Z
UID:10001931-1801074600-1801081800@www.gracepointfamilychurch.com
SUMMARY:STUDENTS Small Group (Middle & High School)
DESCRIPTION:Group: Grace Point Students
URL:https://www.gracepointfamilychurch.com/event/students-small-group-middle-high-school-96/
LOCATION:Grace Place\, 505 N Powell Pkwy\, Anna\, TX\, United States
GEO:33.3526;-96.551151
X-APPLE-STRUCTURED-LOCATION;VALUE=URI;X-ADDRESS=Grace Place 505 N Powell Pkwy Anna TX United States;X-APPLE-RADIUS=500;X-TITLE=505 N Powell Pkwy:geo:-96.551151,33.3526
END:VEVENT
BEGIN:VEVENT
DTSTART;TZID=America/Chicago:20270129T090000
DTEND;TZID=America/Chicago:20270129T110000
DTSTAMP:20260423T142846
CREATED:20250612T170355Z
LAST-MODIFIED:20260423T191605Z
UID:10001932-1801213200-1801220400@www.gracepointfamilychurch.com
SUMMARY:Food Pantry Open (FRI)
DESCRIPTION:Group: Grace Place Food Pantry
URL:https://www.gracepointfamilychurch.com/event/food-pantry-open-fri-96/
LOCATION:Grace Place\, 505 N Powell Pkwy\, Anna\, TX\, United States
GEO:33.3526;-96.551151
X-APPLE-STRUCTURED-LOCATION;VALUE=URI;X-ADDRESS=Grace Place 505 N Powell Pkwy Anna TX United States;X-APPLE-RADIUS=500;X-TITLE=505 N Powell Pkwy:geo:-96.551151,33.3526
END:VEVENT
BEGIN:VEVENT
DTSTART;TZID=America/Chicago:20270203T183000
DTEND;TZID=America/Chicago:20270203T203000
DTSTAMP:20260423T142846
CREATED:20250612T170356Z
LAST-MODIFIED:20260423T191605Z
UID:10001937-1801679400-1801686600@www.gracepointfamilychurch.com
SUMMARY:STUDENTS Small Group (Middle & High School)
DESCRIPTION:Group: Grace Point Students
URL:https://www.gracepointfamilychurch.com/event/students-small-group-middle-high-school-97/
LOCATION:Grace Place\, 505 N Powell Pkwy\, Anna\, TX\, United States
GEO:33.3526;-96.551151
X-APPLE-STRUCTURED-LOCATION;VALUE=URI;X-ADDRESS=Grace Place 505 N Powell Pkwy Anna TX United States;X-APPLE-RADIUS=500;X-TITLE=505 N Powell Pkwy:geo:-96.551151,33.3526
END:VEVENT
BEGIN:VEVENT
DTSTART;TZID=America/Chicago:20270205T090000
DTEND;TZID=America/Chicago:20270205T110000
DTSTAMP:20260423T142846
CREATED:20250612T170356Z
LAST-MODIFIED:20260423T191605Z
UID:10001938-1801818000-1801825200@www.gracepointfamilychurch.com
SUMMARY:Food Pantry Open (FRI)
DESCRIPTION:Group: Grace Place Food Pantry
URL:https://www.gracepointfamilychurch.com/event/food-pantry-open-fri-97/
LOCATION:Grace Place\, 505 N Powell Pkwy\, Anna\, TX\, United States
GEO:33.3526;-96.551151
X-APPLE-STRUCTURED-LOCATION;VALUE=URI;X-ADDRESS=Grace Place 505 N Powell Pkwy Anna TX United States;X-APPLE-RADIUS=500;X-TITLE=505 N Powell Pkwy:geo:-96.551151,33.3526
END:VEVENT
END:VCALENDAR