BEGIN:VCALENDAR
VERSION:2.0
PRODID:-//Grace Point Family Church - ECPv6.15.20//NONSGML v1.0//EN
CALSCALE:GREGORIAN
METHOD:PUBLISH
X-ORIGINAL-URL:https://www.gracepointfamilychurch.com
X-WR-CALDESC:Events for Grace Point Family Church
REFRESH-INTERVAL;VALUE=DURATION:PT1H
X-Robots-Tag:noindex
X-PUBLISHED-TTL:PT1H
BEGIN:VTIMEZONE
TZID:America/Chicago
BEGIN:DAYLIGHT
TZOFFSETFROM:-0600
TZOFFSETTO:-0500
TZNAME:CDT
DTSTART:20250309T080000
END:DAYLIGHT
BEGIN:STANDARD
TZOFFSETFROM:-0500
TZOFFSETTO:-0600
TZNAME:CST
DTSTART:20251102T070000
END:STANDARD
BEGIN:DAYLIGHT
TZOFFSETFROM:-0600
TZOFFSETTO:-0500
TZNAME:CDT
DTSTART:20260308T080000
END:DAYLIGHT
BEGIN:STANDARD
TZOFFSETFROM:-0500
TZOFFSETTO:-0600
TZNAME:CST
DTSTART:20261101T070000
END:STANDARD
BEGIN:DAYLIGHT
TZOFFSETFROM:-0600
TZOFFSETTO:-0500
TZNAME:CDT
DTSTART:20270314T080000
END:DAYLIGHT
BEGIN:STANDARD
TZOFFSETFROM:-0500
TZOFFSETTO:-0600
TZNAME:CST
DTSTART:20271107T070000
END:STANDARD
END:VTIMEZONE
BEGIN:VEVENT
DTSTART;TZID=America/Chicago:20260729T183000
DTEND;TZID=America/Chicago:20260729T203000
DTSTAMP:20260423T094511
CREATED:20250612T170331Z
LAST-MODIFIED:20260423T144437Z
UID:10001763-1785349800-1785357000@www.gracepointfamilychurch.com
SUMMARY:STUDENTS Small Group (Middle & High School)
DESCRIPTION:Group: Grace Point Students
URL:https://www.gracepointfamilychurch.com/event/students-small-group-middle-high-school-70/
LOCATION:Grace Place\, 505 N Powell Pkwy\, Anna\, TX\, United States
GEO:33.3526;-96.551151
X-APPLE-STRUCTURED-LOCATION;VALUE=URI;X-ADDRESS=Grace Place 505 N Powell Pkwy Anna TX United States;X-APPLE-RADIUS=500;X-TITLE=505 N Powell Pkwy:geo:-96.551151,33.3526
END:VEVENT
BEGIN:VEVENT
DTSTART;TZID=America/Chicago:20260731T090000
DTEND;TZID=America/Chicago:20260731T110000
DTSTAMP:20260423T094511
CREATED:20250612T170331Z
LAST-MODIFIED:20260423T144437Z
UID:10001764-1785488400-1785495600@www.gracepointfamilychurch.com
SUMMARY:Food Pantry Open (FRI)
DESCRIPTION:Group: Grace Place Food Pantry
URL:https://www.gracepointfamilychurch.com/event/food-pantry-open-fri-70/
LOCATION:Grace Place\, 505 N Powell Pkwy\, Anna\, TX\, United States
GEO:33.3526;-96.551151
X-APPLE-STRUCTURED-LOCATION;VALUE=URI;X-ADDRESS=Grace Place 505 N Powell Pkwy Anna TX United States;X-APPLE-RADIUS=500;X-TITLE=505 N Powell Pkwy:geo:-96.551151,33.3526
END:VEVENT
BEGIN:VEVENT
DTSTART;TZID=America/Chicago:20260802T120000
DTEND;TZID=America/Chicago:20260802T130000
DTSTAMP:20260423T094511
CREATED:20250612T170331Z
LAST-MODIFIED:20260204T121848Z
UID:10001766-1785672000-1785675600@www.gracepointfamilychurch.com
SUMMARY:Starting Point (Meet & Greet)
DESCRIPTION:Group: Starting Point
URL:https://www.gracepointfamilychurch.com/event/starting-point-meet-greet-17/
LOCATION:Grace Place\, 505 N Powell Pkwy\, Anna\, TX\, United States
GEO:33.3526;-96.551151
X-APPLE-STRUCTURED-LOCATION;VALUE=URI;X-ADDRESS=Grace Place 505 N Powell Pkwy Anna TX United States;X-APPLE-RADIUS=500;X-TITLE=505 N Powell Pkwy:geo:-96.551151,33.3526
END:VEVENT
BEGIN:VEVENT
DTSTART;TZID=America/Chicago:20260805T183000
DTEND;TZID=America/Chicago:20260805T203000
DTSTAMP:20260423T094511
CREATED:20250612T170332Z
LAST-MODIFIED:20260423T144437Z
UID:10001770-1785954600-1785961800@www.gracepointfamilychurch.com
SUMMARY:STUDENTS Small Group (Middle & High School)
DESCRIPTION:Group: Grace Point Students
URL:https://www.gracepointfamilychurch.com/event/students-small-group-middle-high-school-71/
LOCATION:Grace Place\, 505 N Powell Pkwy\, Anna\, TX\, United States
GEO:33.3526;-96.551151
X-APPLE-STRUCTURED-LOCATION;VALUE=URI;X-ADDRESS=Grace Place 505 N Powell Pkwy Anna TX United States;X-APPLE-RADIUS=500;X-TITLE=505 N Powell Pkwy:geo:-96.551151,33.3526
END:VEVENT
BEGIN:VEVENT
DTSTART;TZID=America/Chicago:20260807T090000
DTEND;TZID=America/Chicago:20260807T110000
DTSTAMP:20260423T094511
CREATED:20250612T170332Z
LAST-MODIFIED:20260423T144437Z
UID:10001771-1786093200-1786100400@www.gracepointfamilychurch.com
SUMMARY:Food Pantry Open (FRI)
DESCRIPTION:Group: Grace Place Food Pantry
URL:https://www.gracepointfamilychurch.com/event/food-pantry-open-fri-71/
LOCATION:Grace Place\, 505 N Powell Pkwy\, Anna\, TX\, United States
GEO:33.3526;-96.551151
X-APPLE-STRUCTURED-LOCATION;VALUE=URI;X-ADDRESS=Grace Place 505 N Powell Pkwy Anna TX United States;X-APPLE-RADIUS=500;X-TITLE=505 N Powell Pkwy:geo:-96.551151,33.3526
END:VEVENT
BEGIN:VEVENT
DTSTART;TZID=America/Chicago:20260812T183000
DTEND;TZID=America/Chicago:20260812T203000
DTSTAMP:20260423T094511
CREATED:20250612T170333Z
LAST-MODIFIED:20260423T144438Z
UID:10001776-1786559400-1786566600@www.gracepointfamilychurch.com
SUMMARY:STUDENTS Small Group (Middle & High School)
DESCRIPTION:Group: Grace Point Students
URL:https://www.gracepointfamilychurch.com/event/students-small-group-middle-high-school-72/
LOCATION:Grace Place\, 505 N Powell Pkwy\, Anna\, TX\, United States
GEO:33.3526;-96.551151
X-APPLE-STRUCTURED-LOCATION;VALUE=URI;X-ADDRESS=Grace Place 505 N Powell Pkwy Anna TX United States;X-APPLE-RADIUS=500;X-TITLE=505 N Powell Pkwy:geo:-96.551151,33.3526
END:VEVENT
BEGIN:VEVENT
DTSTART;TZID=America/Chicago:20260814T090000
DTEND;TZID=America/Chicago:20260814T110000
DTSTAMP:20260423T094511
CREATED:20250612T170333Z
LAST-MODIFIED:20260423T144438Z
UID:10001777-1786698000-1786705200@www.gracepointfamilychurch.com
SUMMARY:Food Pantry Open (FRI)
DESCRIPTION:Group: Grace Place Food Pantry
URL:https://www.gracepointfamilychurch.com/event/food-pantry-open-fri-72/
LOCATION:Grace Place\, 505 N Powell Pkwy\, Anna\, TX\, United States
GEO:33.3526;-96.551151
X-APPLE-STRUCTURED-LOCATION;VALUE=URI;X-ADDRESS=Grace Place 505 N Powell Pkwy Anna TX United States;X-APPLE-RADIUS=500;X-TITLE=505 N Powell Pkwy:geo:-96.551151,33.3526
END:VEVENT
BEGIN:VEVENT
DTSTART;TZID=America/Chicago:20260819T183000
DTEND;TZID=America/Chicago:20260819T203000
DTSTAMP:20260423T094511
CREATED:20250612T170334Z
LAST-MODIFIED:20260423T144439Z
UID:10001782-1787164200-1787171400@www.gracepointfamilychurch.com
SUMMARY:STUDENTS Small Group (Middle & High School)
DESCRIPTION:Group: Grace Point Students
URL:https://www.gracepointfamilychurch.com/event/students-small-group-middle-high-school-73/
LOCATION:Grace Place\, 505 N Powell Pkwy\, Anna\, TX\, United States
GEO:33.3526;-96.551151
X-APPLE-STRUCTURED-LOCATION;VALUE=URI;X-ADDRESS=Grace Place 505 N Powell Pkwy Anna TX United States;X-APPLE-RADIUS=500;X-TITLE=505 N Powell Pkwy:geo:-96.551151,33.3526
END:VEVENT
BEGIN:VEVENT
DTSTART;TZID=America/Chicago:20260821T090000
DTEND;TZID=America/Chicago:20260821T110000
DTSTAMP:20260423T094511
CREATED:20250612T170334Z
LAST-MODIFIED:20260423T144439Z
UID:10001783-1787302800-1787310000@www.gracepointfamilychurch.com
SUMMARY:Food Pantry Open (FRI)
DESCRIPTION:Group: Grace Place Food Pantry
URL:https://www.gracepointfamilychurch.com/event/food-pantry-open-fri-73/
LOCATION:Grace Place\, 505 N Powell Pkwy\, Anna\, TX\, United States
GEO:33.3526;-96.551151
X-APPLE-STRUCTURED-LOCATION;VALUE=URI;X-ADDRESS=Grace Place 505 N Powell Pkwy Anna TX United States;X-APPLE-RADIUS=500;X-TITLE=505 N Powell Pkwy:geo:-96.551151,33.3526
END:VEVENT
BEGIN:VEVENT
DTSTART;TZID=America/Chicago:20260826T183000
DTEND;TZID=America/Chicago:20260826T203000
DTSTAMP:20260423T094511
CREATED:20250612T170335Z
LAST-MODIFIED:20260423T144439Z
UID:10001789-1787769000-1787776200@www.gracepointfamilychurch.com
SUMMARY:STUDENTS Small Group (Middle & High School)
DESCRIPTION:Group: Grace Point Students
URL:https://www.gracepointfamilychurch.com/event/students-small-group-middle-high-school-74/
LOCATION:Grace Place\, 505 N Powell Pkwy\, Anna\, TX\, United States
GEO:33.3526;-96.551151
X-APPLE-STRUCTURED-LOCATION;VALUE=URI;X-ADDRESS=Grace Place 505 N Powell Pkwy Anna TX United States;X-APPLE-RADIUS=500;X-TITLE=505 N Powell Pkwy:geo:-96.551151,33.3526
END:VEVENT
BEGIN:VEVENT
DTSTART;TZID=America/Chicago:20260828T090000
DTEND;TZID=America/Chicago:20260828T110000
DTSTAMP:20260423T094511
CREATED:20250612T170335Z
LAST-MODIFIED:20260423T144439Z
UID:10001790-1787907600-1787914800@www.gracepointfamilychurch.com
SUMMARY:Food Pantry Open (FRI)
DESCRIPTION:Group: Grace Place Food Pantry
URL:https://www.gracepointfamilychurch.com/event/food-pantry-open-fri-74/
LOCATION:Grace Place\, 505 N Powell Pkwy\, Anna\, TX\, United States
GEO:33.3526;-96.551151
X-APPLE-STRUCTURED-LOCATION;VALUE=URI;X-ADDRESS=Grace Place 505 N Powell Pkwy Anna TX United States;X-APPLE-RADIUS=500;X-TITLE=505 N Powell Pkwy:geo:-96.551151,33.3526
END:VEVENT
BEGIN:VEVENT
DTSTART;TZID=America/Chicago:20260902T183000
DTEND;TZID=America/Chicago:20260902T203000
DTSTAMP:20260423T094511
CREATED:20250612T170336Z
LAST-MODIFIED:20260423T144440Z
UID:10001795-1788373800-1788381000@www.gracepointfamilychurch.com
SUMMARY:STUDENTS Small Group (Middle & High School)
DESCRIPTION:Group: Grace Point Students
URL:https://www.gracepointfamilychurch.com/event/students-small-group-middle-high-school-75/
LOCATION:Grace Place\, 505 N Powell Pkwy\, Anna\, TX\, United States
GEO:33.3526;-96.551151
X-APPLE-STRUCTURED-LOCATION;VALUE=URI;X-ADDRESS=Grace Place 505 N Powell Pkwy Anna TX United States;X-APPLE-RADIUS=500;X-TITLE=505 N Powell Pkwy:geo:-96.551151,33.3526
END:VEVENT
BEGIN:VEVENT
DTSTART;TZID=America/Chicago:20260904T090000
DTEND;TZID=America/Chicago:20260904T110000
DTSTAMP:20260423T094511
CREATED:20250612T170336Z
LAST-MODIFIED:20260423T144440Z
UID:10001796-1788512400-1788519600@www.gracepointfamilychurch.com
SUMMARY:Food Pantry Open (FRI)
DESCRIPTION:Group: Grace Place Food Pantry
URL:https://www.gracepointfamilychurch.com/event/food-pantry-open-fri-75/
LOCATION:Grace Place\, 505 N Powell Pkwy\, Anna\, TX\, United States
GEO:33.3526;-96.551151
X-APPLE-STRUCTURED-LOCATION;VALUE=URI;X-ADDRESS=Grace Place 505 N Powell Pkwy Anna TX United States;X-APPLE-RADIUS=500;X-TITLE=505 N Powell Pkwy:geo:-96.551151,33.3526
END:VEVENT
BEGIN:VEVENT
DTSTART;TZID=America/Chicago:20260906T120000
DTEND;TZID=America/Chicago:20260906T130000
DTSTAMP:20260423T094511
CREATED:20250612T170336Z
LAST-MODIFIED:20260204T121851Z
UID:10001798-1788696000-1788699600@www.gracepointfamilychurch.com
SUMMARY:Starting Point (Meet & Greet)
DESCRIPTION:Group: Starting Point
URL:https://www.gracepointfamilychurch.com/event/starting-point-meet-greet-18/
LOCATION:Grace Place\, 505 N Powell Pkwy\, Anna\, TX\, United States
GEO:33.3526;-96.551151
X-APPLE-STRUCTURED-LOCATION;VALUE=URI;X-ADDRESS=Grace Place 505 N Powell Pkwy Anna TX United States;X-APPLE-RADIUS=500;X-TITLE=505 N Powell Pkwy:geo:-96.551151,33.3526
END:VEVENT
BEGIN:VEVENT
DTSTART;TZID=America/Chicago:20260909T183000
DTEND;TZID=America/Chicago:20260909T203000
DTSTAMP:20260423T094511
CREATED:20250612T170337Z
LAST-MODIFIED:20260423T144440Z
UID:10001802-1788978600-1788985800@www.gracepointfamilychurch.com
SUMMARY:STUDENTS Small Group (Middle & High School)
DESCRIPTION:Group: Grace Point Students
URL:https://www.gracepointfamilychurch.com/event/students-small-group-middle-high-school-76/
LOCATION:Grace Place\, 505 N Powell Pkwy\, Anna\, TX\, United States
GEO:33.3526;-96.551151
X-APPLE-STRUCTURED-LOCATION;VALUE=URI;X-ADDRESS=Grace Place 505 N Powell Pkwy Anna TX United States;X-APPLE-RADIUS=500;X-TITLE=505 N Powell Pkwy:geo:-96.551151,33.3526
END:VEVENT
BEGIN:VEVENT
DTSTART;TZID=America/Chicago:20260911T090000
DTEND;TZID=America/Chicago:20260911T110000
DTSTAMP:20260423T094511
CREATED:20250612T170337Z
LAST-MODIFIED:20260423T144440Z
UID:10001803-1789117200-1789124400@www.gracepointfamilychurch.com
SUMMARY:Food Pantry Open (FRI)
DESCRIPTION:Group: Grace Place Food Pantry
URL:https://www.gracepointfamilychurch.com/event/food-pantry-open-fri-76/
LOCATION:Grace Place\, 505 N Powell Pkwy\, Anna\, TX\, United States
GEO:33.3526;-96.551151
X-APPLE-STRUCTURED-LOCATION;VALUE=URI;X-ADDRESS=Grace Place 505 N Powell Pkwy Anna TX United States;X-APPLE-RADIUS=500;X-TITLE=505 N Powell Pkwy:geo:-96.551151,33.3526
END:VEVENT
BEGIN:VEVENT
DTSTART;TZID=America/Chicago:20260916T183000
DTEND;TZID=America/Chicago:20260916T203000
DTSTAMP:20260423T094511
CREATED:20250612T170338Z
LAST-MODIFIED:20260423T144441Z
UID:10001808-1789583400-1789590600@www.gracepointfamilychurch.com
SUMMARY:STUDENTS Small Group (Middle & High School)
DESCRIPTION:Group: Grace Point Students
URL:https://www.gracepointfamilychurch.com/event/students-small-group-middle-high-school-77/
LOCATION:Grace Place\, 505 N Powell Pkwy\, Anna\, TX\, United States
GEO:33.3526;-96.551151
X-APPLE-STRUCTURED-LOCATION;VALUE=URI;X-ADDRESS=Grace Place 505 N Powell Pkwy Anna TX United States;X-APPLE-RADIUS=500;X-TITLE=505 N Powell Pkwy:geo:-96.551151,33.3526
END:VEVENT
BEGIN:VEVENT
DTSTART;TZID=America/Chicago:20260918T090000
DTEND;TZID=America/Chicago:20260918T110000
DTSTAMP:20260423T094511
CREATED:20250612T170338Z
LAST-MODIFIED:20260423T144441Z
UID:10001809-1789722000-1789729200@www.gracepointfamilychurch.com
SUMMARY:Food Pantry Open (FRI)
DESCRIPTION:Group: Grace Place Food Pantry
URL:https://www.gracepointfamilychurch.com/event/food-pantry-open-fri-77/
LOCATION:Grace Place\, 505 N Powell Pkwy\, Anna\, TX\, United States
GEO:33.3526;-96.551151
X-APPLE-STRUCTURED-LOCATION;VALUE=URI;X-ADDRESS=Grace Place 505 N Powell Pkwy Anna TX United States;X-APPLE-RADIUS=500;X-TITLE=505 N Powell Pkwy:geo:-96.551151,33.3526
END:VEVENT
BEGIN:VEVENT
DTSTART;TZID=America/Chicago:20260923T183000
DTEND;TZID=America/Chicago:20260923T203000
DTSTAMP:20260423T094511
CREATED:20250612T170339Z
LAST-MODIFIED:20260423T144442Z
UID:10001815-1790188200-1790195400@www.gracepointfamilychurch.com
SUMMARY:STUDENTS Small Group (Middle & High School)
DESCRIPTION:Group: Grace Point Students
URL:https://www.gracepointfamilychurch.com/event/students-small-group-middle-high-school-78/
LOCATION:Grace Place\, 505 N Powell Pkwy\, Anna\, TX\, United States
GEO:33.3526;-96.551151
X-APPLE-STRUCTURED-LOCATION;VALUE=URI;X-ADDRESS=Grace Place 505 N Powell Pkwy Anna TX United States;X-APPLE-RADIUS=500;X-TITLE=505 N Powell Pkwy:geo:-96.551151,33.3526
END:VEVENT
BEGIN:VEVENT
DTSTART;TZID=America/Chicago:20260925T090000
DTEND;TZID=America/Chicago:20260925T110000
DTSTAMP:20260423T094511
CREATED:20250612T170339Z
LAST-MODIFIED:20260423T144442Z
UID:10001816-1790326800-1790334000@www.gracepointfamilychurch.com
SUMMARY:Food Pantry Open (FRI)
DESCRIPTION:Group: Grace Place Food Pantry
URL:https://www.gracepointfamilychurch.com/event/food-pantry-open-fri-78/
LOCATION:Grace Place\, 505 N Powell Pkwy\, Anna\, TX\, United States
GEO:33.3526;-96.551151
X-APPLE-STRUCTURED-LOCATION;VALUE=URI;X-ADDRESS=Grace Place 505 N Powell Pkwy Anna TX United States;X-APPLE-RADIUS=500;X-TITLE=505 N Powell Pkwy:geo:-96.551151,33.3526
END:VEVENT
BEGIN:VEVENT
DTSTART;TZID=America/Chicago:20260930T183000
DTEND;TZID=America/Chicago:20260930T203000
DTSTAMP:20260423T094511
CREATED:20250612T170339Z
LAST-MODIFIED:20260423T144442Z
UID:10001821-1790793000-1790800200@www.gracepointfamilychurch.com
SUMMARY:STUDENTS Small Group (Middle & High School)
DESCRIPTION:Group: Grace Point Students
URL:https://www.gracepointfamilychurch.com/event/students-small-group-middle-high-school-79/
LOCATION:Grace Place\, 505 N Powell Pkwy\, Anna\, TX\, United States
GEO:33.3526;-96.551151
X-APPLE-STRUCTURED-LOCATION;VALUE=URI;X-ADDRESS=Grace Place 505 N Powell Pkwy Anna TX United States;X-APPLE-RADIUS=500;X-TITLE=505 N Powell Pkwy:geo:-96.551151,33.3526
END:VEVENT
BEGIN:VEVENT
DTSTART;TZID=America/Chicago:20261002T090000
DTEND;TZID=America/Chicago:20261002T110000
DTSTAMP:20260423T094511
CREATED:20250612T170340Z
LAST-MODIFIED:20260423T144442Z
UID:10001822-1790931600-1790938800@www.gracepointfamilychurch.com
SUMMARY:Food Pantry Open (FRI)
DESCRIPTION:Group: Grace Place Food Pantry
URL:https://www.gracepointfamilychurch.com/event/food-pantry-open-fri-79/
LOCATION:Grace Place\, 505 N Powell Pkwy\, Anna\, TX\, United States
GEO:33.3526;-96.551151
X-APPLE-STRUCTURED-LOCATION;VALUE=URI;X-ADDRESS=Grace Place 505 N Powell Pkwy Anna TX United States;X-APPLE-RADIUS=500;X-TITLE=505 N Powell Pkwy:geo:-96.551151,33.3526
END:VEVENT
BEGIN:VEVENT
DTSTART;TZID=America/Chicago:20261004T120000
DTEND;TZID=America/Chicago:20261004T130000
DTSTAMP:20260423T094511
CREATED:20250612T170340Z
LAST-MODIFIED:20260204T121853Z
UID:10001825-1791115200-1791118800@www.gracepointfamilychurch.com
SUMMARY:Starting Point (Meet & Greet)
DESCRIPTION:Group: Starting Point
URL:https://www.gracepointfamilychurch.com/event/starting-point-meet-greet-19/
LOCATION:Grace Place\, 505 N Powell Pkwy\, Anna\, TX\, United States
GEO:33.3526;-96.551151
X-APPLE-STRUCTURED-LOCATION;VALUE=URI;X-ADDRESS=Grace Place 505 N Powell Pkwy Anna TX United States;X-APPLE-RADIUS=500;X-TITLE=505 N Powell Pkwy:geo:-96.551151,33.3526
END:VEVENT
BEGIN:VEVENT
DTSTART;TZID=America/Chicago:20261007T183000
DTEND;TZID=America/Chicago:20261007T203000
DTSTAMP:20260423T094511
CREATED:20250612T170340Z
LAST-MODIFIED:20260423T144443Z
UID:10001828-1791397800-1791405000@www.gracepointfamilychurch.com
SUMMARY:STUDENTS Small Group (Middle & High School)
DESCRIPTION:Group: Grace Point Students
URL:https://www.gracepointfamilychurch.com/event/students-small-group-middle-high-school-80/
LOCATION:Grace Place\, 505 N Powell Pkwy\, Anna\, TX\, United States
GEO:33.3526;-96.551151
X-APPLE-STRUCTURED-LOCATION;VALUE=URI;X-ADDRESS=Grace Place 505 N Powell Pkwy Anna TX United States;X-APPLE-RADIUS=500;X-TITLE=505 N Powell Pkwy:geo:-96.551151,33.3526
END:VEVENT
BEGIN:VEVENT
DTSTART;TZID=America/Chicago:20261009T090000
DTEND;TZID=America/Chicago:20261009T110000
DTSTAMP:20260423T094511
CREATED:20250612T170340Z
LAST-MODIFIED:20260423T144443Z
UID:10001829-1791536400-1791543600@www.gracepointfamilychurch.com
SUMMARY:Food Pantry Open (FRI)
DESCRIPTION:Group: Grace Place Food Pantry
URL:https://www.gracepointfamilychurch.com/event/food-pantry-open-fri-80/
LOCATION:Grace Place\, 505 N Powell Pkwy\, Anna\, TX\, United States
GEO:33.3526;-96.551151
X-APPLE-STRUCTURED-LOCATION;VALUE=URI;X-ADDRESS=Grace Place 505 N Powell Pkwy Anna TX United States;X-APPLE-RADIUS=500;X-TITLE=505 N Powell Pkwy:geo:-96.551151,33.3526
END:VEVENT
BEGIN:VEVENT
DTSTART;TZID=America/Chicago:20261014T183000
DTEND;TZID=America/Chicago:20261014T203000
DTSTAMP:20260423T094511
CREATED:20250612T170341Z
LAST-MODIFIED:20260423T144443Z
UID:10001834-1792002600-1792009800@www.gracepointfamilychurch.com
SUMMARY:STUDENTS Small Group (Middle & High School)
DESCRIPTION:Group: Grace Point Students
URL:https://www.gracepointfamilychurch.com/event/students-small-group-middle-high-school-81/
LOCATION:Grace Place\, 505 N Powell Pkwy\, Anna\, TX\, United States
GEO:33.3526;-96.551151
X-APPLE-STRUCTURED-LOCATION;VALUE=URI;X-ADDRESS=Grace Place 505 N Powell Pkwy Anna TX United States;X-APPLE-RADIUS=500;X-TITLE=505 N Powell Pkwy:geo:-96.551151,33.3526
END:VEVENT
BEGIN:VEVENT
DTSTART;TZID=America/Chicago:20261016T090000
DTEND;TZID=America/Chicago:20261016T110000
DTSTAMP:20260423T094511
CREATED:20250612T170341Z
LAST-MODIFIED:20260423T144444Z
UID:10001835-1792141200-1792148400@www.gracepointfamilychurch.com
SUMMARY:Food Pantry Open (FRI)
DESCRIPTION:Group: Grace Place Food Pantry
URL:https://www.gracepointfamilychurch.com/event/food-pantry-open-fri-81/
LOCATION:Grace Place\, 505 N Powell Pkwy\, Anna\, TX\, United States
GEO:33.3526;-96.551151
X-APPLE-STRUCTURED-LOCATION;VALUE=URI;X-ADDRESS=Grace Place 505 N Powell Pkwy Anna TX United States;X-APPLE-RADIUS=500;X-TITLE=505 N Powell Pkwy:geo:-96.551151,33.3526
END:VEVENT
BEGIN:VEVENT
DTSTART;TZID=America/Chicago:20261021T183000
DTEND;TZID=America/Chicago:20261021T203000
DTSTAMP:20260423T094511
CREATED:20250612T170342Z
LAST-MODIFIED:20260423T144444Z
UID:10001841-1792607400-1792614600@www.gracepointfamilychurch.com
SUMMARY:STUDENTS Small Group (Middle & High School)
DESCRIPTION:Group: Grace Point Students
URL:https://www.gracepointfamilychurch.com/event/students-small-group-middle-high-school-82/
LOCATION:Grace Place\, 505 N Powell Pkwy\, Anna\, TX\, United States
GEO:33.3526;-96.551151
X-APPLE-STRUCTURED-LOCATION;VALUE=URI;X-ADDRESS=Grace Place 505 N Powell Pkwy Anna TX United States;X-APPLE-RADIUS=500;X-TITLE=505 N Powell Pkwy:geo:-96.551151,33.3526
END:VEVENT
BEGIN:VEVENT
DTSTART;TZID=America/Chicago:20261023T090000
DTEND;TZID=America/Chicago:20261023T110000
DTSTAMP:20260423T094511
CREATED:20250612T170342Z
LAST-MODIFIED:20260423T144444Z
UID:10001842-1792746000-1792753200@www.gracepointfamilychurch.com
SUMMARY:Food Pantry Open (FRI)
DESCRIPTION:Group: Grace Place Food Pantry
URL:https://www.gracepointfamilychurch.com/event/food-pantry-open-fri-82/
LOCATION:Grace Place\, 505 N Powell Pkwy\, Anna\, TX\, United States
GEO:33.3526;-96.551151
X-APPLE-STRUCTURED-LOCATION;VALUE=URI;X-ADDRESS=Grace Place 505 N Powell Pkwy Anna TX United States;X-APPLE-RADIUS=500;X-TITLE=505 N Powell Pkwy:geo:-96.551151,33.3526
END:VEVENT
BEGIN:VEVENT
DTSTART;TZID=America/Chicago:20261028T183000
DTEND;TZID=America/Chicago:20261028T203000
DTSTAMP:20260423T094511
CREATED:20250612T170343Z
LAST-MODIFIED:20260423T144445Z
UID:10001847-1793212200-1793219400@www.gracepointfamilychurch.com
SUMMARY:STUDENTS Small Group (Middle & High School)
DESCRIPTION:Group: Grace Point Students
URL:https://www.gracepointfamilychurch.com/event/students-small-group-middle-high-school-83/
LOCATION:Grace Place\, 505 N Powell Pkwy\, Anna\, TX\, United States
GEO:33.3526;-96.551151
X-APPLE-STRUCTURED-LOCATION;VALUE=URI;X-ADDRESS=Grace Place 505 N Powell Pkwy Anna TX United States;X-APPLE-RADIUS=500;X-TITLE=505 N Powell Pkwy:geo:-96.551151,33.3526
END:VEVENT
END:VCALENDAR