BEGIN:VCALENDAR
VERSION:2.0
PRODID:-//Grace Point Family Church - ECPv6.15.20//NONSGML v1.0//EN
CALSCALE:GREGORIAN
METHOD:PUBLISH
X-ORIGINAL-URL:https://www.gracepointfamilychurch.com
X-WR-CALDESC:Events for Grace Point Family Church
REFRESH-INTERVAL;VALUE=DURATION:PT1H
X-Robots-Tag:noindex
X-PUBLISHED-TTL:PT1H
BEGIN:VTIMEZONE
TZID:America/Chicago
BEGIN:DAYLIGHT
TZOFFSETFROM:-0600
TZOFFSETTO:-0500
TZNAME:CDT
DTSTART:20250309T080000
END:DAYLIGHT
BEGIN:STANDARD
TZOFFSETFROM:-0500
TZOFFSETTO:-0600
TZNAME:CST
DTSTART:20251102T070000
END:STANDARD
BEGIN:DAYLIGHT
TZOFFSETFROM:-0600
TZOFFSETTO:-0500
TZNAME:CDT
DTSTART:20260308T080000
END:DAYLIGHT
BEGIN:STANDARD
TZOFFSETFROM:-0500
TZOFFSETTO:-0600
TZNAME:CST
DTSTART:20261101T070000
END:STANDARD
BEGIN:DAYLIGHT
TZOFFSETFROM:-0600
TZOFFSETTO:-0500
TZNAME:CDT
DTSTART:20270314T080000
END:DAYLIGHT
BEGIN:STANDARD
TZOFFSETFROM:-0500
TZOFFSETTO:-0600
TZNAME:CST
DTSTART:20271107T070000
END:STANDARD
END:VTIMEZONE
BEGIN:VEVENT
DTSTART;TZID=America/Chicago:20260527T183000
DTEND;TZID=America/Chicago:20260527T203000
DTSTAMP:20260423T054341
CREATED:20250612T170323Z
LAST-MODIFIED:20260423T103106Z
UID:10001705-1779906600-1779913800@www.gracepointfamilychurch.com
SUMMARY:STUDENTS Small Group (Middle & High School)
DESCRIPTION:Group: Grace Point Students
URL:https://www.gracepointfamilychurch.com/event/students-small-group-middle-high-school-61/
LOCATION:Grace Place\, 505 N Powell Pkwy\, Anna\, TX\, United States
GEO:33.3526;-96.551151
X-APPLE-STRUCTURED-LOCATION;VALUE=URI;X-ADDRESS=Grace Place 505 N Powell Pkwy Anna TX United States;X-APPLE-RADIUS=500;X-TITLE=505 N Powell Pkwy:geo:-96.551151,33.3526
END:VEVENT
BEGIN:VEVENT
DTSTART;TZID=America/Chicago:20260529T090000
DTEND;TZID=America/Chicago:20260529T110000
DTSTAMP:20260423T054341
CREATED:20250612T170323Z
LAST-MODIFIED:20260423T103106Z
UID:10001706-1780045200-1780052400@www.gracepointfamilychurch.com
SUMMARY:Food Pantry Open (FRI)
DESCRIPTION:Group: Grace Place Food Pantry
URL:https://www.gracepointfamilychurch.com/event/food-pantry-open-fri-61/
LOCATION:Grace Place\, 505 N Powell Pkwy\, Anna\, TX\, United States
GEO:33.3526;-96.551151
X-APPLE-STRUCTURED-LOCATION;VALUE=URI;X-ADDRESS=Grace Place 505 N Powell Pkwy Anna TX United States;X-APPLE-RADIUS=500;X-TITLE=505 N Powell Pkwy:geo:-96.551151,33.3526
END:VEVENT
BEGIN:VEVENT
DTSTART;TZID=America/Chicago:20260603T183000
DTEND;TZID=America/Chicago:20260603T203000
DTSTAMP:20260423T054341
CREATED:20250612T170324Z
LAST-MODIFIED:20260423T103106Z
UID:10001711-1780511400-1780518600@www.gracepointfamilychurch.com
SUMMARY:STUDENTS Small Group (Middle & High School)
DESCRIPTION:Group: Grace Point Students
URL:https://www.gracepointfamilychurch.com/event/students-small-group-middle-high-school-62/
LOCATION:Grace Place\, 505 N Powell Pkwy\, Anna\, TX\, United States
GEO:33.3526;-96.551151
X-APPLE-STRUCTURED-LOCATION;VALUE=URI;X-ADDRESS=Grace Place 505 N Powell Pkwy Anna TX United States;X-APPLE-RADIUS=500;X-TITLE=505 N Powell Pkwy:geo:-96.551151,33.3526
END:VEVENT
BEGIN:VEVENT
DTSTART;TZID=America/Chicago:20260605T090000
DTEND;TZID=America/Chicago:20260605T110000
DTSTAMP:20260423T054341
CREATED:20250612T170324Z
LAST-MODIFIED:20260423T103107Z
UID:10001712-1780650000-1780657200@www.gracepointfamilychurch.com
SUMMARY:Food Pantry Open (FRI)
DESCRIPTION:Group: Grace Place Food Pantry
URL:https://www.gracepointfamilychurch.com/event/food-pantry-open-fri-62/
LOCATION:Grace Place\, 505 N Powell Pkwy\, Anna\, TX\, United States
GEO:33.3526;-96.551151
X-APPLE-STRUCTURED-LOCATION;VALUE=URI;X-ADDRESS=Grace Place 505 N Powell Pkwy Anna TX United States;X-APPLE-RADIUS=500;X-TITLE=505 N Powell Pkwy:geo:-96.551151,33.3526
END:VEVENT
BEGIN:VEVENT
DTSTART;TZID=America/Chicago:20260607T120000
DTEND;TZID=America/Chicago:20260607T130000
DTSTAMP:20260423T054341
CREATED:20250612T170324Z
LAST-MODIFIED:20260204T121842Z
UID:10001715-1780833600-1780837200@www.gracepointfamilychurch.com
SUMMARY:Starting Point (Meet & Greet)
DESCRIPTION:Group: Starting Point
URL:https://www.gracepointfamilychurch.com/event/starting-point-meet-greet-15/
LOCATION:Grace Place\, 505 N Powell Pkwy\, Anna\, TX\, United States
GEO:33.3526;-96.551151
X-APPLE-STRUCTURED-LOCATION;VALUE=URI;X-ADDRESS=Grace Place 505 N Powell Pkwy Anna TX United States;X-APPLE-RADIUS=500;X-TITLE=505 N Powell Pkwy:geo:-96.551151,33.3526
END:VEVENT
BEGIN:VEVENT
DTSTART;TZID=America/Chicago:20260610T183000
DTEND;TZID=America/Chicago:20260610T203000
DTSTAMP:20260423T054341
CREATED:20250612T170324Z
LAST-MODIFIED:20260423T103107Z
UID:10001718-1781116200-1781123400@www.gracepointfamilychurch.com
SUMMARY:STUDENTS Small Group (Middle & High School)
DESCRIPTION:Group: Grace Point Students
URL:https://www.gracepointfamilychurch.com/event/students-small-group-middle-high-school-63/
LOCATION:Grace Place\, 505 N Powell Pkwy\, Anna\, TX\, United States
GEO:33.3526;-96.551151
X-APPLE-STRUCTURED-LOCATION;VALUE=URI;X-ADDRESS=Grace Place 505 N Powell Pkwy Anna TX United States;X-APPLE-RADIUS=500;X-TITLE=505 N Powell Pkwy:geo:-96.551151,33.3526
END:VEVENT
BEGIN:VEVENT
DTSTART;TZID=America/Chicago:20260612T090000
DTEND;TZID=America/Chicago:20260612T110000
DTSTAMP:20260423T054341
CREATED:20250612T170325Z
LAST-MODIFIED:20260423T103107Z
UID:10001719-1781254800-1781262000@www.gracepointfamilychurch.com
SUMMARY:Food Pantry Open (FRI)
DESCRIPTION:Group: Grace Place Food Pantry
URL:https://www.gracepointfamilychurch.com/event/food-pantry-open-fri-63/
LOCATION:Grace Place\, 505 N Powell Pkwy\, Anna\, TX\, United States
GEO:33.3526;-96.551151
X-APPLE-STRUCTURED-LOCATION;VALUE=URI;X-ADDRESS=Grace Place 505 N Powell Pkwy Anna TX United States;X-APPLE-RADIUS=500;X-TITLE=505 N Powell Pkwy:geo:-96.551151,33.3526
END:VEVENT
BEGIN:VEVENT
DTSTART;TZID=America/Chicago:20260617T183000
DTEND;TZID=America/Chicago:20260617T203000
DTSTAMP:20260423T054341
CREATED:20250612T170325Z
LAST-MODIFIED:20260423T103108Z
UID:10001724-1781721000-1781728200@www.gracepointfamilychurch.com
SUMMARY:STUDENTS Small Group (Middle & High School)
DESCRIPTION:Group: Grace Point Students
URL:https://www.gracepointfamilychurch.com/event/students-small-group-middle-high-school-64/
LOCATION:Grace Place\, 505 N Powell Pkwy\, Anna\, TX\, United States
GEO:33.3526;-96.551151
X-APPLE-STRUCTURED-LOCATION;VALUE=URI;X-ADDRESS=Grace Place 505 N Powell Pkwy Anna TX United States;X-APPLE-RADIUS=500;X-TITLE=505 N Powell Pkwy:geo:-96.551151,33.3526
END:VEVENT
BEGIN:VEVENT
DTSTART;TZID=America/Chicago:20260619T090000
DTEND;TZID=America/Chicago:20260619T110000
DTSTAMP:20260423T054341
CREATED:20250612T170325Z
LAST-MODIFIED:20260423T103108Z
UID:10001725-1781859600-1781866800@www.gracepointfamilychurch.com
SUMMARY:Food Pantry Open (FRI)
DESCRIPTION:Group: Grace Place Food Pantry
URL:https://www.gracepointfamilychurch.com/event/food-pantry-open-fri-64/
LOCATION:Grace Place\, 505 N Powell Pkwy\, Anna\, TX\, United States
GEO:33.3526;-96.551151
X-APPLE-STRUCTURED-LOCATION;VALUE=URI;X-ADDRESS=Grace Place 505 N Powell Pkwy Anna TX United States;X-APPLE-RADIUS=500;X-TITLE=505 N Powell Pkwy:geo:-96.551151,33.3526
END:VEVENT
BEGIN:VEVENT
DTSTART;TZID=America/Chicago:20260624T183000
DTEND;TZID=America/Chicago:20260624T203000
DTSTAMP:20260423T054341
CREATED:20250612T170326Z
LAST-MODIFIED:20260423T103108Z
UID:10001731-1782325800-1782333000@www.gracepointfamilychurch.com
SUMMARY:STUDENTS Small Group (Middle & High School)
DESCRIPTION:Group: Grace Point Students
URL:https://www.gracepointfamilychurch.com/event/students-small-group-middle-high-school-65/
LOCATION:Grace Place\, 505 N Powell Pkwy\, Anna\, TX\, United States
GEO:33.3526;-96.551151
X-APPLE-STRUCTURED-LOCATION;VALUE=URI;X-ADDRESS=Grace Place 505 N Powell Pkwy Anna TX United States;X-APPLE-RADIUS=500;X-TITLE=505 N Powell Pkwy:geo:-96.551151,33.3526
END:VEVENT
BEGIN:VEVENT
DTSTART;TZID=America/Chicago:20260626T090000
DTEND;TZID=America/Chicago:20260626T110000
DTSTAMP:20260423T054341
CREATED:20250612T170326Z
LAST-MODIFIED:20260423T103108Z
UID:10001732-1782464400-1782471600@www.gracepointfamilychurch.com
SUMMARY:Food Pantry Open (FRI)
DESCRIPTION:Group: Grace Place Food Pantry
URL:https://www.gracepointfamilychurch.com/event/food-pantry-open-fri-65/
LOCATION:Grace Place\, 505 N Powell Pkwy\, Anna\, TX\, United States
GEO:33.3526;-96.551151
X-APPLE-STRUCTURED-LOCATION;VALUE=URI;X-ADDRESS=Grace Place 505 N Powell Pkwy Anna TX United States;X-APPLE-RADIUS=500;X-TITLE=505 N Powell Pkwy:geo:-96.551151,33.3526
END:VEVENT
BEGIN:VEVENT
DTSTART;TZID=America/Chicago:20260701T183000
DTEND;TZID=America/Chicago:20260701T203000
DTSTAMP:20260423T054341
CREATED:20250612T170327Z
LAST-MODIFIED:20260423T103109Z
UID:10001737-1782930600-1782937800@www.gracepointfamilychurch.com
SUMMARY:STUDENTS Small Group (Middle & High School)
DESCRIPTION:Group: Grace Point Students
URL:https://www.gracepointfamilychurch.com/event/students-small-group-middle-high-school-66/
LOCATION:Grace Place\, 505 N Powell Pkwy\, Anna\, TX\, United States
GEO:33.3526;-96.551151
X-APPLE-STRUCTURED-LOCATION;VALUE=URI;X-ADDRESS=Grace Place 505 N Powell Pkwy Anna TX United States;X-APPLE-RADIUS=500;X-TITLE=505 N Powell Pkwy:geo:-96.551151,33.3526
END:VEVENT
BEGIN:VEVENT
DTSTART;TZID=America/Chicago:20260703T090000
DTEND;TZID=America/Chicago:20260703T110000
DTSTAMP:20260423T054341
CREATED:20250612T170327Z
LAST-MODIFIED:20260423T103109Z
UID:10001738-1783069200-1783076400@www.gracepointfamilychurch.com
SUMMARY:Food Pantry Open (FRI)
DESCRIPTION:Group: Grace Place Food Pantry
URL:https://www.gracepointfamilychurch.com/event/food-pantry-open-fri-66/
LOCATION:Grace Place\, 505 N Powell Pkwy\, Anna\, TX\, United States
GEO:33.3526;-96.551151
X-APPLE-STRUCTURED-LOCATION;VALUE=URI;X-ADDRESS=Grace Place 505 N Powell Pkwy Anna TX United States;X-APPLE-RADIUS=500;X-TITLE=505 N Powell Pkwy:geo:-96.551151,33.3526
END:VEVENT
BEGIN:VEVENT
DTSTART;TZID=America/Chicago:20260705T120000
DTEND;TZID=America/Chicago:20260705T130000
DTSTAMP:20260423T054341
CREATED:20250612T170328Z
LAST-MODIFIED:20260204T121845Z
UID:10001741-1783252800-1783256400@www.gracepointfamilychurch.com
SUMMARY:Starting Point (Meet & Greet)
DESCRIPTION:Group: Starting Point
URL:https://www.gracepointfamilychurch.com/event/starting-point-meet-greet-16/
LOCATION:Grace Place\, 505 N Powell Pkwy\, Anna\, TX\, United States
GEO:33.3526;-96.551151
X-APPLE-STRUCTURED-LOCATION;VALUE=URI;X-ADDRESS=Grace Place 505 N Powell Pkwy Anna TX United States;X-APPLE-RADIUS=500;X-TITLE=505 N Powell Pkwy:geo:-96.551151,33.3526
END:VEVENT
BEGIN:VEVENT
DTSTART;TZID=America/Chicago:20260708T183000
DTEND;TZID=America/Chicago:20260708T203000
DTSTAMP:20260423T054341
CREATED:20250612T170328Z
LAST-MODIFIED:20260423T103109Z
UID:10001744-1783535400-1783542600@www.gracepointfamilychurch.com
SUMMARY:STUDENTS Small Group (Middle & High School)
DESCRIPTION:Group: Grace Point Students
URL:https://www.gracepointfamilychurch.com/event/students-small-group-middle-high-school-67/
LOCATION:Grace Place\, 505 N Powell Pkwy\, Anna\, TX\, United States
GEO:33.3526;-96.551151
X-APPLE-STRUCTURED-LOCATION;VALUE=URI;X-ADDRESS=Grace Place 505 N Powell Pkwy Anna TX United States;X-APPLE-RADIUS=500;X-TITLE=505 N Powell Pkwy:geo:-96.551151,33.3526
END:VEVENT
BEGIN:VEVENT
DTSTART;TZID=America/Chicago:20260710T090000
DTEND;TZID=America/Chicago:20260710T110000
DTSTAMP:20260423T054341
CREATED:20250612T170328Z
LAST-MODIFIED:20260423T103110Z
UID:10001745-1783674000-1783681200@www.gracepointfamilychurch.com
SUMMARY:Food Pantry Open (FRI)
DESCRIPTION:Group: Grace Place Food Pantry
URL:https://www.gracepointfamilychurch.com/event/food-pantry-open-fri-67/
LOCATION:Grace Place\, 505 N Powell Pkwy\, Anna\, TX\, United States
GEO:33.3526;-96.551151
X-APPLE-STRUCTURED-LOCATION;VALUE=URI;X-ADDRESS=Grace Place 505 N Powell Pkwy Anna TX United States;X-APPLE-RADIUS=500;X-TITLE=505 N Powell Pkwy:geo:-96.551151,33.3526
END:VEVENT
BEGIN:VEVENT
DTSTART;TZID=America/Chicago:20260715T183000
DTEND;TZID=America/Chicago:20260715T203000
DTSTAMP:20260423T054341
CREATED:20250612T170329Z
LAST-MODIFIED:20260423T103110Z
UID:10001750-1784140200-1784147400@www.gracepointfamilychurch.com
SUMMARY:STUDENTS Small Group (Middle & High School)
DESCRIPTION:Group: Grace Point Students
URL:https://www.gracepointfamilychurch.com/event/students-small-group-middle-high-school-68/
LOCATION:Grace Place\, 505 N Powell Pkwy\, Anna\, TX\, United States
GEO:33.3526;-96.551151
X-APPLE-STRUCTURED-LOCATION;VALUE=URI;X-ADDRESS=Grace Place 505 N Powell Pkwy Anna TX United States;X-APPLE-RADIUS=500;X-TITLE=505 N Powell Pkwy:geo:-96.551151,33.3526
END:VEVENT
BEGIN:VEVENT
DTSTART;TZID=America/Chicago:20260717T090000
DTEND;TZID=America/Chicago:20260717T110000
DTSTAMP:20260423T054341
CREATED:20250612T170329Z
LAST-MODIFIED:20260423T103110Z
UID:10001751-1784278800-1784286000@www.gracepointfamilychurch.com
SUMMARY:Food Pantry Open (FRI)
DESCRIPTION:Group: Grace Place Food Pantry
URL:https://www.gracepointfamilychurch.com/event/food-pantry-open-fri-68/
LOCATION:Grace Place\, 505 N Powell Pkwy\, Anna\, TX\, United States
GEO:33.3526;-96.551151
X-APPLE-STRUCTURED-LOCATION;VALUE=URI;X-ADDRESS=Grace Place 505 N Powell Pkwy Anna TX United States;X-APPLE-RADIUS=500;X-TITLE=505 N Powell Pkwy:geo:-96.551151,33.3526
END:VEVENT
BEGIN:VEVENT
DTSTART;TZID=America/Chicago:20260722T183000
DTEND;TZID=America/Chicago:20260722T203000
DTSTAMP:20260423T054341
CREATED:20250612T170330Z
LAST-MODIFIED:20260423T103111Z
UID:10001757-1784745000-1784752200@www.gracepointfamilychurch.com
SUMMARY:STUDENTS Small Group (Middle & High School)
DESCRIPTION:Group: Grace Point Students
URL:https://www.gracepointfamilychurch.com/event/students-small-group-middle-high-school-69/
LOCATION:Grace Place\, 505 N Powell Pkwy\, Anna\, TX\, United States
GEO:33.3526;-96.551151
X-APPLE-STRUCTURED-LOCATION;VALUE=URI;X-ADDRESS=Grace Place 505 N Powell Pkwy Anna TX United States;X-APPLE-RADIUS=500;X-TITLE=505 N Powell Pkwy:geo:-96.551151,33.3526
END:VEVENT
BEGIN:VEVENT
DTSTART;TZID=America/Chicago:20260724T090000
DTEND;TZID=America/Chicago:20260724T110000
DTSTAMP:20260423T054341
CREATED:20250612T170330Z
LAST-MODIFIED:20260423T103111Z
UID:10001758-1784883600-1784890800@www.gracepointfamilychurch.com
SUMMARY:Food Pantry Open (FRI)
DESCRIPTION:Group: Grace Place Food Pantry
URL:https://www.gracepointfamilychurch.com/event/food-pantry-open-fri-69/
LOCATION:Grace Place\, 505 N Powell Pkwy\, Anna\, TX\, United States
GEO:33.3526;-96.551151
X-APPLE-STRUCTURED-LOCATION;VALUE=URI;X-ADDRESS=Grace Place 505 N Powell Pkwy Anna TX United States;X-APPLE-RADIUS=500;X-TITLE=505 N Powell Pkwy:geo:-96.551151,33.3526
END:VEVENT
BEGIN:VEVENT
DTSTART;TZID=America/Chicago:20260729T183000
DTEND;TZID=America/Chicago:20260729T203000
DTSTAMP:20260423T054341
CREATED:20250612T170331Z
LAST-MODIFIED:20260423T103111Z
UID:10001763-1785349800-1785357000@www.gracepointfamilychurch.com
SUMMARY:STUDENTS Small Group (Middle & High School)
DESCRIPTION:Group: Grace Point Students
URL:https://www.gracepointfamilychurch.com/event/students-small-group-middle-high-school-70/
LOCATION:Grace Place\, 505 N Powell Pkwy\, Anna\, TX\, United States
GEO:33.3526;-96.551151
X-APPLE-STRUCTURED-LOCATION;VALUE=URI;X-ADDRESS=Grace Place 505 N Powell Pkwy Anna TX United States;X-APPLE-RADIUS=500;X-TITLE=505 N Powell Pkwy:geo:-96.551151,33.3526
END:VEVENT
BEGIN:VEVENT
DTSTART;TZID=America/Chicago:20260731T090000
DTEND;TZID=America/Chicago:20260731T110000
DTSTAMP:20260423T054341
CREATED:20250612T170331Z
LAST-MODIFIED:20260423T103111Z
UID:10001764-1785488400-1785495600@www.gracepointfamilychurch.com
SUMMARY:Food Pantry Open (FRI)
DESCRIPTION:Group: Grace Place Food Pantry
URL:https://www.gracepointfamilychurch.com/event/food-pantry-open-fri-70/
LOCATION:Grace Place\, 505 N Powell Pkwy\, Anna\, TX\, United States
GEO:33.3526;-96.551151
X-APPLE-STRUCTURED-LOCATION;VALUE=URI;X-ADDRESS=Grace Place 505 N Powell Pkwy Anna TX United States;X-APPLE-RADIUS=500;X-TITLE=505 N Powell Pkwy:geo:-96.551151,33.3526
END:VEVENT
BEGIN:VEVENT
DTSTART;TZID=America/Chicago:20260802T120000
DTEND;TZID=America/Chicago:20260802T130000
DTSTAMP:20260423T054341
CREATED:20250612T170331Z
LAST-MODIFIED:20260204T121848Z
UID:10001766-1785672000-1785675600@www.gracepointfamilychurch.com
SUMMARY:Starting Point (Meet & Greet)
DESCRIPTION:Group: Starting Point
URL:https://www.gracepointfamilychurch.com/event/starting-point-meet-greet-17/
LOCATION:Grace Place\, 505 N Powell Pkwy\, Anna\, TX\, United States
GEO:33.3526;-96.551151
X-APPLE-STRUCTURED-LOCATION;VALUE=URI;X-ADDRESS=Grace Place 505 N Powell Pkwy Anna TX United States;X-APPLE-RADIUS=500;X-TITLE=505 N Powell Pkwy:geo:-96.551151,33.3526
END:VEVENT
BEGIN:VEVENT
DTSTART;TZID=America/Chicago:20260805T183000
DTEND;TZID=America/Chicago:20260805T203000
DTSTAMP:20260423T054341
CREATED:20250612T170332Z
LAST-MODIFIED:20260423T103112Z
UID:10001770-1785954600-1785961800@www.gracepointfamilychurch.com
SUMMARY:STUDENTS Small Group (Middle & High School)
DESCRIPTION:Group: Grace Point Students
URL:https://www.gracepointfamilychurch.com/event/students-small-group-middle-high-school-71/
LOCATION:Grace Place\, 505 N Powell Pkwy\, Anna\, TX\, United States
GEO:33.3526;-96.551151
X-APPLE-STRUCTURED-LOCATION;VALUE=URI;X-ADDRESS=Grace Place 505 N Powell Pkwy Anna TX United States;X-APPLE-RADIUS=500;X-TITLE=505 N Powell Pkwy:geo:-96.551151,33.3526
END:VEVENT
BEGIN:VEVENT
DTSTART;TZID=America/Chicago:20260807T090000
DTEND;TZID=America/Chicago:20260807T110000
DTSTAMP:20260423T054341
CREATED:20250612T170332Z
LAST-MODIFIED:20260423T103112Z
UID:10001771-1786093200-1786100400@www.gracepointfamilychurch.com
SUMMARY:Food Pantry Open (FRI)
DESCRIPTION:Group: Grace Place Food Pantry
URL:https://www.gracepointfamilychurch.com/event/food-pantry-open-fri-71/
LOCATION:Grace Place\, 505 N Powell Pkwy\, Anna\, TX\, United States
GEO:33.3526;-96.551151
X-APPLE-STRUCTURED-LOCATION;VALUE=URI;X-ADDRESS=Grace Place 505 N Powell Pkwy Anna TX United States;X-APPLE-RADIUS=500;X-TITLE=505 N Powell Pkwy:geo:-96.551151,33.3526
END:VEVENT
BEGIN:VEVENT
DTSTART;TZID=America/Chicago:20260812T183000
DTEND;TZID=America/Chicago:20260812T203000
DTSTAMP:20260423T054341
CREATED:20250612T170333Z
LAST-MODIFIED:20260423T103112Z
UID:10001776-1786559400-1786566600@www.gracepointfamilychurch.com
SUMMARY:STUDENTS Small Group (Middle & High School)
DESCRIPTION:Group: Grace Point Students
URL:https://www.gracepointfamilychurch.com/event/students-small-group-middle-high-school-72/
LOCATION:Grace Place\, 505 N Powell Pkwy\, Anna\, TX\, United States
GEO:33.3526;-96.551151
X-APPLE-STRUCTURED-LOCATION;VALUE=URI;X-ADDRESS=Grace Place 505 N Powell Pkwy Anna TX United States;X-APPLE-RADIUS=500;X-TITLE=505 N Powell Pkwy:geo:-96.551151,33.3526
END:VEVENT
BEGIN:VEVENT
DTSTART;TZID=America/Chicago:20260814T090000
DTEND;TZID=America/Chicago:20260814T110000
DTSTAMP:20260423T054341
CREATED:20250612T170333Z
LAST-MODIFIED:20260423T103113Z
UID:10001777-1786698000-1786705200@www.gracepointfamilychurch.com
SUMMARY:Food Pantry Open (FRI)
DESCRIPTION:Group: Grace Place Food Pantry
URL:https://www.gracepointfamilychurch.com/event/food-pantry-open-fri-72/
LOCATION:Grace Place\, 505 N Powell Pkwy\, Anna\, TX\, United States
GEO:33.3526;-96.551151
X-APPLE-STRUCTURED-LOCATION;VALUE=URI;X-ADDRESS=Grace Place 505 N Powell Pkwy Anna TX United States;X-APPLE-RADIUS=500;X-TITLE=505 N Powell Pkwy:geo:-96.551151,33.3526
END:VEVENT
BEGIN:VEVENT
DTSTART;TZID=America/Chicago:20260819T183000
DTEND;TZID=America/Chicago:20260819T203000
DTSTAMP:20260423T054341
CREATED:20250612T170334Z
LAST-MODIFIED:20260423T103113Z
UID:10001782-1787164200-1787171400@www.gracepointfamilychurch.com
SUMMARY:STUDENTS Small Group (Middle & High School)
DESCRIPTION:Group: Grace Point Students
URL:https://www.gracepointfamilychurch.com/event/students-small-group-middle-high-school-73/
LOCATION:Grace Place\, 505 N Powell Pkwy\, Anna\, TX\, United States
GEO:33.3526;-96.551151
X-APPLE-STRUCTURED-LOCATION;VALUE=URI;X-ADDRESS=Grace Place 505 N Powell Pkwy Anna TX United States;X-APPLE-RADIUS=500;X-TITLE=505 N Powell Pkwy:geo:-96.551151,33.3526
END:VEVENT
BEGIN:VEVENT
DTSTART;TZID=America/Chicago:20260821T090000
DTEND;TZID=America/Chicago:20260821T110000
DTSTAMP:20260423T054341
CREATED:20250612T170334Z
LAST-MODIFIED:20260423T103113Z
UID:10001783-1787302800-1787310000@www.gracepointfamilychurch.com
SUMMARY:Food Pantry Open (FRI)
DESCRIPTION:Group: Grace Place Food Pantry
URL:https://www.gracepointfamilychurch.com/event/food-pantry-open-fri-73/
LOCATION:Grace Place\, 505 N Powell Pkwy\, Anna\, TX\, United States
GEO:33.3526;-96.551151
X-APPLE-STRUCTURED-LOCATION;VALUE=URI;X-ADDRESS=Grace Place 505 N Powell Pkwy Anna TX United States;X-APPLE-RADIUS=500;X-TITLE=505 N Powell Pkwy:geo:-96.551151,33.3526
END:VEVENT
BEGIN:VEVENT
DTSTART;TZID=America/Chicago:20260826T183000
DTEND;TZID=America/Chicago:20260826T203000
DTSTAMP:20260423T054341
CREATED:20250612T170335Z
LAST-MODIFIED:20260423T103114Z
UID:10001789-1787769000-1787776200@www.gracepointfamilychurch.com
SUMMARY:STUDENTS Small Group (Middle & High School)
DESCRIPTION:Group: Grace Point Students
URL:https://www.gracepointfamilychurch.com/event/students-small-group-middle-high-school-74/
LOCATION:Grace Place\, 505 N Powell Pkwy\, Anna\, TX\, United States
GEO:33.3526;-96.551151
X-APPLE-STRUCTURED-LOCATION;VALUE=URI;X-ADDRESS=Grace Place 505 N Powell Pkwy Anna TX United States;X-APPLE-RADIUS=500;X-TITLE=505 N Powell Pkwy:geo:-96.551151,33.3526
END:VEVENT
END:VCALENDAR