BEGIN:VCALENDAR
VERSION:2.0
PRODID:-//Grace Point Family Church - ECPv6.15.20//NONSGML v1.0//EN
CALSCALE:GREGORIAN
METHOD:PUBLISH
X-ORIGINAL-URL:https://www.gracepointfamilychurch.com
X-WR-CALDESC:Events for Grace Point Family Church
REFRESH-INTERVAL;VALUE=DURATION:PT1H
X-Robots-Tag:noindex
X-PUBLISHED-TTL:PT1H
BEGIN:VTIMEZONE
TZID:America/Chicago
BEGIN:DAYLIGHT
TZOFFSETFROM:-0600
TZOFFSETTO:-0500
TZNAME:CDT
DTSTART:20240310T080000
END:DAYLIGHT
BEGIN:STANDARD
TZOFFSETFROM:-0500
TZOFFSETTO:-0600
TZNAME:CST
DTSTART:20241103T070000
END:STANDARD
BEGIN:DAYLIGHT
TZOFFSETFROM:-0600
TZOFFSETTO:-0500
TZNAME:CDT
DTSTART:20250309T080000
END:DAYLIGHT
BEGIN:STANDARD
TZOFFSETFROM:-0500
TZOFFSETTO:-0600
TZNAME:CST
DTSTART:20251102T070000
END:STANDARD
BEGIN:DAYLIGHT
TZOFFSETFROM:-0600
TZOFFSETTO:-0500
TZNAME:CDT
DTSTART:20260308T080000
END:DAYLIGHT
BEGIN:STANDARD
TZOFFSETFROM:-0500
TZOFFSETTO:-0600
TZNAME:CST
DTSTART:20261101T070000
END:STANDARD
END:VTIMEZONE
BEGIN:VEVENT
DTSTART;TZID=America/Chicago:20250412T190000
DTEND;TZID=America/Chicago:20250412T210000
DTSTAMP:20260424T062111
CREATED:20250612T170233Z
LAST-MODIFIED:20260413T055650Z
UID:10001324-1744484400-1744491600@www.gracepointfamilychurch.com
SUMMARY:Marriage Group -Monthly
DESCRIPTION:Group: Marriage Group \nHosted by: Mike & Michelle Lynn \n2nd Saturday of each month \n7:00-9:00 pm @ Grace Place \n\nVideo Lesson\nTable Talk\nFellowship\n\n \nJoin us as we begin a new video series and learn ways to take our marriages from better to best! You can RSVP to this invite and we will see you soon!
URL:https://www.gracepointfamilychurch.com/event/marriage-group-monthly/
LOCATION:Grace Place (Grace Point Family Church)\, 505 N Powell Pkwy\, Anna\, TX\, United States
GEO:33.3526;-96.551151
X-APPLE-STRUCTURED-LOCATION;VALUE=URI;X-ADDRESS=Grace Place (Grace Point Family Church) 505 N Powell Pkwy Anna TX United States;X-APPLE-RADIUS=500;X-TITLE=505 N Powell Pkwy:geo:-96.551151,33.3526
END:VEVENT
END:VCALENDAR