BEGIN:VCALENDAR
VERSION:2.0
PRODID:-//Grace Point Family Church - ECPv6.15.20//NONSGML v1.0//EN
CALSCALE:GREGORIAN
METHOD:PUBLISH
X-WR-CALNAME:Grace Point Family Church
X-ORIGINAL-URL:https://www.gracepointfamilychurch.com
X-WR-CALDESC:Events for Grace Point Family Church
REFRESH-INTERVAL;VALUE=DURATION:PT1H
X-Robots-Tag:noindex
X-PUBLISHED-TTL:PT1H
BEGIN:VTIMEZONE
TZID:America/Chicago
BEGIN:DAYLIGHT
TZOFFSETFROM:-0600
TZOFFSETTO:-0500
TZNAME:CDT
DTSTART:20250309T080000
END:DAYLIGHT
BEGIN:STANDARD
TZOFFSETFROM:-0500
TZOFFSETTO:-0600
TZNAME:CST
DTSTART:20251102T070000
END:STANDARD
BEGIN:DAYLIGHT
TZOFFSETFROM:-0600
TZOFFSETTO:-0500
TZNAME:CDT
DTSTART:20260308T080000
END:DAYLIGHT
BEGIN:STANDARD
TZOFFSETFROM:-0500
TZOFFSETTO:-0600
TZNAME:CST
DTSTART:20261101T070000
END:STANDARD
BEGIN:DAYLIGHT
TZOFFSETFROM:-0600
TZOFFSETTO:-0500
TZNAME:CDT
DTSTART:20270314T080000
END:DAYLIGHT
BEGIN:STANDARD
TZOFFSETFROM:-0500
TZOFFSETTO:-0600
TZNAME:CST
DTSTART:20271107T070000
END:STANDARD
BEGIN:DAYLIGHT
TZOFFSETFROM:-0600
TZOFFSETTO:-0500
TZNAME:CDT
DTSTART:20280312T080000
END:DAYLIGHT
BEGIN:STANDARD
TZOFFSETFROM:-0500
TZOFFSETTO:-0600
TZNAME:CST
DTSTART:20281105T070000
END:STANDARD
END:VTIMEZONE
BEGIN:VEVENT
DTSTART;TZID=America/Chicago:20260509T190000
DTEND;TZID=America/Chicago:20260509T210000
DTSTAMP:20260422T052816
CREATED:20250716T144358Z
LAST-MODIFIED:20250821T144828Z
UID:10002005-1778353200-1778360400@www.gracepointfamilychurch.com
SUMMARY:Marriage Group -Monthly
DESCRIPTION:Group: Marriage Group \nHosted by: Mike & Michelle Lynn \n2nd Saturday of each month \n7:00-9:00 pm @ Grace Place \n\nVideo Lesson\nTable Talk\nFellowship\n\n \nJoin us as we begin a new video series and learn ways to take our marriages from better to best! You can RSVP to this invite and we will see you soon!
URL:https://www.gracepointfamilychurch.com/event/marriage-group-monthly-14/
LOCATION:Grace Place (Grace Point Family Church)\, 505 N Powell Pkwy\, Anna\, TX\, United States
GEO:33.3526;-96.551151
X-APPLE-STRUCTURED-LOCATION;VALUE=URI;X-ADDRESS=Grace Place (Grace Point Family Church) 505 N Powell Pkwy Anna TX United States;X-APPLE-RADIUS=500;X-TITLE=505 N Powell Pkwy:geo:-96.551151,33.3526
END:VEVENT
BEGIN:VEVENT
DTSTART;TZID=America/Chicago:20260516T183000
DTEND;TZID=America/Chicago:20260516T200000
DTSTAMP:20260422T052816
CREATED:20250806T211555Z
LAST-MODIFIED:20260422T101430Z
UID:10002025-1778956200-1778961600@www.gracepointfamilychurch.com
SUMMARY:Young Adults
DESCRIPTION:Group: GPFC Young Adult
URL:https://www.gracepointfamilychurch.com/event/young-adults-10/
LOCATION:Grace Place (Grace Point Family Church)\, 505 N Powell Pkwy\, Anna\, TX\, United States
GEO:33.3526;-96.551151
X-APPLE-STRUCTURED-LOCATION;VALUE=URI;X-ADDRESS=Grace Place (Grace Point Family Church) 505 N Powell Pkwy Anna TX United States;X-APPLE-RADIUS=500;X-TITLE=505 N Powell Pkwy:geo:-96.551151,33.3526
END:VEVENT
BEGIN:VEVENT
DTSTART;TZID=America/Chicago:20260613T190000
DTEND;TZID=America/Chicago:20260613T210000
DTSTAMP:20260422T052816
CREATED:20250716T144400Z
LAST-MODIFIED:20250821T144831Z
UID:10002006-1781377200-1781384400@www.gracepointfamilychurch.com
SUMMARY:Marriage Group -Monthly
DESCRIPTION:Group: Marriage Group \nHosted by: Mike & Michelle Lynn \n2nd Saturday of each month \n7:00-9:00 pm @ Grace Place \n\nVideo Lesson\nTable Talk\nFellowship\n\n \nJoin us as we begin a new video series and learn ways to take our marriages from better to best! You can RSVP to this invite and we will see you soon!
URL:https://www.gracepointfamilychurch.com/event/marriage-group-monthly-15/
LOCATION:Grace Place (Grace Point Family Church)\, 505 N Powell Pkwy\, Anna\, TX\, United States
GEO:33.3526;-96.551151
X-APPLE-STRUCTURED-LOCATION;VALUE=URI;X-ADDRESS=Grace Place (Grace Point Family Church) 505 N Powell Pkwy Anna TX United States;X-APPLE-RADIUS=500;X-TITLE=505 N Powell Pkwy:geo:-96.551151,33.3526
END:VEVENT
BEGIN:VEVENT
DTSTART;TZID=America/Chicago:20260620T183000
DTEND;TZID=America/Chicago:20260620T200000
DTSTAMP:20260422T052816
CREATED:20250806T211558Z
LAST-MODIFIED:20260422T101433Z
UID:10002026-1781980200-1781985600@www.gracepointfamilychurch.com
SUMMARY:Young Adults
DESCRIPTION:Group: GPFC Young Adult
URL:https://www.gracepointfamilychurch.com/event/young-adults-11/
LOCATION:Grace Place (Grace Point Family Church)\, 505 N Powell Pkwy\, Anna\, TX\, United States
GEO:33.3526;-96.551151
X-APPLE-STRUCTURED-LOCATION;VALUE=URI;X-ADDRESS=Grace Place (Grace Point Family Church) 505 N Powell Pkwy Anna TX United States;X-APPLE-RADIUS=500;X-TITLE=505 N Powell Pkwy:geo:-96.551151,33.3526
END:VEVENT
BEGIN:VEVENT
DTSTART;TZID=America/Chicago:20260711T190000
DTEND;TZID=America/Chicago:20260711T210000
DTSTAMP:20260422T052816
CREATED:20250716T144403Z
LAST-MODIFIED:20250821T144833Z
UID:10002007-1783796400-1783803600@www.gracepointfamilychurch.com
SUMMARY:Marriage Group -Monthly
DESCRIPTION:Group: Marriage Group \nHosted by: Mike & Michelle Lynn \n2nd Saturday of each month \n7:00-9:00 pm @ Grace Place \n\nVideo Lesson\nTable Talk\nFellowship\n\n \nJoin us as we begin a new video series and learn ways to take our marriages from better to best! You can RSVP to this invite and we will see you soon!
URL:https://www.gracepointfamilychurch.com/event/marriage-group-monthly-16/
LOCATION:Grace Place (Grace Point Family Church)\, 505 N Powell Pkwy\, Anna\, TX\, United States
GEO:33.3526;-96.551151
X-APPLE-STRUCTURED-LOCATION;VALUE=URI;X-ADDRESS=Grace Place (Grace Point Family Church) 505 N Powell Pkwy Anna TX United States;X-APPLE-RADIUS=500;X-TITLE=505 N Powell Pkwy:geo:-96.551151,33.3526
END:VEVENT
BEGIN:VEVENT
DTSTART;TZID=America/Chicago:20260718T183000
DTEND;TZID=America/Chicago:20260718T200000
DTSTAMP:20260422T052816
CREATED:20250806T211600Z
LAST-MODIFIED:20260422T101436Z
UID:10002027-1784399400-1784404800@www.gracepointfamilychurch.com
SUMMARY:Young Adults
DESCRIPTION:Group: GPFC Young Adult
URL:https://www.gracepointfamilychurch.com/event/young-adults-12/
LOCATION:Grace Place (Grace Point Family Church)\, 505 N Powell Pkwy\, Anna\, TX\, United States
GEO:33.3526;-96.551151
X-APPLE-STRUCTURED-LOCATION;VALUE=URI;X-ADDRESS=Grace Place (Grace Point Family Church) 505 N Powell Pkwy Anna TX United States;X-APPLE-RADIUS=500;X-TITLE=505 N Powell Pkwy:geo:-96.551151,33.3526
END:VEVENT
BEGIN:VEVENT
DTSTART;TZID=America/Chicago:20260808T190000
DTEND;TZID=America/Chicago:20260808T210000
DTSTAMP:20260422T052816
CREATED:20250716T144405Z
LAST-MODIFIED:20250821T144836Z
UID:10002008-1786215600-1786222800@www.gracepointfamilychurch.com
SUMMARY:Marriage Group -Monthly
DESCRIPTION:Group: Marriage Group \nHosted by: Mike & Michelle Lynn \n2nd Saturday of each month \n7:00-9:00 pm @ Grace Place \n\nVideo Lesson\nTable Talk\nFellowship\n\n \nJoin us as we begin a new video series and learn ways to take our marriages from better to best! You can RSVP to this invite and we will see you soon!
URL:https://www.gracepointfamilychurch.com/event/marriage-group-monthly-17/
LOCATION:Grace Place (Grace Point Family Church)\, 505 N Powell Pkwy\, Anna\, TX\, United States
GEO:33.3526;-96.551151
X-APPLE-STRUCTURED-LOCATION;VALUE=URI;X-ADDRESS=Grace Place (Grace Point Family Church) 505 N Powell Pkwy Anna TX United States;X-APPLE-RADIUS=500;X-TITLE=505 N Powell Pkwy:geo:-96.551151,33.3526
END:VEVENT
BEGIN:VEVENT
DTSTART;TZID=America/Chicago:20260815T183000
DTEND;TZID=America/Chicago:20260815T200000
DTSTAMP:20260422T052816
CREATED:20250806T211603Z
LAST-MODIFIED:20260422T101438Z
UID:10002028-1786818600-1786824000@www.gracepointfamilychurch.com
SUMMARY:Young Adults
DESCRIPTION:Group: GPFC Young Adult
URL:https://www.gracepointfamilychurch.com/event/young-adults-13/
LOCATION:Grace Place (Grace Point Family Church)\, 505 N Powell Pkwy\, Anna\, TX\, United States
GEO:33.3526;-96.551151
X-APPLE-STRUCTURED-LOCATION;VALUE=URI;X-ADDRESS=Grace Place (Grace Point Family Church) 505 N Powell Pkwy Anna TX United States;X-APPLE-RADIUS=500;X-TITLE=505 N Powell Pkwy:geo:-96.551151,33.3526
END:VEVENT
BEGIN:VEVENT
DTSTART;TZID=America/Chicago:20260912T190000
DTEND;TZID=America/Chicago:20260912T210000
DTSTAMP:20260422T052816
CREATED:20250716T144408Z
LAST-MODIFIED:20250821T144839Z
UID:10002009-1789239600-1789246800@www.gracepointfamilychurch.com
SUMMARY:Marriage Group -Monthly
DESCRIPTION:Group: Marriage Group \nHosted by: Mike & Michelle Lynn \n2nd Saturday of each month \n7:00-9:00 pm @ Grace Place \n\nVideo Lesson\nTable Talk\nFellowship\n\n \nJoin us as we begin a new video series and learn ways to take our marriages from better to best! You can RSVP to this invite and we will see you soon!
URL:https://www.gracepointfamilychurch.com/event/marriage-group-monthly-18/
LOCATION:Grace Place (Grace Point Family Church)\, 505 N Powell Pkwy\, Anna\, TX\, United States
GEO:33.3526;-96.551151
X-APPLE-STRUCTURED-LOCATION;VALUE=URI;X-ADDRESS=Grace Place (Grace Point Family Church) 505 N Powell Pkwy Anna TX United States;X-APPLE-RADIUS=500;X-TITLE=505 N Powell Pkwy:geo:-96.551151,33.3526
END:VEVENT
BEGIN:VEVENT
DTSTART;TZID=America/Chicago:20260919T183000
DTEND;TZID=America/Chicago:20260919T200000
DTSTAMP:20260422T052816
CREATED:20250806T211606Z
LAST-MODIFIED:20260422T101442Z
UID:10002029-1789842600-1789848000@www.gracepointfamilychurch.com
SUMMARY:Young Adults
DESCRIPTION:Group: GPFC Young Adult
URL:https://www.gracepointfamilychurch.com/event/young-adults-14/
LOCATION:Grace Place (Grace Point Family Church)\, 505 N Powell Pkwy\, Anna\, TX\, United States
GEO:33.3526;-96.551151
X-APPLE-STRUCTURED-LOCATION;VALUE=URI;X-ADDRESS=Grace Place (Grace Point Family Church) 505 N Powell Pkwy Anna TX United States;X-APPLE-RADIUS=500;X-TITLE=505 N Powell Pkwy:geo:-96.551151,33.3526
END:VEVENT
BEGIN:VEVENT
DTSTART;TZID=America/Chicago:20261010T190000
DTEND;TZID=America/Chicago:20261010T210000
DTSTAMP:20260422T052816
CREATED:20250716T144411Z
LAST-MODIFIED:20250821T144841Z
UID:10002010-1791658800-1791666000@www.gracepointfamilychurch.com
SUMMARY:Marriage Group -Monthly
DESCRIPTION:Group: Marriage Group \nHosted by: Mike & Michelle Lynn \n2nd Saturday of each month \n7:00-9:00 pm @ Grace Place \n\nVideo Lesson\nTable Talk\nFellowship\n\n \nJoin us as we begin a new video series and learn ways to take our marriages from better to best! You can RSVP to this invite and we will see you soon!
URL:https://www.gracepointfamilychurch.com/event/marriage-group-monthly-19/
LOCATION:Grace Place (Grace Point Family Church)\, 505 N Powell Pkwy\, Anna\, TX\, United States
GEO:33.3526;-96.551151
X-APPLE-STRUCTURED-LOCATION;VALUE=URI;X-ADDRESS=Grace Place (Grace Point Family Church) 505 N Powell Pkwy Anna TX United States;X-APPLE-RADIUS=500;X-TITLE=505 N Powell Pkwy:geo:-96.551151,33.3526
END:VEVENT
BEGIN:VEVENT
DTSTART;TZID=America/Chicago:20261017T183000
DTEND;TZID=America/Chicago:20261017T200000
DTSTAMP:20260422T052816
CREATED:20250806T211608Z
LAST-MODIFIED:20260422T101445Z
UID:10002030-1792261800-1792267200@www.gracepointfamilychurch.com
SUMMARY:Young Adults
DESCRIPTION:Group: GPFC Young Adult
URL:https://www.gracepointfamilychurch.com/event/young-adults-15/
LOCATION:Grace Place (Grace Point Family Church)\, 505 N Powell Pkwy\, Anna\, TX\, United States
GEO:33.3526;-96.551151
X-APPLE-STRUCTURED-LOCATION;VALUE=URI;X-ADDRESS=Grace Place (Grace Point Family Church) 505 N Powell Pkwy Anna TX United States;X-APPLE-RADIUS=500;X-TITLE=505 N Powell Pkwy:geo:-96.551151,33.3526
END:VEVENT
BEGIN:VEVENT
DTSTART;TZID=America/Chicago:20261114T190000
DTEND;TZID=America/Chicago:20261114T210000
DTSTAMP:20260422T052816
CREATED:20250716T144413Z
LAST-MODIFIED:20250821T144843Z
UID:10002011-1794682800-1794690000@www.gracepointfamilychurch.com
SUMMARY:Marriage Group -Monthly
DESCRIPTION:Group: Marriage Group \nHosted by: Mike & Michelle Lynn \n2nd Saturday of each month \n7:00-9:00 pm @ Grace Place \n\nVideo Lesson\nTable Talk\nFellowship\n\n \nJoin us as we begin a new video series and learn ways to take our marriages from better to best! You can RSVP to this invite and we will see you soon!
URL:https://www.gracepointfamilychurch.com/event/marriage-group-monthly-20/
LOCATION:Grace Place (Grace Point Family Church)\, 505 N Powell Pkwy\, Anna\, TX\, United States
GEO:33.3526;-96.551151
X-APPLE-STRUCTURED-LOCATION;VALUE=URI;X-ADDRESS=Grace Place (Grace Point Family Church) 505 N Powell Pkwy Anna TX United States;X-APPLE-RADIUS=500;X-TITLE=505 N Powell Pkwy:geo:-96.551151,33.3526
END:VEVENT
BEGIN:VEVENT
DTSTART;TZID=America/Chicago:20261121T183000
DTEND;TZID=America/Chicago:20261121T200000
DTSTAMP:20260422T052816
CREATED:20250806T211611Z
LAST-MODIFIED:20260422T101448Z
UID:10002031-1795285800-1795291200@www.gracepointfamilychurch.com
SUMMARY:Young Adults
DESCRIPTION:Group: GPFC Young Adult
URL:https://www.gracepointfamilychurch.com/event/young-adults-16/
LOCATION:Grace Place (Grace Point Family Church)\, 505 N Powell Pkwy\, Anna\, TX\, United States
GEO:33.3526;-96.551151
X-APPLE-STRUCTURED-LOCATION;VALUE=URI;X-ADDRESS=Grace Place (Grace Point Family Church) 505 N Powell Pkwy Anna TX United States;X-APPLE-RADIUS=500;X-TITLE=505 N Powell Pkwy:geo:-96.551151,33.3526
END:VEVENT
BEGIN:VEVENT
DTSTART;TZID=America/Chicago:20261212T190000
DTEND;TZID=America/Chicago:20261212T210000
DTSTAMP:20260422T052816
CREATED:20250716T144415Z
LAST-MODIFIED:20250821T144845Z
UID:10002012-1797102000-1797109200@www.gracepointfamilychurch.com
SUMMARY:Marriage Group -Monthly
DESCRIPTION:Group: Marriage Group \nHosted by: Mike & Michelle Lynn \n2nd Saturday of each month \n7:00-9:00 pm @ Grace Place \n\nVideo Lesson\nTable Talk\nFellowship\n\n \nJoin us as we begin a new video series and learn ways to take our marriages from better to best! You can RSVP to this invite and we will see you soon!
URL:https://www.gracepointfamilychurch.com/event/marriage-group-monthly-21/
LOCATION:Grace Place (Grace Point Family Church)\, 505 N Powell Pkwy\, Anna\, TX\, United States
GEO:33.3526;-96.551151
X-APPLE-STRUCTURED-LOCATION;VALUE=URI;X-ADDRESS=Grace Place (Grace Point Family Church) 505 N Powell Pkwy Anna TX United States;X-APPLE-RADIUS=500;X-TITLE=505 N Powell Pkwy:geo:-96.551151,33.3526
END:VEVENT
BEGIN:VEVENT
DTSTART;TZID=America/Chicago:20261219T183000
DTEND;TZID=America/Chicago:20261219T200000
DTSTAMP:20260422T052816
CREATED:20250806T211614Z
LAST-MODIFIED:20260422T101450Z
UID:10002032-1797705000-1797710400@www.gracepointfamilychurch.com
SUMMARY:Young Adults
DESCRIPTION:Group: GPFC Young Adult
URL:https://www.gracepointfamilychurch.com/event/young-adults-17/
LOCATION:Grace Place (Grace Point Family Church)\, 505 N Powell Pkwy\, Anna\, TX\, United States
GEO:33.3526;-96.551151
X-APPLE-STRUCTURED-LOCATION;VALUE=URI;X-ADDRESS=Grace Place (Grace Point Family Church) 505 N Powell Pkwy Anna TX United States;X-APPLE-RADIUS=500;X-TITLE=505 N Powell Pkwy:geo:-96.551151,33.3526
END:VEVENT
BEGIN:VEVENT
DTSTART;TZID=America/Chicago:20270109T190000
DTEND;TZID=America/Chicago:20270109T210000
DTSTAMP:20260422T052816
CREATED:20250716T144417Z
LAST-MODIFIED:20250821T144847Z
UID:10002013-1799521200-1799528400@www.gracepointfamilychurch.com
SUMMARY:Marriage Group -Monthly
DESCRIPTION:Group: Marriage Group \nHosted by: Mike & Michelle Lynn \n2nd Saturday of each month \n7:00-9:00 pm @ Grace Place \n\nVideo Lesson\nTable Talk\nFellowship\n\n \nJoin us as we begin a new video series and learn ways to take our marriages from better to best! You can RSVP to this invite and we will see you soon!
URL:https://www.gracepointfamilychurch.com/event/marriage-group-monthly-22/
LOCATION:Grace Place (Grace Point Family Church)\, 505 N Powell Pkwy\, Anna\, TX\, United States
GEO:33.3526;-96.551151
X-APPLE-STRUCTURED-LOCATION;VALUE=URI;X-ADDRESS=Grace Place (Grace Point Family Church) 505 N Powell Pkwy Anna TX United States;X-APPLE-RADIUS=500;X-TITLE=505 N Powell Pkwy:geo:-96.551151,33.3526
END:VEVENT
BEGIN:VEVENT
DTSTART;TZID=America/Chicago:20270116T183000
DTEND;TZID=America/Chicago:20270116T200000
DTSTAMP:20260422T052816
CREATED:20250806T211616Z
LAST-MODIFIED:20260422T101453Z
UID:10002033-1800124200-1800129600@www.gracepointfamilychurch.com
SUMMARY:Young Adults
DESCRIPTION:Group: GPFC Young Adult
URL:https://www.gracepointfamilychurch.com/event/young-adults-18/
LOCATION:Grace Place (Grace Point Family Church)\, 505 N Powell Pkwy\, Anna\, TX\, United States
GEO:33.3526;-96.551151
X-APPLE-STRUCTURED-LOCATION;VALUE=URI;X-ADDRESS=Grace Place (Grace Point Family Church) 505 N Powell Pkwy Anna TX United States;X-APPLE-RADIUS=500;X-TITLE=505 N Powell Pkwy:geo:-96.551151,33.3526
END:VEVENT
BEGIN:VEVENT
DTSTART;TZID=America/Chicago:20270213T190000
DTEND;TZID=America/Chicago:20270213T210000
DTSTAMP:20260422T052816
CREATED:20250716T144420Z
LAST-MODIFIED:20250821T144850Z
UID:10002014-1802545200-1802552400@www.gracepointfamilychurch.com
SUMMARY:Marriage Group -Monthly
DESCRIPTION:Group: Marriage Group \nHosted by: Mike & Michelle Lynn \n2nd Saturday of each month \n7:00-9:00 pm @ Grace Place \n\nVideo Lesson\nTable Talk\nFellowship\n\n \nJoin us as we begin a new video series and learn ways to take our marriages from better to best! You can RSVP to this invite and we will see you soon!
URL:https://www.gracepointfamilychurch.com/event/marriage-group-monthly-23/
LOCATION:Grace Place (Grace Point Family Church)\, 505 N Powell Pkwy\, Anna\, TX\, United States
GEO:33.3526;-96.551151
X-APPLE-STRUCTURED-LOCATION;VALUE=URI;X-ADDRESS=Grace Place (Grace Point Family Church) 505 N Powell Pkwy Anna TX United States;X-APPLE-RADIUS=500;X-TITLE=505 N Powell Pkwy:geo:-96.551151,33.3526
END:VEVENT
BEGIN:VEVENT
DTSTART;TZID=America/Chicago:20270220T183000
DTEND;TZID=America/Chicago:20270220T200000
DTSTAMP:20260422T052816
CREATED:20250806T211619Z
LAST-MODIFIED:20260422T101456Z
UID:10002034-1803148200-1803153600@www.gracepointfamilychurch.com
SUMMARY:Young Adults
DESCRIPTION:Group: GPFC Young Adult
URL:https://www.gracepointfamilychurch.com/event/young-adults-19/
LOCATION:Grace Place (Grace Point Family Church)\, 505 N Powell Pkwy\, Anna\, TX\, United States
GEO:33.3526;-96.551151
X-APPLE-STRUCTURED-LOCATION;VALUE=URI;X-ADDRESS=Grace Place (Grace Point Family Church) 505 N Powell Pkwy Anna TX United States;X-APPLE-RADIUS=500;X-TITLE=505 N Powell Pkwy:geo:-96.551151,33.3526
END:VEVENT
BEGIN:VEVENT
DTSTART;TZID=America/Chicago:20270313T190000
DTEND;TZID=America/Chicago:20270313T210000
DTSTAMP:20260422T052816
CREATED:20250716T144422Z
LAST-MODIFIED:20250821T144852Z
UID:10002015-1804964400-1804971600@www.gracepointfamilychurch.com
SUMMARY:Marriage Group -Monthly
DESCRIPTION:Group: Marriage Group \nHosted by: Mike & Michelle Lynn \n2nd Saturday of each month \n7:00-9:00 pm @ Grace Place \n\nVideo Lesson\nTable Talk\nFellowship\n\n \nJoin us as we begin a new video series and learn ways to take our marriages from better to best! You can RSVP to this invite and we will see you soon!
URL:https://www.gracepointfamilychurch.com/event/marriage-group-monthly-24/
LOCATION:Grace Place (Grace Point Family Church)\, 505 N Powell Pkwy\, Anna\, TX\, United States
GEO:33.3526;-96.551151
X-APPLE-STRUCTURED-LOCATION;VALUE=URI;X-ADDRESS=Grace Place (Grace Point Family Church) 505 N Powell Pkwy Anna TX United States;X-APPLE-RADIUS=500;X-TITLE=505 N Powell Pkwy:geo:-96.551151,33.3526
END:VEVENT
BEGIN:VEVENT
DTSTART;TZID=America/Chicago:20270320T183000
DTEND;TZID=America/Chicago:20270320T200000
DTSTAMP:20260422T052816
CREATED:20250806T211623Z
LAST-MODIFIED:20260422T101458Z
UID:10002035-1805567400-1805572800@www.gracepointfamilychurch.com
SUMMARY:Young Adults
DESCRIPTION:Group: GPFC Young Adult
URL:https://www.gracepointfamilychurch.com/event/young-adults-20/
LOCATION:Grace Place (Grace Point Family Church)\, 505 N Powell Pkwy\, Anna\, TX\, United States
GEO:33.3526;-96.551151
X-APPLE-STRUCTURED-LOCATION;VALUE=URI;X-ADDRESS=Grace Place (Grace Point Family Church) 505 N Powell Pkwy Anna TX United States;X-APPLE-RADIUS=500;X-TITLE=505 N Powell Pkwy:geo:-96.551151,33.3526
END:VEVENT
END:VCALENDAR