BEGIN:VCALENDAR
VERSION:2.0
PRODID:-//Grace Point Family Church - ECPv6.15.20//NONSGML v1.0//EN
CALSCALE:GREGORIAN
METHOD:PUBLISH
X-WR-CALNAME:Grace Point Family Church
X-ORIGINAL-URL:https://www.gracepointfamilychurch.com
X-WR-CALDESC:Events for Grace Point Family Church
REFRESH-INTERVAL;VALUE=DURATION:PT1H
X-Robots-Tag:noindex
X-PUBLISHED-TTL:PT1H
BEGIN:VTIMEZONE
TZID:America/Chicago
BEGIN:DAYLIGHT
TZOFFSETFROM:-0600
TZOFFSETTO:-0500
TZNAME:CDT
DTSTART:20240310T080000
END:DAYLIGHT
BEGIN:STANDARD
TZOFFSETFROM:-0500
TZOFFSETTO:-0600
TZNAME:CST
DTSTART:20241103T070000
END:STANDARD
BEGIN:DAYLIGHT
TZOFFSETFROM:-0600
TZOFFSETTO:-0500
TZNAME:CDT
DTSTART:20250309T080000
END:DAYLIGHT
BEGIN:STANDARD
TZOFFSETFROM:-0500
TZOFFSETTO:-0600
TZNAME:CST
DTSTART:20251102T070000
END:STANDARD
BEGIN:DAYLIGHT
TZOFFSETFROM:-0600
TZOFFSETTO:-0500
TZNAME:CDT
DTSTART:20260308T080000
END:DAYLIGHT
BEGIN:STANDARD
TZOFFSETFROM:-0500
TZOFFSETTO:-0600
TZNAME:CST
DTSTART:20261101T070000
END:STANDARD
BEGIN:DAYLIGHT
TZOFFSETFROM:-0600
TZOFFSETTO:-0500
TZNAME:CDT
DTSTART:20270314T080000
END:DAYLIGHT
BEGIN:STANDARD
TZOFFSETFROM:-0500
TZOFFSETTO:-0600
TZNAME:CST
DTSTART:20271107T070000
END:STANDARD
END:VTIMEZONE
BEGIN:VEVENT
DTSTART;TZID=America/Chicago:20260207T090000
DTEND;TZID=America/Chicago:20260207T120000
DTSTAMP:20260420T040439
CREATED:20250612T170309Z
LAST-MODIFIED:20260420T085847Z
UID:10001604-1770454800-1770465600@www.gracepointfamilychurch.com
SUMMARY:Food Pantry Open (SAT)
DESCRIPTION:Group: Grace Place Food Pantry
URL:https://www.gracepointfamilychurch.com/event/food-pantry-open-sat-45/
LOCATION:Grace Place – Food Pantry\, 505 N Powell Pkwy\, Anna\, TX\, United States
GEO:33.3526;-96.551151
X-APPLE-STRUCTURED-LOCATION;VALUE=URI;X-ADDRESS=Grace Place – Food Pantry 505 N Powell Pkwy Anna TX United States;X-APPLE-RADIUS=500;X-TITLE=505 N Powell Pkwy:geo:-96.551151,33.3526
END:VEVENT
BEGIN:VEVENT
DTSTART;TZID=America/Chicago:20260204T160000
DTEND;TZID=America/Chicago:20260204T180000
DTSTAMP:20260420T040439
CREATED:20250612T170309Z
LAST-MODIFIED:20260420T085847Z
UID:10001601-1770220800-1770228000@www.gracepointfamilychurch.com
SUMMARY:Food Pantry Open (WED)
DESCRIPTION:Group: Grace Place Food Pantry
URL:https://www.gracepointfamilychurch.com/event/food-pantry-open-wed-45/
LOCATION:Grace Place – Food Pantry\, 505 N Powell Pkwy\, Anna\, TX\, United States
GEO:33.3526;-96.551151
X-APPLE-STRUCTURED-LOCATION;VALUE=URI;X-ADDRESS=Grace Place – Food Pantry 505 N Powell Pkwy Anna TX United States;X-APPLE-RADIUS=500;X-TITLE=505 N Powell Pkwy:geo:-96.551151,33.3526
END:VEVENT
BEGIN:VEVENT
DTSTART;TZID=America/Chicago:20260202T160000
DTEND;TZID=America/Chicago:20260202T180000
DTSTAMP:20260420T040439
CREATED:20250612T170308Z
LAST-MODIFIED:20260420T085847Z
UID:10001600-1770048000-1770055200@www.gracepointfamilychurch.com
SUMMARY:Food Pantry Open (MON)
DESCRIPTION:Group: Grace Place Food Pantry
URL:https://www.gracepointfamilychurch.com/event/food-pantry-open-mon-44/
LOCATION:Grace Place – Food Pantry\, 505 N Powell Pkwy\, Anna\, TX\, United States
GEO:33.3526;-96.551151
X-APPLE-STRUCTURED-LOCATION;VALUE=URI;X-ADDRESS=Grace Place – Food Pantry 505 N Powell Pkwy Anna TX United States;X-APPLE-RADIUS=500;X-TITLE=505 N Powell Pkwy:geo:-96.551151,33.3526
END:VEVENT
BEGIN:VEVENT
DTSTART;TZID=America/Chicago:20260131T090000
DTEND;TZID=America/Chicago:20260131T120000
DTSTAMP:20260420T040439
CREATED:20250612T170308Z
LAST-MODIFIED:20260420T085846Z
UID:10001597-1769850000-1769860800@www.gracepointfamilychurch.com
SUMMARY:Food Pantry Open (SAT)
DESCRIPTION:Group: Grace Place Food Pantry
URL:https://www.gracepointfamilychurch.com/event/food-pantry-open-sat-44/
LOCATION:Grace Place – Food Pantry\, 505 N Powell Pkwy\, Anna\, TX\, United States
GEO:33.3526;-96.551151
X-APPLE-STRUCTURED-LOCATION;VALUE=URI;X-ADDRESS=Grace Place – Food Pantry 505 N Powell Pkwy Anna TX United States;X-APPLE-RADIUS=500;X-TITLE=505 N Powell Pkwy:geo:-96.551151,33.3526
END:VEVENT
BEGIN:VEVENT
DTSTART;TZID=America/Chicago:20260128T160000
DTEND;TZID=America/Chicago:20260128T180000
DTSTAMP:20260420T040439
CREATED:20250612T170308Z
LAST-MODIFIED:20260420T085846Z
UID:10001594-1769616000-1769623200@www.gracepointfamilychurch.com
SUMMARY:Food Pantry Open (WED)
DESCRIPTION:Group: Grace Place Food Pantry
URL:https://www.gracepointfamilychurch.com/event/food-pantry-open-wed-44/
LOCATION:Grace Place – Food Pantry\, 505 N Powell Pkwy\, Anna\, TX\, United States
GEO:33.3526;-96.551151
X-APPLE-STRUCTURED-LOCATION;VALUE=URI;X-ADDRESS=Grace Place – Food Pantry 505 N Powell Pkwy Anna TX United States;X-APPLE-RADIUS=500;X-TITLE=505 N Powell Pkwy:geo:-96.551151,33.3526
END:VEVENT
BEGIN:VEVENT
DTSTART;TZID=America/Chicago:20260126T160000
DTEND;TZID=America/Chicago:20260126T180000
DTSTAMP:20260420T040439
CREATED:20250612T170307Z
LAST-MODIFIED:20260420T085846Z
UID:10001593-1769443200-1769450400@www.gracepointfamilychurch.com
SUMMARY:Food Pantry Open (MON)
DESCRIPTION:Group: Grace Place Food Pantry
URL:https://www.gracepointfamilychurch.com/event/food-pantry-open-mon-43/
LOCATION:Grace Place – Food Pantry\, 505 N Powell Pkwy\, Anna\, TX\, United States
GEO:33.3526;-96.551151
X-APPLE-STRUCTURED-LOCATION;VALUE=URI;X-ADDRESS=Grace Place – Food Pantry 505 N Powell Pkwy Anna TX United States;X-APPLE-RADIUS=500;X-TITLE=505 N Powell Pkwy:geo:-96.551151,33.3526
END:VEVENT
BEGIN:VEVENT
DTSTART;TZID=America/Chicago:20260124T090000
DTEND;TZID=America/Chicago:20260124T120000
DTSTAMP:20260420T040439
CREATED:20250612T170307Z
LAST-MODIFIED:20260420T085846Z
UID:10001591-1769245200-1769256000@www.gracepointfamilychurch.com
SUMMARY:Food Pantry Open (SAT)
DESCRIPTION:Group: Grace Place Food Pantry
URL:https://www.gracepointfamilychurch.com/event/food-pantry-open-sat-43/
LOCATION:Grace Place – Food Pantry\, 505 N Powell Pkwy\, Anna\, TX\, United States
GEO:33.3526;-96.551151
X-APPLE-STRUCTURED-LOCATION;VALUE=URI;X-ADDRESS=Grace Place – Food Pantry 505 N Powell Pkwy Anna TX United States;X-APPLE-RADIUS=500;X-TITLE=505 N Powell Pkwy:geo:-96.551151,33.3526
END:VEVENT
BEGIN:VEVENT
DTSTART;TZID=America/Chicago:20260121T160000
DTEND;TZID=America/Chicago:20260121T180000
DTSTAMP:20260420T040439
CREATED:20250612T170307Z
LAST-MODIFIED:20260420T085846Z
UID:10001588-1769011200-1769018400@www.gracepointfamilychurch.com
SUMMARY:Food Pantry Open (WED)
DESCRIPTION:Group: Grace Place Food Pantry
URL:https://www.gracepointfamilychurch.com/event/food-pantry-open-wed-43/
LOCATION:Grace Place – Food Pantry\, 505 N Powell Pkwy\, Anna\, TX\, United States
GEO:33.3526;-96.551151
X-APPLE-STRUCTURED-LOCATION;VALUE=URI;X-ADDRESS=Grace Place – Food Pantry 505 N Powell Pkwy Anna TX United States;X-APPLE-RADIUS=500;X-TITLE=505 N Powell Pkwy:geo:-96.551151,33.3526
END:VEVENT
BEGIN:VEVENT
DTSTART;TZID=America/Chicago:20260119T160000
DTEND;TZID=America/Chicago:20260119T180000
DTSTAMP:20260420T040439
CREATED:20250612T170307Z
LAST-MODIFIED:20260420T085845Z
UID:10001587-1768838400-1768845600@www.gracepointfamilychurch.com
SUMMARY:Food Pantry Open (MON)
DESCRIPTION:Group: Grace Place Food Pantry
URL:https://www.gracepointfamilychurch.com/event/food-pantry-open-mon-42/
LOCATION:Grace Place – Food Pantry\, 505 N Powell Pkwy\, Anna\, TX\, United States
GEO:33.3526;-96.551151
X-APPLE-STRUCTURED-LOCATION;VALUE=URI;X-ADDRESS=Grace Place – Food Pantry 505 N Powell Pkwy Anna TX United States;X-APPLE-RADIUS=500;X-TITLE=505 N Powell Pkwy:geo:-96.551151,33.3526
END:VEVENT
BEGIN:VEVENT
DTSTART;TZID=America/Chicago:20260117T090000
DTEND;TZID=America/Chicago:20260117T120000
DTSTAMP:20260420T040439
CREATED:20250612T170306Z
LAST-MODIFIED:20260420T085845Z
UID:10001585-1768640400-1768651200@www.gracepointfamilychurch.com
SUMMARY:Food Pantry Open (SAT)
DESCRIPTION:Group: Grace Place Food Pantry
URL:https://www.gracepointfamilychurch.com/event/food-pantry-open-sat-42/
LOCATION:Grace Place – Food Pantry\, 505 N Powell Pkwy\, Anna\, TX\, United States
GEO:33.3526;-96.551151
X-APPLE-STRUCTURED-LOCATION;VALUE=URI;X-ADDRESS=Grace Place – Food Pantry 505 N Powell Pkwy Anna TX United States;X-APPLE-RADIUS=500;X-TITLE=505 N Powell Pkwy:geo:-96.551151,33.3526
END:VEVENT
BEGIN:VEVENT
DTSTART;TZID=America/Chicago:20260114T160000
DTEND;TZID=America/Chicago:20260114T180000
DTSTAMP:20260420T040439
CREATED:20250612T170306Z
LAST-MODIFIED:20260420T085845Z
UID:10001581-1768406400-1768413600@www.gracepointfamilychurch.com
SUMMARY:Food Pantry Open (WED)
DESCRIPTION:Group: Grace Place Food Pantry
URL:https://www.gracepointfamilychurch.com/event/food-pantry-open-wed-42/
LOCATION:Grace Place – Food Pantry\, 505 N Powell Pkwy\, Anna\, TX\, United States
GEO:33.3526;-96.551151
X-APPLE-STRUCTURED-LOCATION;VALUE=URI;X-ADDRESS=Grace Place – Food Pantry 505 N Powell Pkwy Anna TX United States;X-APPLE-RADIUS=500;X-TITLE=505 N Powell Pkwy:geo:-96.551151,33.3526
END:VEVENT
BEGIN:VEVENT
DTSTART;TZID=America/Chicago:20260112T160000
DTEND;TZID=America/Chicago:20260112T180000
DTSTAMP:20260420T040439
CREATED:20250612T170306Z
LAST-MODIFIED:20260420T085845Z
UID:10001580-1768233600-1768240800@www.gracepointfamilychurch.com
SUMMARY:Food Pantry Open (MON)
DESCRIPTION:Group: Grace Place Food Pantry
URL:https://www.gracepointfamilychurch.com/event/food-pantry-open-mon-41/
LOCATION:Grace Place – Food Pantry\, 505 N Powell Pkwy\, Anna\, TX\, United States
GEO:33.3526;-96.551151
X-APPLE-STRUCTURED-LOCATION;VALUE=URI;X-ADDRESS=Grace Place – Food Pantry 505 N Powell Pkwy Anna TX United States;X-APPLE-RADIUS=500;X-TITLE=505 N Powell Pkwy:geo:-96.551151,33.3526
END:VEVENT
BEGIN:VEVENT
DTSTART;TZID=America/Chicago:20260110T090000
DTEND;TZID=America/Chicago:20260110T120000
DTSTAMP:20260420T040439
CREATED:20250612T170306Z
LAST-MODIFIED:20260420T085845Z
UID:10001578-1768035600-1768046400@www.gracepointfamilychurch.com
SUMMARY:Food Pantry Open (SAT)
DESCRIPTION:Group: Grace Place Food Pantry
URL:https://www.gracepointfamilychurch.com/event/food-pantry-open-sat-41/
LOCATION:Grace Place – Food Pantry\, 505 N Powell Pkwy\, Anna\, TX\, United States
GEO:33.3526;-96.551151
X-APPLE-STRUCTURED-LOCATION;VALUE=URI;X-ADDRESS=Grace Place – Food Pantry 505 N Powell Pkwy Anna TX United States;X-APPLE-RADIUS=500;X-TITLE=505 N Powell Pkwy:geo:-96.551151,33.3526
END:VEVENT
BEGIN:VEVENT
DTSTART;TZID=America/Chicago:20260107T160000
DTEND;TZID=America/Chicago:20260107T180000
DTSTAMP:20260420T040439
CREATED:20250612T170305Z
LAST-MODIFIED:20260420T085844Z
UID:10001575-1767801600-1767808800@www.gracepointfamilychurch.com
SUMMARY:Food Pantry Open (WED)
DESCRIPTION:Group: Grace Place Food Pantry
URL:https://www.gracepointfamilychurch.com/event/food-pantry-open-wed-41/
LOCATION:Grace Place – Food Pantry\, 505 N Powell Pkwy\, Anna\, TX\, United States
GEO:33.3526;-96.551151
X-APPLE-STRUCTURED-LOCATION;VALUE=URI;X-ADDRESS=Grace Place – Food Pantry 505 N Powell Pkwy Anna TX United States;X-APPLE-RADIUS=500;X-TITLE=505 N Powell Pkwy:geo:-96.551151,33.3526
END:VEVENT
BEGIN:VEVENT
DTSTART;TZID=America/Chicago:20260105T160000
DTEND;TZID=America/Chicago:20260105T180000
DTSTAMP:20260420T040439
CREATED:20250612T170305Z
LAST-MODIFIED:20260420T085844Z
UID:10001574-1767628800-1767636000@www.gracepointfamilychurch.com
SUMMARY:Food Pantry Open (MON)
DESCRIPTION:Group: Grace Place Food Pantry
URL:https://www.gracepointfamilychurch.com/event/food-pantry-open-mon-40/
LOCATION:Grace Place – Food Pantry\, 505 N Powell Pkwy\, Anna\, TX\, United States
GEO:33.3526;-96.551151
X-APPLE-STRUCTURED-LOCATION;VALUE=URI;X-ADDRESS=Grace Place – Food Pantry 505 N Powell Pkwy Anna TX United States;X-APPLE-RADIUS=500;X-TITLE=505 N Powell Pkwy:geo:-96.551151,33.3526
END:VEVENT
BEGIN:VEVENT
DTSTART;TZID=America/Chicago:20260103T090000
DTEND;TZID=America/Chicago:20260103T120000
DTSTAMP:20260420T040439
CREATED:20250612T170305Z
LAST-MODIFIED:20260420T085844Z
UID:10001571-1767430800-1767441600@www.gracepointfamilychurch.com
SUMMARY:Food Pantry Open (SAT)
DESCRIPTION:Group: Grace Place Food Pantry
URL:https://www.gracepointfamilychurch.com/event/food-pantry-open-sat-40/
LOCATION:Grace Place – Food Pantry\, 505 N Powell Pkwy\, Anna\, TX\, United States
GEO:33.3526;-96.551151
X-APPLE-STRUCTURED-LOCATION;VALUE=URI;X-ADDRESS=Grace Place – Food Pantry 505 N Powell Pkwy Anna TX United States;X-APPLE-RADIUS=500;X-TITLE=505 N Powell Pkwy:geo:-96.551151,33.3526
END:VEVENT
BEGIN:VEVENT
DTSTART;TZID=America/Chicago:20251231T160000
DTEND;TZID=America/Chicago:20251231T180000
DTSTAMP:20260420T040439
CREATED:20250612T170304Z
LAST-MODIFIED:20260420T085844Z
UID:10001568-1767196800-1767204000@www.gracepointfamilychurch.com
SUMMARY:Food Pantry Open (WED)
DESCRIPTION:Group: Grace Place Food Pantry
URL:https://www.gracepointfamilychurch.com/event/food-pantry-open-wed-40/
LOCATION:Grace Place – Food Pantry\, 505 N Powell Pkwy\, Anna\, TX\, United States
GEO:33.3526;-96.551151
X-APPLE-STRUCTURED-LOCATION;VALUE=URI;X-ADDRESS=Grace Place – Food Pantry 505 N Powell Pkwy Anna TX United States;X-APPLE-RADIUS=500;X-TITLE=505 N Powell Pkwy:geo:-96.551151,33.3526
END:VEVENT
BEGIN:VEVENT
DTSTART;TZID=America/Chicago:20251229T160000
DTEND;TZID=America/Chicago:20251229T180000
DTSTAMP:20260420T040439
CREATED:20250612T170304Z
LAST-MODIFIED:20260420T085843Z
UID:10001567-1767024000-1767031200@www.gracepointfamilychurch.com
SUMMARY:Food Pantry Open (MON)
DESCRIPTION:Group: Grace Place Food Pantry
URL:https://www.gracepointfamilychurch.com/event/food-pantry-open-mon-39/
LOCATION:Grace Place – Food Pantry\, 505 N Powell Pkwy\, Anna\, TX\, United States
GEO:33.3526;-96.551151
X-APPLE-STRUCTURED-LOCATION;VALUE=URI;X-ADDRESS=Grace Place – Food Pantry 505 N Powell Pkwy Anna TX United States;X-APPLE-RADIUS=500;X-TITLE=505 N Powell Pkwy:geo:-96.551151,33.3526
END:VEVENT
BEGIN:VEVENT
DTSTART;TZID=America/Chicago:20251227T090000
DTEND;TZID=America/Chicago:20251227T120000
DTSTAMP:20260420T040439
CREATED:20250612T170304Z
LAST-MODIFIED:20260420T085843Z
UID:10001565-1766826000-1766836800@www.gracepointfamilychurch.com
SUMMARY:Food Pantry Open (SAT)
DESCRIPTION:Group: Grace Place Food Pantry
URL:https://www.gracepointfamilychurch.com/event/food-pantry-open-sat-39/
LOCATION:Grace Place – Food Pantry\, 505 N Powell Pkwy\, Anna\, TX\, United States
GEO:33.3526;-96.551151
X-APPLE-STRUCTURED-LOCATION;VALUE=URI;X-ADDRESS=Grace Place – Food Pantry 505 N Powell Pkwy Anna TX United States;X-APPLE-RADIUS=500;X-TITLE=505 N Powell Pkwy:geo:-96.551151,33.3526
END:VEVENT
BEGIN:VEVENT
DTSTART;TZID=America/Chicago:20251224T160000
DTEND;TZID=America/Chicago:20251224T180000
DTSTAMP:20260420T040439
CREATED:20250612T170304Z
LAST-MODIFIED:20260420T085843Z
UID:10001562-1766592000-1766599200@www.gracepointfamilychurch.com
SUMMARY:Food Pantry Open (WED)
DESCRIPTION:Group: Grace Place Food Pantry
URL:https://www.gracepointfamilychurch.com/event/food-pantry-open-wed-39/
LOCATION:Grace Place – Food Pantry\, 505 N Powell Pkwy\, Anna\, TX\, United States
GEO:33.3526;-96.551151
X-APPLE-STRUCTURED-LOCATION;VALUE=URI;X-ADDRESS=Grace Place – Food Pantry 505 N Powell Pkwy Anna TX United States;X-APPLE-RADIUS=500;X-TITLE=505 N Powell Pkwy:geo:-96.551151,33.3526
END:VEVENT
BEGIN:VEVENT
DTSTART;TZID=America/Chicago:20251222T160000
DTEND;TZID=America/Chicago:20251222T180000
DTSTAMP:20260420T040439
CREATED:20250612T170303Z
LAST-MODIFIED:20260420T085843Z
UID:10001561-1766419200-1766426400@www.gracepointfamilychurch.com
SUMMARY:Food Pantry Open (MON)
DESCRIPTION:Group: Grace Place Food Pantry
URL:https://www.gracepointfamilychurch.com/event/food-pantry-open-mon-38/
LOCATION:Grace Place – Food Pantry\, 505 N Powell Pkwy\, Anna\, TX\, United States
GEO:33.3526;-96.551151
X-APPLE-STRUCTURED-LOCATION;VALUE=URI;X-ADDRESS=Grace Place – Food Pantry 505 N Powell Pkwy Anna TX United States;X-APPLE-RADIUS=500;X-TITLE=505 N Powell Pkwy:geo:-96.551151,33.3526
END:VEVENT
BEGIN:VEVENT
DTSTART;TZID=America/Chicago:20251220T090000
DTEND;TZID=America/Chicago:20251220T120000
DTSTAMP:20260420T040439
CREATED:20250612T170303Z
LAST-MODIFIED:20260420T085843Z
UID:10001559-1766221200-1766232000@www.gracepointfamilychurch.com
SUMMARY:Food Pantry Open (SAT)
DESCRIPTION:Group: Grace Place Food Pantry
URL:https://www.gracepointfamilychurch.com/event/food-pantry-open-sat-38/
LOCATION:Grace Place – Food Pantry\, 505 N Powell Pkwy\, Anna\, TX\, United States
GEO:33.3526;-96.551151
X-APPLE-STRUCTURED-LOCATION;VALUE=URI;X-ADDRESS=Grace Place – Food Pantry 505 N Powell Pkwy Anna TX United States;X-APPLE-RADIUS=500;X-TITLE=505 N Powell Pkwy:geo:-96.551151,33.3526
END:VEVENT
BEGIN:VEVENT
DTSTART;TZID=America/Chicago:20251217T160000
DTEND;TZID=America/Chicago:20251217T180000
DTSTAMP:20260420T040439
CREATED:20250612T170303Z
LAST-MODIFIED:20260420T085842Z
UID:10001555-1765987200-1765994400@www.gracepointfamilychurch.com
SUMMARY:Food Pantry Open (WED)
DESCRIPTION:Group: Grace Place Food Pantry
URL:https://www.gracepointfamilychurch.com/event/food-pantry-open-wed-38/
LOCATION:Grace Place – Food Pantry\, 505 N Powell Pkwy\, Anna\, TX\, United States
GEO:33.3526;-96.551151
X-APPLE-STRUCTURED-LOCATION;VALUE=URI;X-ADDRESS=Grace Place – Food Pantry 505 N Powell Pkwy Anna TX United States;X-APPLE-RADIUS=500;X-TITLE=505 N Powell Pkwy:geo:-96.551151,33.3526
END:VEVENT
BEGIN:VEVENT
DTSTART;TZID=America/Chicago:20251215T160000
DTEND;TZID=America/Chicago:20251215T180000
DTSTAMP:20260420T040439
CREATED:20250612T170303Z
LAST-MODIFIED:20260420T085842Z
UID:10001554-1765814400-1765821600@www.gracepointfamilychurch.com
SUMMARY:Food Pantry Open (MON)
DESCRIPTION:Group: Grace Place Food Pantry
URL:https://www.gracepointfamilychurch.com/event/food-pantry-open-mon-37/
LOCATION:Grace Place – Food Pantry\, 505 N Powell Pkwy\, Anna\, TX\, United States
GEO:33.3526;-96.551151
X-APPLE-STRUCTURED-LOCATION;VALUE=URI;X-ADDRESS=Grace Place – Food Pantry 505 N Powell Pkwy Anna TX United States;X-APPLE-RADIUS=500;X-TITLE=505 N Powell Pkwy:geo:-96.551151,33.3526
END:VEVENT
BEGIN:VEVENT
DTSTART;TZID=America/Chicago:20251213T090000
DTEND;TZID=America/Chicago:20251213T120000
DTSTAMP:20260420T040439
CREATED:20250612T170302Z
LAST-MODIFIED:20260420T085842Z
UID:10001552-1765616400-1765627200@www.gracepointfamilychurch.com
SUMMARY:Food Pantry Open (SAT)
DESCRIPTION:Group: Grace Place Food Pantry
URL:https://www.gracepointfamilychurch.com/event/food-pantry-open-sat-37/
LOCATION:Grace Place – Food Pantry\, 505 N Powell Pkwy\, Anna\, TX\, United States
GEO:33.3526;-96.551151
X-APPLE-STRUCTURED-LOCATION;VALUE=URI;X-ADDRESS=Grace Place – Food Pantry 505 N Powell Pkwy Anna TX United States;X-APPLE-RADIUS=500;X-TITLE=505 N Powell Pkwy:geo:-96.551151,33.3526
END:VEVENT
BEGIN:VEVENT
DTSTART;TZID=America/Chicago:20251210T160000
DTEND;TZID=America/Chicago:20251210T180000
DTSTAMP:20260420T040439
CREATED:20250612T170302Z
LAST-MODIFIED:20260420T085841Z
UID:10001549-1765382400-1765389600@www.gracepointfamilychurch.com
SUMMARY:Food Pantry Open (WED)
DESCRIPTION:Group: Grace Place Food Pantry
URL:https://www.gracepointfamilychurch.com/event/food-pantry-open-wed-37/
LOCATION:Grace Place – Food Pantry\, 505 N Powell Pkwy\, Anna\, TX\, United States
GEO:33.3526;-96.551151
X-APPLE-STRUCTURED-LOCATION;VALUE=URI;X-ADDRESS=Grace Place – Food Pantry 505 N Powell Pkwy Anna TX United States;X-APPLE-RADIUS=500;X-TITLE=505 N Powell Pkwy:geo:-96.551151,33.3526
END:VEVENT
BEGIN:VEVENT
DTSTART;TZID=America/Chicago:20251208T160000
DTEND;TZID=America/Chicago:20251208T180000
DTSTAMP:20260420T040439
CREATED:20250612T170302Z
LAST-MODIFIED:20260420T085841Z
UID:10001548-1765209600-1765216800@www.gracepointfamilychurch.com
SUMMARY:Food Pantry Open (MON)
DESCRIPTION:Group: Grace Place Food Pantry
URL:https://www.gracepointfamilychurch.com/event/food-pantry-open-mon-36/
LOCATION:Grace Place – Food Pantry\, 505 N Powell Pkwy\, Anna\, TX\, United States
GEO:33.3526;-96.551151
X-APPLE-STRUCTURED-LOCATION;VALUE=URI;X-ADDRESS=Grace Place – Food Pantry 505 N Powell Pkwy Anna TX United States;X-APPLE-RADIUS=500;X-TITLE=505 N Powell Pkwy:geo:-96.551151,33.3526
END:VEVENT
BEGIN:VEVENT
DTSTART;TZID=America/Chicago:20251206T090000
DTEND;TZID=America/Chicago:20251206T120000
DTSTAMP:20260420T040439
CREATED:20250612T170301Z
LAST-MODIFIED:20260420T085841Z
UID:10001545-1765011600-1765022400@www.gracepointfamilychurch.com
SUMMARY:Food Pantry Open (SAT)
DESCRIPTION:Group: Grace Place Food Pantry
URL:https://www.gracepointfamilychurch.com/event/food-pantry-open-sat-36/
LOCATION:Grace Place – Food Pantry\, 505 N Powell Pkwy\, Anna\, TX\, United States
GEO:33.3526;-96.551151
X-APPLE-STRUCTURED-LOCATION;VALUE=URI;X-ADDRESS=Grace Place – Food Pantry 505 N Powell Pkwy Anna TX United States;X-APPLE-RADIUS=500;X-TITLE=505 N Powell Pkwy:geo:-96.551151,33.3526
END:VEVENT
BEGIN:VEVENT
DTSTART;TZID=America/Chicago:20251203T160000
DTEND;TZID=America/Chicago:20251203T180000
DTSTAMP:20260420T040439
CREATED:20250612T170301Z
LAST-MODIFIED:20260420T085841Z
UID:10001542-1764777600-1764784800@www.gracepointfamilychurch.com
SUMMARY:Food Pantry Open (WED)
DESCRIPTION:Group: Grace Place Food Pantry
URL:https://www.gracepointfamilychurch.com/event/food-pantry-open-wed-36/
LOCATION:Grace Place – Food Pantry\, 505 N Powell Pkwy\, Anna\, TX\, United States
GEO:33.3526;-96.551151
X-APPLE-STRUCTURED-LOCATION;VALUE=URI;X-ADDRESS=Grace Place – Food Pantry 505 N Powell Pkwy Anna TX United States;X-APPLE-RADIUS=500;X-TITLE=505 N Powell Pkwy:geo:-96.551151,33.3526
END:VEVENT
BEGIN:VEVENT
DTSTART;TZID=America/Chicago:20251201T160000
DTEND;TZID=America/Chicago:20251201T180000
DTSTAMP:20260420T040439
CREATED:20250612T170301Z
LAST-MODIFIED:20260420T085840Z
UID:10001541-1764604800-1764612000@www.gracepointfamilychurch.com
SUMMARY:Food Pantry Open (MON)
DESCRIPTION:Group: Grace Place Food Pantry
URL:https://www.gracepointfamilychurch.com/event/food-pantry-open-mon-35/
LOCATION:Grace Place – Food Pantry\, 505 N Powell Pkwy\, Anna\, TX\, United States
GEO:33.3526;-96.551151
X-APPLE-STRUCTURED-LOCATION;VALUE=URI;X-ADDRESS=Grace Place – Food Pantry 505 N Powell Pkwy Anna TX United States;X-APPLE-RADIUS=500;X-TITLE=505 N Powell Pkwy:geo:-96.551151,33.3526
END:VEVENT
END:VCALENDAR