BEGIN:VCALENDAR
VERSION:2.0
PRODID:-//Grace Point Family Church - ECPv6.15.20//NONSGML v1.0//EN
CALSCALE:GREGORIAN
METHOD:PUBLISH
X-ORIGINAL-URL:https://www.gracepointfamilychurch.com
X-WR-CALDESC:Events for Grace Point Family Church
REFRESH-INTERVAL;VALUE=DURATION:PT1H
X-Robots-Tag:noindex
X-PUBLISHED-TTL:PT1H
BEGIN:VTIMEZONE
TZID:America/Chicago
BEGIN:DAYLIGHT
TZOFFSETFROM:-0600
TZOFFSETTO:-0500
TZNAME:CDT
DTSTART:20240310T080000
END:DAYLIGHT
BEGIN:STANDARD
TZOFFSETFROM:-0500
TZOFFSETTO:-0600
TZNAME:CST
DTSTART:20241103T070000
END:STANDARD
BEGIN:DAYLIGHT
TZOFFSETFROM:-0600
TZOFFSETTO:-0500
TZNAME:CDT
DTSTART:20250309T080000
END:DAYLIGHT
BEGIN:STANDARD
TZOFFSETFROM:-0500
TZOFFSETTO:-0600
TZNAME:CST
DTSTART:20251102T070000
END:STANDARD
BEGIN:DAYLIGHT
TZOFFSETFROM:-0600
TZOFFSETTO:-0500
TZNAME:CDT
DTSTART:20260308T080000
END:DAYLIGHT
BEGIN:STANDARD
TZOFFSETFROM:-0500
TZOFFSETTO:-0600
TZNAME:CST
DTSTART:20261101T070000
END:STANDARD
END:VTIMEZONE
BEGIN:VEVENT
DTSTART;TZID=America/Chicago:20250924T160000
DTEND;TZID=America/Chicago:20250924T180000
DTSTAMP:20260424T062913
CREATED:20250612T170253Z
LAST-MODIFIED:20260424T112835Z
UID:10001478-1758729600-1758736800@www.gracepointfamilychurch.com
SUMMARY:Food Pantry Open (WED)
DESCRIPTION:Group: Grace Place Food Pantry
URL:https://www.gracepointfamilychurch.com/event/food-pantry-open-wed-26/
LOCATION:Grace Place – Food Pantry\, 505 N Powell Pkwy\, Anna\, TX\, United States
GEO:33.3526;-96.551151
X-APPLE-STRUCTURED-LOCATION;VALUE=URI;X-ADDRESS=Grace Place – Food Pantry 505 N Powell Pkwy Anna TX United States;X-APPLE-RADIUS=500;X-TITLE=505 N Powell Pkwy:geo:-96.551151,33.3526
END:VEVENT
BEGIN:VEVENT
DTSTART;TZID=America/Chicago:20250922T160000
DTEND;TZID=America/Chicago:20250922T180000
DTSTAMP:20260424T062913
CREATED:20250612T170252Z
LAST-MODIFIED:20260424T112834Z
UID:10001477-1758556800-1758564000@www.gracepointfamilychurch.com
SUMMARY:Food Pantry Open (MON)
DESCRIPTION:Group: Grace Place Food Pantry
URL:https://www.gracepointfamilychurch.com/event/food-pantry-open-mon-25/
LOCATION:Grace Place – Food Pantry\, 505 N Powell Pkwy\, Anna\, TX\, United States
GEO:33.3526;-96.551151
X-APPLE-STRUCTURED-LOCATION;VALUE=URI;X-ADDRESS=Grace Place – Food Pantry 505 N Powell Pkwy Anna TX United States;X-APPLE-RADIUS=500;X-TITLE=505 N Powell Pkwy:geo:-96.551151,33.3526
END:VEVENT
BEGIN:VEVENT
DTSTART;TZID=America/Chicago:20250920T090000
DTEND;TZID=America/Chicago:20250920T120000
DTSTAMP:20260424T062913
CREATED:20250612T170251Z
LAST-MODIFIED:20260424T112834Z
UID:10001475-1758358800-1758369600@www.gracepointfamilychurch.com
SUMMARY:Food Pantry Open (SAT)
DESCRIPTION:Group: Grace Place Food Pantry
URL:https://www.gracepointfamilychurch.com/event/food-pantry-open-sat-25/
LOCATION:Grace Place – Food Pantry\, 505 N Powell Pkwy\, Anna\, TX\, United States
GEO:33.3526;-96.551151
X-APPLE-STRUCTURED-LOCATION;VALUE=URI;X-ADDRESS=Grace Place – Food Pantry 505 N Powell Pkwy Anna TX United States;X-APPLE-RADIUS=500;X-TITLE=505 N Powell Pkwy:geo:-96.551151,33.3526
END:VEVENT
BEGIN:VEVENT
DTSTART;TZID=America/Chicago:20250917T160000
DTEND;TZID=America/Chicago:20250917T180000
DTSTAMP:20260424T062913
CREATED:20250612T170251Z
LAST-MODIFIED:20260424T112834Z
UID:10001471-1758124800-1758132000@www.gracepointfamilychurch.com
SUMMARY:Food Pantry Open (WED)
DESCRIPTION:Group: Grace Place Food Pantry
URL:https://www.gracepointfamilychurch.com/event/food-pantry-open-wed-25/
LOCATION:Grace Place – Food Pantry\, 505 N Powell Pkwy\, Anna\, TX\, United States
GEO:33.3526;-96.551151
X-APPLE-STRUCTURED-LOCATION;VALUE=URI;X-ADDRESS=Grace Place – Food Pantry 505 N Powell Pkwy Anna TX United States;X-APPLE-RADIUS=500;X-TITLE=505 N Powell Pkwy:geo:-96.551151,33.3526
END:VEVENT
BEGIN:VEVENT
DTSTART;TZID=America/Chicago:20250915T160000
DTEND;TZID=America/Chicago:20250915T180000
DTSTAMP:20260424T062913
CREATED:20250612T170251Z
LAST-MODIFIED:20260424T112833Z
UID:10001470-1757952000-1757959200@www.gracepointfamilychurch.com
SUMMARY:Food Pantry Open (MON)
DESCRIPTION:Group: Grace Place Food Pantry
URL:https://www.gracepointfamilychurch.com/event/food-pantry-open-mon-24/
LOCATION:Grace Place – Food Pantry\, 505 N Powell Pkwy\, Anna\, TX\, United States
GEO:33.3526;-96.551151
X-APPLE-STRUCTURED-LOCATION;VALUE=URI;X-ADDRESS=Grace Place – Food Pantry 505 N Powell Pkwy Anna TX United States;X-APPLE-RADIUS=500;X-TITLE=505 N Powell Pkwy:geo:-96.551151,33.3526
END:VEVENT
BEGIN:VEVENT
DTSTART;TZID=America/Chicago:20250913T090000
DTEND;TZID=America/Chicago:20250913T120000
DTSTAMP:20260424T062913
CREATED:20250612T170251Z
LAST-MODIFIED:20260424T112832Z
UID:10001468-1757754000-1757764800@www.gracepointfamilychurch.com
SUMMARY:Food Pantry Open (SAT)
DESCRIPTION:Group: Grace Place Food Pantry
URL:https://www.gracepointfamilychurch.com/event/food-pantry-open-sat-24/
LOCATION:Grace Place – Food Pantry\, 505 N Powell Pkwy\, Anna\, TX\, United States
GEO:33.3526;-96.551151
X-APPLE-STRUCTURED-LOCATION;VALUE=URI;X-ADDRESS=Grace Place – Food Pantry 505 N Powell Pkwy Anna TX United States;X-APPLE-RADIUS=500;X-TITLE=505 N Powell Pkwy:geo:-96.551151,33.3526
END:VEVENT
BEGIN:VEVENT
DTSTART;TZID=America/Chicago:20250910T160000
DTEND;TZID=America/Chicago:20250910T180000
DTSTAMP:20260424T062913
CREATED:20250612T170250Z
LAST-MODIFIED:20260424T112832Z
UID:10001465-1757520000-1757527200@www.gracepointfamilychurch.com
SUMMARY:Food Pantry Open (WED)
DESCRIPTION:Group: Grace Place Food Pantry
URL:https://www.gracepointfamilychurch.com/event/food-pantry-open-wed-24/
LOCATION:Grace Place – Food Pantry\, 505 N Powell Pkwy\, Anna\, TX\, United States
GEO:33.3526;-96.551151
X-APPLE-STRUCTURED-LOCATION;VALUE=URI;X-ADDRESS=Grace Place – Food Pantry 505 N Powell Pkwy Anna TX United States;X-APPLE-RADIUS=500;X-TITLE=505 N Powell Pkwy:geo:-96.551151,33.3526
END:VEVENT
BEGIN:VEVENT
DTSTART;TZID=America/Chicago:20250908T160000
DTEND;TZID=America/Chicago:20250908T180000
DTSTAMP:20260424T062913
CREATED:20250612T170250Z
LAST-MODIFIED:20260424T112831Z
UID:10001464-1757347200-1757354400@www.gracepointfamilychurch.com
SUMMARY:Food Pantry Open (MON)
DESCRIPTION:Group: Grace Place Food Pantry
URL:https://www.gracepointfamilychurch.com/event/food-pantry-open-mon-23/
LOCATION:Grace Place – Food Pantry\, 505 N Powell Pkwy\, Anna\, TX\, United States
GEO:33.3526;-96.551151
X-APPLE-STRUCTURED-LOCATION;VALUE=URI;X-ADDRESS=Grace Place – Food Pantry 505 N Powell Pkwy Anna TX United States;X-APPLE-RADIUS=500;X-TITLE=505 N Powell Pkwy:geo:-96.551151,33.3526
END:VEVENT
BEGIN:VEVENT
DTSTART;TZID=America/Chicago:20250906T090000
DTEND;TZID=America/Chicago:20250906T120000
DTSTAMP:20260424T062913
CREATED:20250612T170250Z
LAST-MODIFIED:20260424T112831Z
UID:10001461-1757149200-1757160000@www.gracepointfamilychurch.com
SUMMARY:Food Pantry Open (SAT)
DESCRIPTION:Group: Grace Place Food Pantry
URL:https://www.gracepointfamilychurch.com/event/food-pantry-open-sat-23/
LOCATION:Grace Place – Food Pantry\, 505 N Powell Pkwy\, Anna\, TX\, United States
GEO:33.3526;-96.551151
X-APPLE-STRUCTURED-LOCATION;VALUE=URI;X-ADDRESS=Grace Place – Food Pantry 505 N Powell Pkwy Anna TX United States;X-APPLE-RADIUS=500;X-TITLE=505 N Powell Pkwy:geo:-96.551151,33.3526
END:VEVENT
BEGIN:VEVENT
DTSTART;TZID=America/Chicago:20250903T160000
DTEND;TZID=America/Chicago:20250903T180000
DTSTAMP:20260424T062913
CREATED:20250612T170249Z
LAST-MODIFIED:20260424T112830Z
UID:10001458-1756915200-1756922400@www.gracepointfamilychurch.com
SUMMARY:Food Pantry Open (WED)
DESCRIPTION:Group: Grace Place Food Pantry
URL:https://www.gracepointfamilychurch.com/event/food-pantry-open-wed-23/
LOCATION:Grace Place – Food Pantry\, 505 N Powell Pkwy\, Anna\, TX\, United States
GEO:33.3526;-96.551151
X-APPLE-STRUCTURED-LOCATION;VALUE=URI;X-ADDRESS=Grace Place – Food Pantry 505 N Powell Pkwy Anna TX United States;X-APPLE-RADIUS=500;X-TITLE=505 N Powell Pkwy:geo:-96.551151,33.3526
END:VEVENT
BEGIN:VEVENT
DTSTART;TZID=America/Chicago:20250901T160000
DTEND;TZID=America/Chicago:20250901T180000
DTSTAMP:20260424T062913
CREATED:20250612T170249Z
LAST-MODIFIED:20260424T112830Z
UID:10001457-1756742400-1756749600@www.gracepointfamilychurch.com
SUMMARY:Food Pantry Open (MON)
DESCRIPTION:Group: Grace Place Food Pantry
URL:https://www.gracepointfamilychurch.com/event/food-pantry-open-mon-22/
LOCATION:Grace Place – Food Pantry\, 505 N Powell Pkwy\, Anna\, TX\, United States
GEO:33.3526;-96.551151
X-APPLE-STRUCTURED-LOCATION;VALUE=URI;X-ADDRESS=Grace Place – Food Pantry 505 N Powell Pkwy Anna TX United States;X-APPLE-RADIUS=500;X-TITLE=505 N Powell Pkwy:geo:-96.551151,33.3526
END:VEVENT
BEGIN:VEVENT
DTSTART;TZID=America/Chicago:20250830T090000
DTEND;TZID=America/Chicago:20250830T120000
DTSTAMP:20260424T062913
CREATED:20250612T170249Z
LAST-MODIFIED:20260424T112830Z
UID:10001455-1756544400-1756555200@www.gracepointfamilychurch.com
SUMMARY:Food Pantry Open (SAT)
DESCRIPTION:Group: Grace Place Food Pantry
URL:https://www.gracepointfamilychurch.com/event/food-pantry-open-sat-22/
LOCATION:Grace Place – Food Pantry\, 505 N Powell Pkwy\, Anna\, TX\, United States
GEO:33.3526;-96.551151
X-APPLE-STRUCTURED-LOCATION;VALUE=URI;X-ADDRESS=Grace Place – Food Pantry 505 N Powell Pkwy Anna TX United States;X-APPLE-RADIUS=500;X-TITLE=505 N Powell Pkwy:geo:-96.551151,33.3526
END:VEVENT
BEGIN:VEVENT
DTSTART;TZID=America/Chicago:20250827T160000
DTEND;TZID=America/Chicago:20250827T180000
DTSTAMP:20260424T062913
CREATED:20250612T170249Z
LAST-MODIFIED:20260424T112830Z
UID:10001452-1756310400-1756317600@www.gracepointfamilychurch.com
SUMMARY:Food Pantry Open (WED)
DESCRIPTION:Group: Grace Place Food Pantry
URL:https://www.gracepointfamilychurch.com/event/food-pantry-open-wed-22/
LOCATION:Grace Place – Food Pantry\, 505 N Powell Pkwy\, Anna\, TX\, United States
GEO:33.3526;-96.551151
X-APPLE-STRUCTURED-LOCATION;VALUE=URI;X-ADDRESS=Grace Place – Food Pantry 505 N Powell Pkwy Anna TX United States;X-APPLE-RADIUS=500;X-TITLE=505 N Powell Pkwy:geo:-96.551151,33.3526
END:VEVENT
BEGIN:VEVENT
DTSTART;TZID=America/Chicago:20250825T160000
DTEND;TZID=America/Chicago:20250825T180000
DTSTAMP:20260424T062913
CREATED:20250612T170248Z
LAST-MODIFIED:20260424T112829Z
UID:10001451-1756137600-1756144800@www.gracepointfamilychurch.com
SUMMARY:Food Pantry Open (MON)
DESCRIPTION:Group: Grace Place Food Pantry
URL:https://www.gracepointfamilychurch.com/event/food-pantry-open-mon-21/
LOCATION:Grace Place – Food Pantry\, 505 N Powell Pkwy\, Anna\, TX\, United States
GEO:33.3526;-96.551151
X-APPLE-STRUCTURED-LOCATION;VALUE=URI;X-ADDRESS=Grace Place – Food Pantry 505 N Powell Pkwy Anna TX United States;X-APPLE-RADIUS=500;X-TITLE=505 N Powell Pkwy:geo:-96.551151,33.3526
END:VEVENT
BEGIN:VEVENT
DTSTART;TZID=America/Chicago:20250823T090000
DTEND;TZID=America/Chicago:20250823T120000
DTSTAMP:20260424T062913
CREATED:20250612T170248Z
LAST-MODIFIED:20260424T112829Z
UID:10001449-1755939600-1755950400@www.gracepointfamilychurch.com
SUMMARY:Food Pantry Open (SAT)
DESCRIPTION:Group: Grace Place Food Pantry
URL:https://www.gracepointfamilychurch.com/event/food-pantry-open-sat-21/
LOCATION:Grace Place – Food Pantry\, 505 N Powell Pkwy\, Anna\, TX\, United States
GEO:33.3526;-96.551151
X-APPLE-STRUCTURED-LOCATION;VALUE=URI;X-ADDRESS=Grace Place – Food Pantry 505 N Powell Pkwy Anna TX United States;X-APPLE-RADIUS=500;X-TITLE=505 N Powell Pkwy:geo:-96.551151,33.3526
END:VEVENT
BEGIN:VEVENT
DTSTART;TZID=America/Chicago:20250820T160000
DTEND;TZID=America/Chicago:20250820T180000
DTSTAMP:20260424T062913
CREATED:20250612T170248Z
LAST-MODIFIED:20260424T112829Z
UID:10001446-1755705600-1755712800@www.gracepointfamilychurch.com
SUMMARY:Food Pantry Open (WED)
DESCRIPTION:Group: Grace Place Food Pantry
URL:https://www.gracepointfamilychurch.com/event/food-pantry-open-wed-21/
LOCATION:Grace Place – Food Pantry\, 505 N Powell Pkwy\, Anna\, TX\, United States
GEO:33.3526;-96.551151
X-APPLE-STRUCTURED-LOCATION;VALUE=URI;X-ADDRESS=Grace Place – Food Pantry 505 N Powell Pkwy Anna TX United States;X-APPLE-RADIUS=500;X-TITLE=505 N Powell Pkwy:geo:-96.551151,33.3526
END:VEVENT
BEGIN:VEVENT
DTSTART;TZID=America/Chicago:20250818T160000
DTEND;TZID=America/Chicago:20250818T180000
DTSTAMP:20260424T062913
CREATED:20250612T170248Z
LAST-MODIFIED:20260424T112829Z
UID:10001445-1755532800-1755540000@www.gracepointfamilychurch.com
SUMMARY:Food Pantry Open (MON)
DESCRIPTION:Group: Grace Place Food Pantry
URL:https://www.gracepointfamilychurch.com/event/food-pantry-open-mon-20/
LOCATION:Grace Place – Food Pantry\, 505 N Powell Pkwy\, Anna\, TX\, United States
GEO:33.3526;-96.551151
X-APPLE-STRUCTURED-LOCATION;VALUE=URI;X-ADDRESS=Grace Place – Food Pantry 505 N Powell Pkwy Anna TX United States;X-APPLE-RADIUS=500;X-TITLE=505 N Powell Pkwy:geo:-96.551151,33.3526
END:VEVENT
BEGIN:VEVENT
DTSTART;TZID=America/Chicago:20250816T090000
DTEND;TZID=America/Chicago:20250816T120000
DTSTAMP:20260424T062913
CREATED:20250612T170247Z
LAST-MODIFIED:20260424T112828Z
UID:10001443-1755334800-1755345600@www.gracepointfamilychurch.com
SUMMARY:Food Pantry Open (SAT)
DESCRIPTION:Group: Grace Place Food Pantry
URL:https://www.gracepointfamilychurch.com/event/food-pantry-open-sat-20/
LOCATION:Grace Place – Food Pantry\, 505 N Powell Pkwy\, Anna\, TX\, United States
GEO:33.3526;-96.551151
X-APPLE-STRUCTURED-LOCATION;VALUE=URI;X-ADDRESS=Grace Place – Food Pantry 505 N Powell Pkwy Anna TX United States;X-APPLE-RADIUS=500;X-TITLE=505 N Powell Pkwy:geo:-96.551151,33.3526
END:VEVENT
BEGIN:VEVENT
DTSTART;TZID=America/Chicago:20250813T160000
DTEND;TZID=America/Chicago:20250813T180000
DTSTAMP:20260424T062913
CREATED:20250612T170247Z
LAST-MODIFIED:20260424T112828Z
UID:10001439-1755100800-1755108000@www.gracepointfamilychurch.com
SUMMARY:Food Pantry Open (WED)
DESCRIPTION:Group: Grace Place Food Pantry
URL:https://www.gracepointfamilychurch.com/event/food-pantry-open-wed-20/
LOCATION:Grace Place – Food Pantry\, 505 N Powell Pkwy\, Anna\, TX\, United States
GEO:33.3526;-96.551151
X-APPLE-STRUCTURED-LOCATION;VALUE=URI;X-ADDRESS=Grace Place – Food Pantry 505 N Powell Pkwy Anna TX United States;X-APPLE-RADIUS=500;X-TITLE=505 N Powell Pkwy:geo:-96.551151,33.3526
END:VEVENT
BEGIN:VEVENT
DTSTART;TZID=America/Chicago:20250811T160000
DTEND;TZID=America/Chicago:20250811T180000
DTSTAMP:20260424T062913
CREATED:20250612T170247Z
LAST-MODIFIED:20260424T112828Z
UID:10001438-1754928000-1754935200@www.gracepointfamilychurch.com
SUMMARY:Food Pantry Open (MON)
DESCRIPTION:Group: Grace Place Food Pantry
URL:https://www.gracepointfamilychurch.com/event/food-pantry-open-mon-19/
LOCATION:Grace Place – Food Pantry\, 505 N Powell Pkwy\, Anna\, TX\, United States
GEO:33.3526;-96.551151
X-APPLE-STRUCTURED-LOCATION;VALUE=URI;X-ADDRESS=Grace Place – Food Pantry 505 N Powell Pkwy Anna TX United States;X-APPLE-RADIUS=500;X-TITLE=505 N Powell Pkwy:geo:-96.551151,33.3526
END:VEVENT
BEGIN:VEVENT
DTSTART;TZID=America/Chicago:20250809T090000
DTEND;TZID=America/Chicago:20250809T120000
DTSTAMP:20260424T062913
CREATED:20250612T170247Z
LAST-MODIFIED:20260424T112828Z
UID:10001436-1754730000-1754740800@www.gracepointfamilychurch.com
SUMMARY:Food Pantry Open (SAT)
DESCRIPTION:Group: Grace Place Food Pantry
URL:https://www.gracepointfamilychurch.com/event/food-pantry-open-sat-19/
LOCATION:Grace Place – Food Pantry\, 505 N Powell Pkwy\, Anna\, TX\, United States
GEO:33.3526;-96.551151
X-APPLE-STRUCTURED-LOCATION;VALUE=URI;X-ADDRESS=Grace Place – Food Pantry 505 N Powell Pkwy Anna TX United States;X-APPLE-RADIUS=500;X-TITLE=505 N Powell Pkwy:geo:-96.551151,33.3526
END:VEVENT
BEGIN:VEVENT
DTSTART;TZID=America/Chicago:20250806T160000
DTEND;TZID=America/Chicago:20250806T180000
DTSTAMP:20260424T062913
CREATED:20250612T170246Z
LAST-MODIFIED:20260424T112827Z
UID:10001433-1754496000-1754503200@www.gracepointfamilychurch.com
SUMMARY:Food Pantry Open (WED)
DESCRIPTION:Group: Grace Place Food Pantry
URL:https://www.gracepointfamilychurch.com/event/food-pantry-open-wed-19/
LOCATION:Grace Place – Food Pantry\, 505 N Powell Pkwy\, Anna\, TX\, United States
GEO:33.3526;-96.551151
X-APPLE-STRUCTURED-LOCATION;VALUE=URI;X-ADDRESS=Grace Place – Food Pantry 505 N Powell Pkwy Anna TX United States;X-APPLE-RADIUS=500;X-TITLE=505 N Powell Pkwy:geo:-96.551151,33.3526
END:VEVENT
BEGIN:VEVENT
DTSTART;TZID=America/Chicago:20250804T160000
DTEND;TZID=America/Chicago:20250804T180000
DTSTAMP:20260424T062913
CREATED:20250612T170246Z
LAST-MODIFIED:20260424T112827Z
UID:10001432-1754323200-1754330400@www.gracepointfamilychurch.com
SUMMARY:Food Pantry Open (MON)
DESCRIPTION:Group: Grace Place Food Pantry
URL:https://www.gracepointfamilychurch.com/event/food-pantry-open-mon-18/
LOCATION:Grace Place – Food Pantry\, 505 N Powell Pkwy\, Anna\, TX\, United States
GEO:33.3526;-96.551151
X-APPLE-STRUCTURED-LOCATION;VALUE=URI;X-ADDRESS=Grace Place – Food Pantry 505 N Powell Pkwy Anna TX United States;X-APPLE-RADIUS=500;X-TITLE=505 N Powell Pkwy:geo:-96.551151,33.3526
END:VEVENT
BEGIN:VEVENT
DTSTART;TZID=America/Chicago:20250802T090000
DTEND;TZID=America/Chicago:20250802T120000
DTSTAMP:20260424T062913
CREATED:20250612T170246Z
LAST-MODIFIED:20260424T112827Z
UID:10001429-1754125200-1754136000@www.gracepointfamilychurch.com
SUMMARY:Food Pantry Open (SAT)
DESCRIPTION:Group: Grace Place Food Pantry
URL:https://www.gracepointfamilychurch.com/event/food-pantry-open-sat-18/
LOCATION:Grace Place – Food Pantry\, 505 N Powell Pkwy\, Anna\, TX\, United States
GEO:33.3526;-96.551151
X-APPLE-STRUCTURED-LOCATION;VALUE=URI;X-ADDRESS=Grace Place – Food Pantry 505 N Powell Pkwy Anna TX United States;X-APPLE-RADIUS=500;X-TITLE=505 N Powell Pkwy:geo:-96.551151,33.3526
END:VEVENT
BEGIN:VEVENT
DTSTART;TZID=America/Chicago:20250730T160000
DTEND;TZID=America/Chicago:20250730T180000
DTSTAMP:20260424T062913
CREATED:20250612T170245Z
LAST-MODIFIED:20260424T112827Z
UID:10001426-1753891200-1753898400@www.gracepointfamilychurch.com
SUMMARY:Food Pantry Open (WED)
DESCRIPTION:Group: Grace Place Food Pantry
URL:https://www.gracepointfamilychurch.com/event/food-pantry-open-wed-18/
LOCATION:Grace Place – Food Pantry\, 505 N Powell Pkwy\, Anna\, TX\, United States
GEO:33.3526;-96.551151
X-APPLE-STRUCTURED-LOCATION;VALUE=URI;X-ADDRESS=Grace Place – Food Pantry 505 N Powell Pkwy Anna TX United States;X-APPLE-RADIUS=500;X-TITLE=505 N Powell Pkwy:geo:-96.551151,33.3526
END:VEVENT
BEGIN:VEVENT
DTSTART;TZID=America/Chicago:20250728T160000
DTEND;TZID=America/Chicago:20250728T180000
DTSTAMP:20260424T062913
CREATED:20250612T170245Z
LAST-MODIFIED:20260424T112826Z
UID:10001425-1753718400-1753725600@www.gracepointfamilychurch.com
SUMMARY:Food Pantry Open (MON)
DESCRIPTION:Group: Grace Place Food Pantry
URL:https://www.gracepointfamilychurch.com/event/food-pantry-open-mon-17/
LOCATION:Grace Place – Food Pantry\, 505 N Powell Pkwy\, Anna\, TX\, United States
GEO:33.3526;-96.551151
X-APPLE-STRUCTURED-LOCATION;VALUE=URI;X-ADDRESS=Grace Place – Food Pantry 505 N Powell Pkwy Anna TX United States;X-APPLE-RADIUS=500;X-TITLE=505 N Powell Pkwy:geo:-96.551151,33.3526
END:VEVENT
BEGIN:VEVENT
DTSTART;TZID=America/Chicago:20250726T090000
DTEND;TZID=America/Chicago:20250726T120000
DTSTAMP:20260424T062913
CREATED:20250612T170245Z
LAST-MODIFIED:20260424T112826Z
UID:10001423-1753520400-1753531200@www.gracepointfamilychurch.com
SUMMARY:Food Pantry Open (SAT)
DESCRIPTION:Group: Grace Place Food Pantry
URL:https://www.gracepointfamilychurch.com/event/food-pantry-open-sat-17/
LOCATION:Grace Place – Food Pantry\, 505 N Powell Pkwy\, Anna\, TX\, United States
GEO:33.3526;-96.551151
X-APPLE-STRUCTURED-LOCATION;VALUE=URI;X-ADDRESS=Grace Place – Food Pantry 505 N Powell Pkwy Anna TX United States;X-APPLE-RADIUS=500;X-TITLE=505 N Powell Pkwy:geo:-96.551151,33.3526
END:VEVENT
BEGIN:VEVENT
DTSTART;TZID=America/Chicago:20250723T160000
DTEND;TZID=America/Chicago:20250723T180000
DTSTAMP:20260424T062913
CREATED:20250612T170245Z
LAST-MODIFIED:20260424T112826Z
UID:10001420-1753286400-1753293600@www.gracepointfamilychurch.com
SUMMARY:Food Pantry Open (WED)
DESCRIPTION:Group: Grace Place Food Pantry
URL:https://www.gracepointfamilychurch.com/event/food-pantry-open-wed-17/
LOCATION:Grace Place – Food Pantry\, 505 N Powell Pkwy\, Anna\, TX\, United States
GEO:33.3526;-96.551151
X-APPLE-STRUCTURED-LOCATION;VALUE=URI;X-ADDRESS=Grace Place – Food Pantry 505 N Powell Pkwy Anna TX United States;X-APPLE-RADIUS=500;X-TITLE=505 N Powell Pkwy:geo:-96.551151,33.3526
END:VEVENT
BEGIN:VEVENT
DTSTART;TZID=America/Chicago:20250721T160000
DTEND;TZID=America/Chicago:20250721T180000
DTSTAMP:20260424T062913
CREATED:20250612T170245Z
LAST-MODIFIED:20260424T112826Z
UID:10001419-1753113600-1753120800@www.gracepointfamilychurch.com
SUMMARY:Food Pantry Open (MON)
DESCRIPTION:Group: Grace Place Food Pantry
URL:https://www.gracepointfamilychurch.com/event/food-pantry-open-mon-16/
LOCATION:Grace Place – Food Pantry\, 505 N Powell Pkwy\, Anna\, TX\, United States
GEO:33.3526;-96.551151
X-APPLE-STRUCTURED-LOCATION;VALUE=URI;X-ADDRESS=Grace Place – Food Pantry 505 N Powell Pkwy Anna TX United States;X-APPLE-RADIUS=500;X-TITLE=505 N Powell Pkwy:geo:-96.551151,33.3526
END:VEVENT
BEGIN:VEVENT
DTSTART;TZID=America/Chicago:20250719T090000
DTEND;TZID=America/Chicago:20250719T120000
DTSTAMP:20260424T062913
CREATED:20250612T170244Z
LAST-MODIFIED:20260424T112825Z
UID:10001417-1752915600-1752926400@www.gracepointfamilychurch.com
SUMMARY:Food Pantry Open (SAT)
DESCRIPTION:Group: Grace Place Food Pantry
URL:https://www.gracepointfamilychurch.com/event/food-pantry-open-sat-16/
LOCATION:Grace Place – Food Pantry\, 505 N Powell Pkwy\, Anna\, TX\, United States
GEO:33.3526;-96.551151
X-APPLE-STRUCTURED-LOCATION;VALUE=URI;X-ADDRESS=Grace Place – Food Pantry 505 N Powell Pkwy Anna TX United States;X-APPLE-RADIUS=500;X-TITLE=505 N Powell Pkwy:geo:-96.551151,33.3526
END:VEVENT
END:VCALENDAR